BEGIN:VCALENDAR
VERSION:2.0
PRODID:-//Miami Dade County Auditorium - ECPv6.15.20//NONSGML v1.0//EN
CALSCALE:GREGORIAN
METHOD:PUBLISH
X-WR-CALNAME:Miami Dade County Auditorium
X-ORIGINAL-URL:https://www.miamidadecountyauditorium.org
X-WR-CALDESC:Events for Miami Dade County Auditorium
REFRESH-INTERVAL;VALUE=DURATION:PT1H
X-Robots-Tag:noindex
X-PUBLISHED-TTL:PT1H
BEGIN:VTIMEZONE
TZID:America/New_York
BEGIN:DAYLIGHT
TZOFFSETFROM:-0500
TZOFFSETTO:-0400
TZNAME:EDT
DTSTART:20230312T070000
END:DAYLIGHT
BEGIN:STANDARD
TZOFFSETFROM:-0400
TZOFFSETTO:-0500
TZNAME:EST
DTSTART:20231105T060000
END:STANDARD
BEGIN:DAYLIGHT
TZOFFSETFROM:-0500
TZOFFSETTO:-0400
TZNAME:EDT
DTSTART:20240310T070000
END:DAYLIGHT
BEGIN:STANDARD
TZOFFSETFROM:-0400
TZOFFSETTO:-0500
TZNAME:EST
DTSTART:20241103T060000
END:STANDARD
BEGIN:DAYLIGHT
TZOFFSETFROM:-0500
TZOFFSETTO:-0400
TZNAME:EDT
DTSTART:20250309T070000
END:DAYLIGHT
BEGIN:STANDARD
TZOFFSETFROM:-0400
TZOFFSETTO:-0500
TZNAME:EST
DTSTART:20251102T060000
END:STANDARD
BEGIN:DAYLIGHT
TZOFFSETFROM:-0500
TZOFFSETTO:-0400
TZNAME:EDT
DTSTART:20260308T070000
END:DAYLIGHT
BEGIN:STANDARD
TZOFFSETFROM:-0400
TZOFFSETTO:-0500
TZNAME:EST
DTSTART:20261101T060000
END:STANDARD
END:VTIMEZONE
BEGIN:VEVENT
DTSTART;TZID=America/New_York:20251003T200000
DTEND;TZID=America/New_York:20251003T200000
DTSTAMP:20260423T025414
CREATED:20250722T162629Z
LAST-MODIFIED:20250926T172546Z
UID:10009621-1759521600-1759521600@www.miamidadecountyauditorium.org
SUMMARY:MDCA Away from Home: "Chiliche" Gente de Chile por Ballet Folklórico Antumapu Universidad de Chile
DESCRIPTION:TICKETS ARE NOW SOLD OUT!\nFUNDarte and Miami-Dade County Auditorium\, co-presented with Rhythm Foundation and in collaboration with Miami Beach Arts in the Parks\, present Chiliche – Gente de Chile por Ballet Folklórico Antumapu Universidad de Chile on Friday\, October 3 at 8:00 pm at the Miami Beach Bandshell. \nA colorful and moving stage production that celebrates the cultural richness of the Chilean people through dance\, music\, and ancestral traditions. Presented by the Antumapu Folkloric Ballet University of Chile\, this performance journeys through the diverse landscapes and expressions of the country\, from the mystical Rapa Nui to the vibrant rhythms of the north and south. Chiliche is a scenic voyage that invites us to feel the soul of Chile\, its people\, and its deepest roots. \nThis performance is free to attend\, but an RSVP is required.  \n————————— \n \nThis performance is part of Miami-Dade County Auditorium’s Away From Home Series. Programming continues to thrive during this period of renovation through the Away From Home Series. The series consists of off-site performances presented at alternative venues with community partners\, ensuring that the magic of the performing arts continues to captivate audiences throughout this transition period. The Away From Home Series presents dance\, theatre\, and music performances that take place at a variety of South Florida facilities and cultural centers. MDCA remains committed to keeping the spirit of creativity alive during this monumental endeavor and invites you to join us away from home!
URL:https://www.miamidadecountyauditorium.org/event/mdca-away-from-home-chiliche-gente-de-chile-por-ballet-folklorico-antumapu-universidad-de-chile/
LOCATION:Miami Beach Bandshell\, 7275 Collins Ave.\, Miami Beach\, FL\, 33141\, United States
ATTACH;FMTTYPE=image/png:https://www.miamidadecountyauditorium.org/wp-content/uploads/2025/07/FUNDarte-Chiliche-Gente-de-Chile-por-Ballet_web2025.png
END:VEVENT
BEGIN:VEVENT
DTSTART;TZID=America/New_York:20250405T200000
DTEND;TZID=America/New_York:20250405T200000
DTSTAMP:20260423T025415
CREATED:20241203T151519Z
LAST-MODIFIED:20250312T153549Z
UID:10009562-1743883200-1743883200@www.miamidadecountyauditorium.org
SUMMARY:MDCA Away from Home: La Muchacha and El Propio Junte & Pascuala Ilabaca and Fauna Double Bill Concert
DESCRIPTION:FUNDarte and Rhythm Foundation\, with Miami-Dade County Auditorium “Away From Home” series and Live Arts Miami “Mundo” series\, present a double bill event featuring “La Muchacha” (Colombia) & “Pascuala Ilabaca and Fauna” (Chile) on April 5 at the Miami Beach Bandshell\, as part of FUNDarte’s “Out (Loud) in the Tropics” series. \nLa Muchacha is a rising star in the world of contemporary Colombian music. A musical descendent of the beloved tradition of Latin protest folk — think legends like Violeta Parra and Mercedes Sosa — her songs quickly became anthems for uprisings\, marches and vigils\, supporting peace activists\, eco-initiatives and other activists. She incorporates traditional instruments like the small guitar-like tiple and the tambora drum with electronic elements for a sound that feels fresh\, modern and uniquely her own. Replete with moments of roots rhythms\, subtle jazz and blues exploration\, and a dash of hip-hop\, hers is a deeply universal sound. This is her Florida debut. \nWhile her music is rooted in Chilean folk traditions\, singer-songwriter and acordeonista Pascuala Ilabaca deftly weaves strands of jazz\, pop\, rock\, and other influences into the mix. Ilabaca has dedicated herself to rediscovering the musical treasures of her country: her first album\, “Pascuala canta a Violeta\,” is an homage to Chilean composer\, songwriter\, and folklorist Violeta Parra. Ilabaca’s voice is as vibrant as the brilliant red accordion she plays — whether she’s singing a heartfelt interpretation of a Víctor Jara song\, or bringing the audience to its feet for a Chilean festival dance tune. With her band\, Fauna\, she swings easily through Chilean genres like the cumbia or the cueca (considered Chile’s national dance style)\, but don’t be surprised if you hear hints of Indian or African rhythms\, too. \n————————— \n \nThis performance is part of Miami-Dade County Auditorium’s Away From Home Series. Programming continues to thrive during this period of renovation through the Away From Home Series. The series consists of off-site performances presented at alternative venues with community partners\, ensuring that the magic of the performing arts continues to captivate audiences throughout this transition period. The Away From Home Series presents dance\, theatre\, and music performances that take place at a variety of South Florida facilities and cultural centers. MDCA remains committed to keeping the spirit of creativity alive during this monumental endeavor and invites you to join us away from home!
URL:https://www.miamidadecountyauditorium.org/event/la-muchacha-and-pascuala-ilabaca-fauna-double-bill-concert/
LOCATION:Miami Beach Bandshell\, 7275 Collins Ave.\, Miami Beach\, FL\, 33141\, United States
ATTACH;FMTTYPE=image/png:https://www.miamidadecountyauditorium.org/wp-content/uploads/2024/12/La-Muchacha-and-Pascuala-Ilabaca-Fauna_Web2024_2.png
END:VEVENT
BEGIN:VEVENT
DTSTART;TZID=America/New_York:20250301T200000
DTEND;TZID=America/New_York:20250301T200000
DTSTAMP:20260423T025415
CREATED:20241203T210104Z
LAST-MODIFIED:20250121T150732Z
UID:10009563-1740859200-1740859200@www.miamidadecountyauditorium.org
SUMMARY:MDCA Away from Home: "Alain Pérez y La Orquesta" in Concert
DESCRIPTION:FUNDarte\, Miami-Dade County Auditorium\, and Miami Light Project present Global Cuba Fest 2025\, “Alain Pérez y La Orquesta” in concert\, on Saturday\, March 1 at 8:00 pm at the Miami Beach Bandshell. \nBassist\, singer\, songwriter\, and multi-instrumentalist\, Alain Pérez is one of Cuba’s most active and versatile musicians on the international scene today. He has performed and recorded with jazz legends in various musical vernaculars\, forming part of the original Chucho Valdés Quartet that recorded on Blue Note Records\, as the bassist of the renowned Paco de Lucía sextet\, for the flamenco singer Enrique Morente\, and was also part of the new Jerry González quartet. He is band leader and producer for numerous projects\, including his own orchestral project. He is a Grammy winner and nominee in multiple categories as interpreter and author and deeply cherished as a producer and ambassador of Latin Jazz and Cuban Popular music worldwide. \nCo-presented with Miami Light Project for more than 15 years\, Global Cuba Fest is a highly anticipated series featuring the most popular and innovative artists from Cuba and across the Cuban diaspora. \n————————— \n \nThis performance is part of Miami-Dade County Auditorium’s Away From Home Series. Programming continues to thrive during this period of renovation through the Away From Home Series. The series consists of off-site performances presented at alternative venues with community partners\, ensuring that the magic of the performing arts continues to captivate audiences throughout this transition period. The Away From Home Series presents dance\, theatre\, and music performances that take place at a variety of South Florida facilities and cultural centers. MDCA remains committed to keeping the spirit of creativity alive during this monumental endeavor and invites you to join us away from home!
URL:https://www.miamidadecountyauditorium.org/event/mdca-away-from-home-alain-perez-y-la-orquesta-in-concert/
LOCATION:Miami Beach Bandshell\, 7275 Collins Ave.\, Miami Beach\, FL\, 33141\, United States
ATTACH;FMTTYPE=image/png:https://www.miamidadecountyauditorium.org/wp-content/uploads/2024/12/Alain-Perez_web2025_4.png
END:VEVENT
BEGIN:VEVENT
DTSTART;TZID=America/New_York:20241013T150000
DTEND;TZID=America/New_York:20241013T150000
DTSTAMP:20260423T025415
CREATED:20240813T191645Z
LAST-MODIFIED:20240927T193202Z
UID:10009531-1728831600-1728831600@www.miamidadecountyauditorium.org
SUMMARY:MDCA Away from Home: ZunZún Children’s Fest feat. "Luis Pescetti in Concert"
DESCRIPTION:FUNDarte and Miami-Dade County Auditorium\, in partnership with Rhythm Foundation\, present “Luis Pescetti in Concert” as part of the ZunZún Children’s Festival and Miami Beach Arts in the Park Program on Sunday\, October 13 at Miami Beach Bandshell. \nThe ZunZún Children’s Festival celebrates annually with the family and the youngest audiences a varied program of bilingual projects that brings together local and visiting artists to promote the appreciation of universal culture and the values of “Hispanidad”. Luis María Pescetti’s concerts are a joyous experience filled with laughter and interaction. Expect to be engaged with hilarious anecdotes\, witty jokes\, and catchy songs that will have you singing along. Pescetti’s unique ability to connect with the audience\, especially children\, makes his performances truly special. \n————————— \n \nThis performance is part of Miami-Dade County Auditorium’s Away From Home Series. Programming continues to thrive during this period of renovation through the Away From Home Series. The series consists of off-site performances presented at alternative venues with community partners\, ensuring that the magic of the performing arts continues to captivate audiences throughout this transition period. The Away From Home Series presents dance\, theatre\, and music performances that take place at a variety of South Florida facilities and cultural centers. MDCA remains committed to keeping the spirit of creativity alive during this monumental endeavor and invites you to join us away from home!
URL:https://www.miamidadecountyauditorium.org/event/mdca-away-from-home-zunzun-childrens-fest-feat-luis-pescetti-in-concert/
LOCATION:Miami Beach Bandshell\, 7275 Collins Ave.\, Miami Beach\, FL\, 33141\, United States
ATTACH;FMTTYPE=image/png:https://www.miamidadecountyauditorium.org/wp-content/uploads/2024/08/Luis-Pescetti-in-Concert_AFH_web_1.png
END:VEVENT
END:VCALENDAR