BEGIN:VCALENDAR
VERSION:2.0
PRODID:-//Miami Dade County Auditorium - ECPv6.15.20//NONSGML v1.0//EN
CALSCALE:GREGORIAN
METHOD:PUBLISH
X-ORIGINAL-URL:https://www.miamidadecountyauditorium.org
X-WR-CALDESC:Events for Miami Dade County Auditorium
REFRESH-INTERVAL;VALUE=DURATION:PT1H
X-Robots-Tag:noindex
X-PUBLISHED-TTL:PT1H
BEGIN:VTIMEZONE
TZID:America/New_York
BEGIN:DAYLIGHT
TZOFFSETFROM:-0500
TZOFFSETTO:-0400
TZNAME:EDT
DTSTART:20160313T070000
END:DAYLIGHT
BEGIN:STANDARD
TZOFFSETFROM:-0400
TZOFFSETTO:-0500
TZNAME:EST
DTSTART:20161106T060000
END:STANDARD
BEGIN:DAYLIGHT
TZOFFSETFROM:-0500
TZOFFSETTO:-0400
TZNAME:EDT
DTSTART:20170312T070000
END:DAYLIGHT
BEGIN:STANDARD
TZOFFSETFROM:-0400
TZOFFSETTO:-0500
TZNAME:EST
DTSTART:20171105T060000
END:STANDARD
BEGIN:DAYLIGHT
TZOFFSETFROM:-0500
TZOFFSETTO:-0400
TZNAME:EDT
DTSTART:20180311T070000
END:DAYLIGHT
BEGIN:STANDARD
TZOFFSETFROM:-0400
TZOFFSETTO:-0500
TZNAME:EST
DTSTART:20181104T060000
END:STANDARD
BEGIN:DAYLIGHT
TZOFFSETFROM:-0500
TZOFFSETTO:-0400
TZNAME:EDT
DTSTART:20190310T070000
END:DAYLIGHT
BEGIN:STANDARD
TZOFFSETFROM:-0400
TZOFFSETTO:-0500
TZNAME:EST
DTSTART:20191103T060000
END:STANDARD
END:VTIMEZONE
BEGIN:VEVENT
DTSTART;TZID=America/New_York:20180826T153000
DTEND;TZID=America/New_York:20180826T153000
DTSTAMP:20260423T192148
CREATED:20180723T152313Z
LAST-MODIFIED:20180813T183419Z
UID:10008480-1535297400-1535297400@www.miamidadecountyauditorium.org
SUMMARY:Risas y Música para Cuba: Esto era Cuba Chaguito
DESCRIPTION:A musical revue and comedy show with Lena Burke\, Carlos Oliva\, Pedro Roman\, Eddy Calderon. For tickets please call: 305. 669. 4196 \nPLEASE NOTE: New procedures are being implemented in an effort to enhance the safety of our patrons and all those who visit MDCA. These new measures may include bag checks at our lobby doors. Please allow yourself a bit of extra time while planning your trip.
URL:https://www.miamidadecountyauditorium.org/event/risas-y-musica-para-cuba-esto-era-cuba-chaguito/
LOCATION:Miami-Dade County Auditorium\, 2901 W Flagler St.\, Miami\, FL\, 33135\, United States
ATTACH;FMTTYPE=image/jpeg:https://www.miamidadecountyauditorium.org/wp-content/uploads/2018/07/RisasMusica2018.jpg
GEO:25.7730481;-80.2411475
X-APPLE-STRUCTURED-LOCATION;VALUE=URI;X-ADDRESS=Miami-Dade County Auditorium 2901 W Flagler St. Miami FL 33135 United States;X-APPLE-RADIUS=500;X-TITLE=2901 W Flagler St.:geo:-80.2411475,25.7730481
END:VEVENT
BEGIN:VEVENT
DTSTART;TZID=America/New_York:20180825T200000
DTEND;TZID=America/New_York:20180825T200000
DTSTAMP:20260423T192148
CREATED:20180610T184053Z
LAST-MODIFIED:20180813T183452Z
UID:10008467-1535227200-1535227200@www.miamidadecountyauditorium.org
SUMMARY:Pimpinela en Concierto
DESCRIPTION:The legendary Argentinian duo returns with Tour Hermanos. \nPLEASE NOTE: New procedures are being implemented in an effort to enhance the safety of our patrons and all those who visit MDCA. These new measures may include bag checks at our lobby doors. Please allow yourself a bit of extra time while planning your trip.
URL:https://www.miamidadecountyauditorium.org/event/pimpinela-en-concierto/
LOCATION:Miami-Dade County Auditorium\, 2901 W Flagler St.\, Miami\, FL\, 33135\, United States
ATTACH;FMTTYPE=image/jpeg:https://www.miamidadecountyauditorium.org/wp-content/uploads/2018/06/Pimpinela2018.jpg
GEO:25.7730481;-80.2411475
X-APPLE-STRUCTURED-LOCATION;VALUE=URI;X-ADDRESS=Miami-Dade County Auditorium 2901 W Flagler St. Miami FL 33135 United States;X-APPLE-RADIUS=500;X-TITLE=2901 W Flagler St.:geo:-80.2411475,25.7730481
END:VEVENT
BEGIN:VEVENT
DTSTART;TZID=America/New_York:20180722T140000
DTEND;TZID=America/New_York:20180722T140000
DTSTAMP:20260423T192148
CREATED:20180529T192421Z
LAST-MODIFIED:20180529T192421Z
UID:10008464-1532268000-1532268000@www.miamidadecountyauditorium.org
SUMMARY:33-International Hispanic Theatre Festival: International Children's Day
DESCRIPTION:2:00-3:00 p.m. –  Artes y manualidades\, juegos\, entretenimientos\, y distribución de meriendas\n3:00-4:00 p.m. –  Talleres de pintura y títeres\n4:00-5:00 p.m. –  Taller de música/percusión \n5:00-6:00 p.m. –  Espectáculo: El gato y la gaviota\nTEATRO DOBLE\, Miami\, USA \nAdaptada y dirigida por Neher Jaqueline Briceño de la novela “La historia de una gaviota y el gato que la enseñó a volar” de Luis Sepúlveda\nLa aventura de cuatro gatos al cuidado de una bebé gaviota y el compromiso de enseñarle a volar\, hacen de esta historia una experiencia familiar tierna y conmovedora que no solo toca importantes valores como la solidaridad\, el amor incondicional y la importancia del cuidado de nuestro ambiente\, sino que a través del mundo animal nos conduce a serias reflexiones sobre las acciones humanas. \n(free event) \nPart of our Hot Theatre Summer Series \nPLEASE NOTE: New procedures are being implemented in an effort to enhance the safety of our patrons and all those who visit MDCA. These new measures may include bag checks at our lobby doors. Please allow yourself a bit of extra time while planning your trip.
URL:https://www.miamidadecountyauditorium.org/event/33-international-hispanic-theatre-festival-international-childrens-day/
LOCATION:Miami-Dade County Auditorium\, 2901 W Flagler St.\, Miami\, FL\, 33135\, United States
ATTACH;FMTTYPE=image/jpeg:https://www.miamidadecountyauditorium.org/wp-content/uploads/2018/05/GatoGaviotaA.jpg
GEO:25.7730481;-80.2411475
X-APPLE-STRUCTURED-LOCATION;VALUE=URI;X-ADDRESS=Miami-Dade County Auditorium 2901 W Flagler St. Miami FL 33135 United States;X-APPLE-RADIUS=500;X-TITLE=2901 W Flagler St.:geo:-80.2411475,25.7730481
END:VEVENT
BEGIN:VEVENT
DTSTART;TZID=America/New_York:20180606T190000
DTEND;TZID=America/New_York:20180606T190000
DTSTAMP:20260423T192148
CREATED:20180501T175458Z
LAST-MODIFIED:20180501T175541Z
UID:10008112-1528311600-1528311600@www.miamidadecountyauditorium.org
SUMMARY:Keys Gate Charter High School Class of 2018 Graduation
DESCRIPTION:PLEASE NOTE: New procedures are being implemented in an effort to enhance the safety of our patrons and all those who visit MDCA. These new measures may include bag checks at our lobby doors. Please allow yourself a bit of extra time while planning your trip.
URL:https://www.miamidadecountyauditorium.org/event/keys-gate-charter-high-school-class-2018-graduation/
LOCATION:Miami-Dade County Auditorium\, 2901 W Flagler St.\, Miami\, FL\, 33135\, United States
ATTACH;FMTTYPE=image/jpeg:https://www.miamidadecountyauditorium.org/wp-content/uploads/2016/05/KeysGateHigh.jpg
GEO:25.7730481;-80.2411475
X-APPLE-STRUCTURED-LOCATION;VALUE=URI;X-ADDRESS=Miami-Dade County Auditorium 2901 W Flagler St. Miami FL 33135 United States;X-APPLE-RADIUS=500;X-TITLE=2901 W Flagler St.:geo:-80.2411475,25.7730481
END:VEVENT
BEGIN:VEVENT
DTSTART;TZID=America/New_York:20180605T140000
DTEND;TZID=America/New_York:20180605T140000
DTSTAMP:20260423T192148
CREATED:20180501T175224Z
LAST-MODIFIED:20180501T175309Z
UID:10008111-1528207200-1528207200@www.miamidadecountyauditorium.org
SUMMARY:Mater Lakes Academy Class of 2018 Graduation
DESCRIPTION:PLEASE NOTE: New procedures are being implemented in an effort to enhance the safety of our patrons and all those who visit MDCA. These new measures may include bag checks at our lobby doors. Please allow yourself a bit of extra time while planning your trip.
URL:https://www.miamidadecountyauditorium.org/event/mater-lakes-academy-class-2018-graduation/
LOCATION:Miami-Dade County Auditorium\, 2901 W Flagler St.\, Miami\, FL\, 33135\, United States
ATTACH;FMTTYPE=image/jpeg:https://www.miamidadecountyauditorium.org/wp-content/uploads/2016/05/MaterLksHigh.jpg
GEO:25.7730481;-80.2411475
X-APPLE-STRUCTURED-LOCATION;VALUE=URI;X-ADDRESS=Miami-Dade County Auditorium 2901 W Flagler St. Miami FL 33135 United States;X-APPLE-RADIUS=500;X-TITLE=2901 W Flagler St.:geo:-80.2411475,25.7730481
END:VEVENT
BEGIN:VEVENT
DTSTART;TZID=America/New_York:20180601T163000
DTEND;TZID=America/New_York:20180601T163000
DTSTAMP:20260423T192148
CREATED:20180501T174310Z
LAST-MODIFIED:20180501T174401Z
UID:10008110-1527870600-1527870600@www.miamidadecountyauditorium.org
SUMMARY:Little College At Royal Oaks 2018 Graduation
DESCRIPTION:PLEASE NOTE: New procedures are being implemented in an effort to enhance the safety of our patrons and all those who visit MDCA. These new measures may include bag checks at our lobby doors. Please allow yourself a bit of extra time while planning your trip.
URL:https://www.miamidadecountyauditorium.org/event/little-college-royal-oaks-2018-graduation/
LOCATION:Miami-Dade County Auditorium\, 2901 W Flagler St.\, Miami\, FL\, 33135\, United States
GEO:25.7730481;-80.2411475
X-APPLE-STRUCTURED-LOCATION;VALUE=URI;X-ADDRESS=Miami-Dade County Auditorium 2901 W Flagler St. Miami FL 33135 United States;X-APPLE-RADIUS=500;X-TITLE=2901 W Flagler St.:geo:-80.2411475,25.7730481
END:VEVENT
BEGIN:VEVENT
DTSTART;TZID=America/New_York:20180525T093000
DTEND;TZID=America/New_York:20180525T093000
DTSTAMP:20260423T192148
CREATED:20180501T173658Z
LAST-MODIFIED:20180501T173748Z
UID:10008108-1527240600-1527240600@www.miamidadecountyauditorium.org
SUMMARY:Monsignor Edward Pace 2018 High School Commencement
DESCRIPTION:PLEASE NOTE: New procedures are being implemented in an effort to enhance the safety of our patrons and all those who visit MDCA. These new measures may include bag checks at our lobby doors. Please allow yourself a bit of extra time while planning your trip.
URL:https://www.miamidadecountyauditorium.org/event/monsignor-edward-pace-2018-high-school-commencement/
LOCATION:Miami-Dade County Auditorium\, 2901 W Flagler St.\, Miami\, FL\, 33135\, United States
ATTACH;FMTTYPE=image/jpeg:https://www.miamidadecountyauditorium.org/wp-content/uploads/2016/05/PaceLogo.jpg
GEO:25.7730481;-80.2411475
X-APPLE-STRUCTURED-LOCATION;VALUE=URI;X-ADDRESS=Miami-Dade County Auditorium 2901 W Flagler St. Miami FL 33135 United States;X-APPLE-RADIUS=500;X-TITLE=2901 W Flagler St.:geo:-80.2411475,25.7730481
END:VEVENT
BEGIN:VEVENT
DTSTART;TZID=America/New_York:20180524T100000
DTEND;TZID=America/New_York:20180524T100000
DTSTAMP:20260423T192148
CREATED:20180501T174011Z
LAST-MODIFIED:20180501T174057Z
UID:10008109-1527156000-1527156000@www.miamidadecountyauditorium.org
SUMMARY:Immaculata La Salle 2018 High School Graduation
DESCRIPTION:PLEASE NOTE: New procedures are being implemented in an effort to enhance the safety of our patrons and all those who visit MDCA. These new measures may include bag checks at our lobby doors. Please allow yourself a bit of extra time while planning your trip.
URL:https://www.miamidadecountyauditorium.org/event/immaculata-la-salle-2018-high-school-graduation/
LOCATION:Miami-Dade County Auditorium\, 2901 W Flagler St.\, Miami\, FL\, 33135\, United States
ATTACH;FMTTYPE=image/jpeg:https://www.miamidadecountyauditorium.org/wp-content/uploads/2016/05/LaSalleLogo.jpg
GEO:25.7730481;-80.2411475
X-APPLE-STRUCTURED-LOCATION;VALUE=URI;X-ADDRESS=Miami-Dade County Auditorium 2901 W Flagler St. Miami FL 33135 United States;X-APPLE-RADIUS=500;X-TITLE=2901 W Flagler St.:geo:-80.2411475,25.7730481
END:VEVENT
BEGIN:VEVENT
DTSTART;TZID=America/New_York:20180509T103000
DTEND;TZID=America/New_York:20180509T103000
DTSTAMP:20260423T192148
CREATED:20180501T173238Z
LAST-MODIFIED:20180501T173238Z
UID:10008107-1525861800-1525861800@www.miamidadecountyauditorium.org
SUMMARY:New World Symphony
DESCRIPTION:PLEASE NOTE: New procedures are being implemented in an effort to enhance the safety of our patrons and all those who visit MDCA. These new measures may include bag checks at our lobby doors. Please allow yourself a bit of extra time while planning your trip.
URL:https://www.miamidadecountyauditorium.org/event/new-world-symphony/
LOCATION:Miami-Dade County Auditorium\, 2901 W Flagler St.\, Miami\, FL\, 33135\, United States
GEO:25.7730481;-80.2411475
X-APPLE-STRUCTURED-LOCATION;VALUE=URI;X-ADDRESS=Miami-Dade County Auditorium 2901 W Flagler St. Miami FL 33135 United States;X-APPLE-RADIUS=500;X-TITLE=2901 W Flagler St.:geo:-80.2411475,25.7730481
END:VEVENT
BEGIN:VEVENT
DTSTART;TZID=America/New_York:20180408T150000
DTEND;TZID=America/New_York:20180408T150000
DTSTAMP:20260423T192148
CREATED:20171214T195630Z
LAST-MODIFIED:20180312T144104Z
UID:10008348-1523199600-1523199600@www.miamidadecountyauditorium.org
SUMMARY:Festival Internacional Ernesto Lecuona
DESCRIPTION:The internationally renowned festival returns to the MDCA stage for the fifth consecutive year with a variety of performances including singers\, dancers\, and musicians who come together to celebrate the music of legendary composer Ernesto Lecuona. \nPLEASE NOTE: New procedures are being implemented in an effort to enhance the safety of our patrons and all those who visit MDCA. These new measures may include bag checks at our lobby doors. Please allow yourself a bit of extra time while planning your trip.
URL:https://www.miamidadecountyauditorium.org/event/festival-internacional-ernesto-lecuona-2/
LOCATION:Miami-Dade County Auditorium\, 2901 W Flagler St.\, Miami\, FL\, 33135\, United States
ATTACH;FMTTYPE=image/jpeg:https://www.miamidadecountyauditorium.org/wp-content/uploads/2017/12/Lecuona2018.jpg
GEO:25.7730481;-80.2411475
X-APPLE-STRUCTURED-LOCATION;VALUE=URI;X-ADDRESS=Miami-Dade County Auditorium 2901 W Flagler St. Miami FL 33135 United States;X-APPLE-RADIUS=500;X-TITLE=2901 W Flagler St.:geo:-80.2411475,25.7730481
END:VEVENT
BEGIN:VEVENT
DTSTART;TZID=America/New_York:20171212T114500
DTEND;TZID=America/New_York:20171212T114500
DTSTAMP:20260423T192148
CREATED:20171203T195640Z
LAST-MODIFIED:20171203T195640Z
UID:10008346-1513079100-1513079100@www.miamidadecountyauditorium.org
SUMMARY:A Whoville Christmas
DESCRIPTION:PLEASE NOTE: New procedures are being implemented in an effort to enhance the safety of our patrons and all those who visit MDCA. These new measures may include bag checks at our lobby doors. Please allow yourself a bit of extra time while planning your trip.
URL:https://www.miamidadecountyauditorium.org/event/a-whoville-christmas-3/
LOCATION:Miami-Dade County Auditorium\, 2901 W Flagler St.\, Miami\, FL\, 33135\, United States
GEO:25.7730481;-80.2411475
X-APPLE-STRUCTURED-LOCATION;VALUE=URI;X-ADDRESS=Miami-Dade County Auditorium 2901 W Flagler St. Miami FL 33135 United States;X-APPLE-RADIUS=500;X-TITLE=2901 W Flagler St.:geo:-80.2411475,25.7730481
END:VEVENT
BEGIN:VEVENT
DTSTART;TZID=America/New_York:20171212T100000
DTEND;TZID=America/New_York:20171212T100000
DTSTAMP:20260423T192148
CREATED:20171203T195541Z
LAST-MODIFIED:20171203T195541Z
UID:10008345-1513072800-1513072800@www.miamidadecountyauditorium.org
SUMMARY:A Whoville Christmas
DESCRIPTION:PLEASE NOTE: New procedures are being implemented in an effort to enhance the safety of our patrons and all those who visit MDCA. These new measures may include bag checks at our lobby doors. Please allow yourself a bit of extra time while planning your trip.
URL:https://www.miamidadecountyauditorium.org/event/a-whoville-christmas-2/
LOCATION:Miami-Dade County Auditorium\, 2901 W Flagler St.\, Miami\, FL\, 33135\, United States
GEO:25.7730481;-80.2411475
X-APPLE-STRUCTURED-LOCATION;VALUE=URI;X-ADDRESS=Miami-Dade County Auditorium 2901 W Flagler St. Miami FL 33135 United States;X-APPLE-RADIUS=500;X-TITLE=2901 W Flagler St.:geo:-80.2411475,25.7730481
END:VEVENT
BEGIN:VEVENT
DTSTART;TZID=America/New_York:20171021T200000
DTEND;TZID=America/New_York:20171021T200000
DTSTAMP:20260423T192148
CREATED:20170722T014303Z
LAST-MODIFIED:20171121T163138Z
UID:10008254-1508616000-1508616000@www.miamidadecountyauditorium.org
SUMMARY:Maggie Carles en Concierto
DESCRIPTION:Singer Maggie Carles returns to the stage to celebrate her 50 year career with special guest Falete. \nPLEASE NOTE: New procedures are being implemented in an effort to enhance the safety of our patrons and all those who visit MDCA. These new measures may include bag checks at our lobby doors. Please allow yourself a bit of extra time while planning your trip.
URL:https://www.miamidadecountyauditorium.org/event/maggie-carles-en-concierto/
LOCATION:Miami-Dade County Auditorium\, 2901 W Flagler St.\, Miami\, FL\, 33135\, United States
ATTACH;FMTTYPE=image/jpeg:https://www.miamidadecountyauditorium.org/wp-content/uploads/2017/07/MCarles.jpg
GEO:25.7730481;-80.2411475
X-APPLE-STRUCTURED-LOCATION;VALUE=URI;X-ADDRESS=Miami-Dade County Auditorium 2901 W Flagler St. Miami FL 33135 United States;X-APPLE-RADIUS=500;X-TITLE=2901 W Flagler St.:geo:-80.2411475,25.7730481
END:VEVENT
END:VCALENDAR