BEGIN:VCALENDAR
VERSION:2.0
PRODID:-//Miami Dade County Auditorium - ECPv6.15.20//NONSGML v1.0//EN
CALSCALE:GREGORIAN
METHOD:PUBLISH
X-ORIGINAL-URL:https://www.miamidadecountyauditorium.org
X-WR-CALDESC:Events for Miami Dade County Auditorium
REFRESH-INTERVAL;VALUE=DURATION:PT1H
X-Robots-Tag:noindex
X-PUBLISHED-TTL:PT1H
BEGIN:VTIMEZONE
TZID:America/New_York
BEGIN:DAYLIGHT
TZOFFSETFROM:-0500
TZOFFSETTO:-0400
TZNAME:EDT
DTSTART:20140309T070000
END:DAYLIGHT
BEGIN:STANDARD
TZOFFSETFROM:-0400
TZOFFSETTO:-0500
TZNAME:EST
DTSTART:20141102T060000
END:STANDARD
BEGIN:DAYLIGHT
TZOFFSETFROM:-0500
TZOFFSETTO:-0400
TZNAME:EDT
DTSTART:20150308T070000
END:DAYLIGHT
BEGIN:STANDARD
TZOFFSETFROM:-0400
TZOFFSETTO:-0500
TZNAME:EST
DTSTART:20151101T060000
END:STANDARD
BEGIN:DAYLIGHT
TZOFFSETFROM:-0500
TZOFFSETTO:-0400
TZNAME:EDT
DTSTART:20160313T070000
END:DAYLIGHT
BEGIN:STANDARD
TZOFFSETFROM:-0400
TZOFFSETTO:-0500
TZNAME:EST
DTSTART:20161106T060000
END:STANDARD
END:VTIMEZONE
BEGIN:VEVENT
DTSTART;TZID=America/New_York:20150529T180000
DTEND;TZID=America/New_York:20150529T200000
DTSTAMP:20260425T102843
CREATED:20150530T195123Z
LAST-MODIFIED:20150530T195123Z
UID:10007878-1432922400-1432929600@www.miamidadecountyauditorium.org
SUMMARY:Mater Academy Elementary Grad
DESCRIPTION:
URL:https://www.miamidadecountyauditorium.org/event/mater-academy-elementary-grad/
LOCATION:MDCA Orchestra Theatre\, 2901 West Flagler St\, Miami\, FL\, 33135\, United States
GEO:25.773093;-80.241163
X-APPLE-STRUCTURED-LOCATION;VALUE=URI;X-ADDRESS=MDCA Orchestra Theatre 2901 West Flagler St Miami FL 33135 United States;X-APPLE-RADIUS=500;X-TITLE=2901 West Flagler St:geo:-80.241163,25.773093
END:VEVENT
END:VCALENDAR