BEGIN:VCALENDAR
VERSION:2.0
PRODID:-//Miami Dade County Auditorium - ECPv6.15.20//NONSGML v1.0//EN
CALSCALE:GREGORIAN
METHOD:PUBLISH
X-ORIGINAL-URL:https://www.miamidadecountyauditorium.org
X-WR-CALDESC:Events for Miami Dade County Auditorium
REFRESH-INTERVAL;VALUE=DURATION:PT1H
X-Robots-Tag:noindex
X-PUBLISHED-TTL:PT1H
BEGIN:VTIMEZONE
TZID:America/New_York
BEGIN:DAYLIGHT
TZOFFSETFROM:-0500
TZOFFSETTO:-0400
TZNAME:EDT
DTSTART:20140309T070000
END:DAYLIGHT
BEGIN:STANDARD
TZOFFSETFROM:-0400
TZOFFSETTO:-0500
TZNAME:EST
DTSTART:20141102T060000
END:STANDARD
BEGIN:DAYLIGHT
TZOFFSETFROM:-0500
TZOFFSETTO:-0400
TZNAME:EDT
DTSTART:20150308T070000
END:DAYLIGHT
BEGIN:STANDARD
TZOFFSETFROM:-0400
TZOFFSETTO:-0500
TZNAME:EST
DTSTART:20151101T060000
END:STANDARD
BEGIN:DAYLIGHT
TZOFFSETFROM:-0500
TZOFFSETTO:-0400
TZNAME:EDT
DTSTART:20160313T070000
END:DAYLIGHT
BEGIN:STANDARD
TZOFFSETFROM:-0400
TZOFFSETTO:-0500
TZNAME:EST
DTSTART:20161106T060000
END:STANDARD
BEGIN:DAYLIGHT
TZOFFSETFROM:-0500
TZOFFSETTO:-0400
TZNAME:EDT
DTSTART:20170312T070000
END:DAYLIGHT
BEGIN:STANDARD
TZOFFSETFROM:-0400
TZOFFSETTO:-0500
TZNAME:EST
DTSTART:20171105T060000
END:STANDARD
END:VTIMEZONE
BEGIN:VEVENT
DTSTART;TZID=America/New_York:20160505T200000
DTEND;TZID=America/New_York:20160505T213000
DTSTAMP:20260424T151859
CREATED:20160201T205647Z
LAST-MODIFIED:20160503T174517Z
UID:10008002-1462478400-1462483800@www.miamidadecountyauditorium.org
SUMMARY:DanzAbierta Malson
DESCRIPTION:In Catalan\, malson means nightmare. The award winner piece Malson\, choreographed by Susana Pous\, is a love letter to Havana that is immersed in a virtual video world\, with music by X Alfonso. Cubas bustling streets\, colorful cityscapes\, and blue sea are projected in film vignettes that ultimately partner with the dancers high-energy movement.
URL:https://www.miamidadecountyauditorium.org/event/danzabierta-malson/
LOCATION:MDCA Mid-Stage Theatre\, 2901 West Flagler St\, Miami\, FL\, 33135\, United States
ATTACH;FMTTYPE=image/jpeg:https://www.miamidadecountyauditorium.org/wp-content/uploads/2016/05/Malson2.jpg
GEO:25.773093;-80.241163
X-APPLE-STRUCTURED-LOCATION;VALUE=URI;X-ADDRESS=MDCA Mid-Stage Theatre 2901 West Flagler St Miami FL 33135 United States;X-APPLE-RADIUS=500;X-TITLE=2901 West Flagler St:geo:-80.241163,25.773093
END:VEVENT
BEGIN:VEVENT
DTSTART;TZID=America/New_York:20160501T170000
DTEND;TZID=America/New_York:20160501T190000
DTSTAMP:20260424T151859
CREATED:20160407T180130Z
LAST-MODIFIED:20160407T180130Z
UID:10007907-1462122000-1462129200@www.miamidadecountyauditorium.org
SUMMARY:Buenas Tardes\, Tango!
DESCRIPTION:La Orquesta de Cámara de la Florida (FCO) en el marco de la celebración de su vigésimo aniversario\, ha realizado una minuciosa selección de los temas más representativos de Astor Piazzolla y Carlos Gardel\, conocidos mundialmente por los aportes musicales en el folclor propio de Argentina y Uruguay. Marlen Urbay interpretará con su batuta cada una de éstas clásicas y populares canciones con la pasión y energía propias de éste género\, mientras la voz inconfundible de Rodrigo Aragón nos hará recordar y cantar canciones como “Volver”\, “El día que me quieras”\, “Por una cabeza” entre otras. Las parejas de baile: Jeremias & Mariella\, al igual que Martin & Noellia  también amenizarán éste inolvidable concierto.
URL:https://www.miamidadecountyauditorium.org/event/buenas-tardes-tango/
LOCATION:MDCA Mid-Stage Theatre\, 2901 West Flagler St\, Miami\, FL\, 33135\, United States
ATTACH;FMTTYPE=image/jpeg:https://www.miamidadecountyauditorium.org/wp-content/uploads/2016/04/RodrigoAragon.jpg
GEO:25.773093;-80.241163
X-APPLE-STRUCTURED-LOCATION;VALUE=URI;X-ADDRESS=MDCA Mid-Stage Theatre 2901 West Flagler St Miami FL 33135 United States;X-APPLE-RADIUS=500;X-TITLE=2901 West Flagler St:geo:-80.241163,25.773093
END:VEVENT
BEGIN:VEVENT
DTSTART;TZID=America/New_York:20160326T210000
DTEND;TZID=America/New_York:20160326T223000
DTSTAMP:20260424T151859
CREATED:20151116T190234Z
LAST-MODIFIED:20151116T193741Z
UID:10007975-1459026000-1459031400@www.miamidadecountyauditorium.org
SUMMARY:Companhia Urbana de Dança - NEGO
DESCRIPTION:An urban dance piece by world-renowned Companhia Urbana de Dança from Brasil\, an electrifying ensemble of young dancers hailing from the favelas of Rio de Janeiro\, working under the direction of award-winning choreographer Sonia Diestri.
URL:https://www.miamidadecountyauditorium.org/event/companhia-urbana-de-danca-nego/
LOCATION:MDCA Mid-Stage Theatre\, 2901 West Flagler St\, Miami\, FL\, 33135\, United States
ATTACH;FMTTYPE=image/jpeg:https://www.miamidadecountyauditorium.org/wp-content/uploads/2015/11/CUDNego.jpg
GEO:25.773093;-80.241163
X-APPLE-STRUCTURED-LOCATION;VALUE=URI;X-ADDRESS=MDCA Mid-Stage Theatre 2901 West Flagler St Miami FL 33135 United States;X-APPLE-RADIUS=500;X-TITLE=2901 West Flagler St:geo:-80.241163,25.773093
END:VEVENT
BEGIN:VEVENT
DTSTART;TZID=America/New_York:20160220T200000
DTEND;TZID=America/New_York:20160220T220000
DTSTAMP:20260424T151859
CREATED:20160114T230436Z
LAST-MODIFIED:20160121T224005Z
UID:10007881-1455998400-1456005600@www.miamidadecountyauditorium.org
SUMMARY:Camille A. Brown / Black Girl: Linguistic Play
DESCRIPTION:Using the rhythmic play of double-dutch\, steppin’\, tap\, ring shout and other African-American social dances\, dancer/choreographer Camille A. Brown addresses the complexity of carving out a positive identity as a black female in urban American culture. In a society where black women are often only portrayed in terms of their strength\, resiliency\, or trauma\, this performance represents a more nuanced spectrum of black womanhood in a racially and politically charged world. Brown\, who danced with the Alvin Ailey American Dance Theater\, Ronald K. Brown’s Evidence\, and Rennie Harris’ Pure Movement\, has been hailed as “Gutsy. Wild. Smart. Original\,” by Dance Magazine. Miami debut.
URL:https://www.miamidadecountyauditorium.org/event/camille-a-brown-black-girl-linguistic-play/
LOCATION:MDCA Mid-Stage Theatre\, 2901 West Flagler St\, Miami\, FL\, 33135\, United States
ATTACH;FMTTYPE=image/jpeg:https://www.miamidadecountyauditorium.org/wp-content/uploads/2016/01/CBrown.jpg
GEO:25.773093;-80.241163
X-APPLE-STRUCTURED-LOCATION;VALUE=URI;X-ADDRESS=MDCA Mid-Stage Theatre 2901 West Flagler St Miami FL 33135 United States;X-APPLE-RADIUS=500;X-TITLE=2901 West Flagler St:geo:-80.241163,25.773093
END:VEVENT
BEGIN:VEVENT
DTSTART;TZID=America/New_York:20160127T100000
DTEND;TZID=America/New_York:20160127T120000
DTSTAMP:20260424T151859
CREATED:20160114T233827Z
LAST-MODIFIED:20160114T233827Z
UID:10007885-1453888800-1453896000@www.miamidadecountyauditorium.org
SUMMARY:State of the County Address: Mayor Carlos A. Gimenez
DESCRIPTION:
URL:https://www.miamidadecountyauditorium.org/event/state-of-the-county-address-mayor-carlos-a-gimenez/
LOCATION:MDCA Mid-Stage Theatre\, 2901 West Flagler St\, Miami\, FL\, 33135\, United States
ATTACH;FMTTYPE=image/jpeg:https://www.miamidadecountyauditorium.org/wp-content/uploads/2016/01/StateCty.jpg
GEO:25.773093;-80.241163
X-APPLE-STRUCTURED-LOCATION;VALUE=URI;X-ADDRESS=MDCA Mid-Stage Theatre 2901 West Flagler St Miami FL 33135 United States;X-APPLE-RADIUS=500;X-TITLE=2901 West Flagler St:geo:-80.241163,25.773093
END:VEVENT
BEGIN:VEVENT
DTSTART;TZID=America/New_York:20151220T170000
DTEND;TZID=America/New_York:20151220T193000
DTSTAMP:20260424T151859
CREATED:20151202T191821Z
LAST-MODIFIED:20151202T191821Z
UID:10007993-1450630800-1450639800@www.miamidadecountyauditorium.org
SUMMARY:Elite Arts Academy
DESCRIPTION:
URL:https://www.miamidadecountyauditorium.org/event/elite-arts-academy-2/
LOCATION:MDCA Mid-Stage Theatre\, 2901 West Flagler St\, Miami\, FL\, 33135\, United States
GEO:25.773093;-80.241163
X-APPLE-STRUCTURED-LOCATION;VALUE=URI;X-ADDRESS=MDCA Mid-Stage Theatre 2901 West Flagler St Miami FL 33135 United States;X-APPLE-RADIUS=500;X-TITLE=2901 West Flagler St:geo:-80.241163,25.773093
END:VEVENT
BEGIN:VEVENT
DTSTART;TZID=America/New_York:20151218T200000
DTEND;TZID=America/New_York:20151218T220000
DTSTAMP:20260424T151859
CREATED:20151028T194625Z
LAST-MODIFIED:20151114T222008Z
UID:10007964-1450468800-1450476000@www.miamidadecountyauditorium.org
SUMMARY:Ready for Christmas
DESCRIPTION:A holiday show for all with a symphony orchestra directed by Albert Bade and special guests: Erika Ender / Marger Sealey / Felipe Roso / Clary Varona and Jose Negroni.
URL:https://www.miamidadecountyauditorium.org/event/ready-for-christmas/
LOCATION:MDCA Mid-Stage Theatre\, 2901 West Flagler St\, Miami\, FL\, 33135\, United States
ATTACH;FMTTYPE=image/jpeg:https://www.miamidadecountyauditorium.org/wp-content/uploads/2015/10/NegroniXMas.jpg
GEO:25.773093;-80.241163
X-APPLE-STRUCTURED-LOCATION;VALUE=URI;X-ADDRESS=MDCA Mid-Stage Theatre 2901 West Flagler St Miami FL 33135 United States;X-APPLE-RADIUS=500;X-TITLE=2901 West Flagler St:geo:-80.241163,25.773093
END:VEVENT
BEGIN:VEVENT
DTSTART;TZID=America/New_York:20151211T200000
DTEND;TZID=America/New_York:20151211T220000
DTSTAMP:20260424T151859
CREATED:20151116T210011Z
LAST-MODIFIED:20151116T210011Z
UID:10007976-1449864000-1449871200@www.miamidadecountyauditorium.org
SUMMARY:Christmas en Jazz
DESCRIPTION:Llega Navidad\, una de las época más hermosas del año para festejar entre amigos y familia y con ellas las bellas canciones de estas festividades. Hagámosla aún más especial\, llevándolas al ritmo del jazz y entonces podremos disfrutar de “Christmas En Jazz”. Una selección de las mas famosas y populares canciones de Navidad interpretadas por FCO Big Band acompañando a la melodiosa voz de la talentosa Nathalie Avila.
URL:https://www.miamidadecountyauditorium.org/event/christmas-en-jazz/
LOCATION:MDCA Mid-Stage Theatre\, 2901 West Flagler St\, Miami\, FL\, 33135\, United States
ATTACH;FMTTYPE=image/jpeg:https://www.miamidadecountyauditorium.org/wp-content/uploads/2015/11/FCOXMas.jpg
GEO:25.773093;-80.241163
X-APPLE-STRUCTURED-LOCATION;VALUE=URI;X-ADDRESS=MDCA Mid-Stage Theatre 2901 West Flagler St Miami FL 33135 United States;X-APPLE-RADIUS=500;X-TITLE=2901 West Flagler St:geo:-80.241163,25.773093
END:VEVENT
BEGIN:VEVENT
DTSTART;TZID=America/New_York:20151108T190000
DTEND;TZID=America/New_York:20151108T210000
DTSTAMP:20260424T151859
CREATED:20150903T204149Z
LAST-MODIFIED:20151029T155738Z
UID:10007851-1447009200-1447016400@www.miamidadecountyauditorium.org
SUMMARY:Flamenco Frequencies by Casa Patas
DESCRIPTION:Flamenco Frequencies\, by Casa Patas Foundation an evening of sizzling contemporary Flamenco dance and music from Madrid\, Spain\, featuring choreographer and dancer Karen Lugo.
URL:https://www.miamidadecountyauditorium.org/event/flamenco-frequencies-by-casa-patas/
LOCATION:MDCA Mid-Stage Theatre\, 2901 West Flagler St\, Miami\, FL\, 33135\, United States
ATTACH;FMTTYPE=image/jpeg:https://www.miamidadecountyauditorium.org/wp-content/uploads/2015/09/CPatasFreq.jpg
GEO:25.773093;-80.241163
X-APPLE-STRUCTURED-LOCATION;VALUE=URI;X-ADDRESS=MDCA Mid-Stage Theatre 2901 West Flagler St Miami FL 33135 United States;X-APPLE-RADIUS=500;X-TITLE=2901 West Flagler St:geo:-80.241163,25.773093
END:VEVENT
BEGIN:VEVENT
DTSTART;TZID=America/New_York:20151030T203000
DTEND;TZID=America/New_York:20151030T220000
DTSTAMP:20260424T151859
CREATED:20150709T190651Z
LAST-MODIFIED:20151030T145301Z
UID:10007831-1446237000-1446242400@www.miamidadecountyauditorium.org
SUMMARY:AVALON suite for Flamenco Guitar & Orchestra
DESCRIPTION:Master Flamenco Guitarist Jose Luis Rodriguez’s compositions are enveloped in Alex Conde’s orchestrations in this unique evening where the Flamenco concert guitar meets Classical music!
URL:https://www.miamidadecountyauditorium.org/event/avalon-suite-for-flamenco-guitar-orchestra/
LOCATION:MDCA Mid-Stage Theatre\, 2901 West Flagler St\, Miami\, FL\, 33135\, United States
ATTACH;FMTTYPE=image/jpeg:https://www.miamidadecountyauditorium.org/wp-content/uploads/2015/06/JLRodriguez2.jpg
GEO:25.773093;-80.241163
X-APPLE-STRUCTURED-LOCATION;VALUE=URI;X-ADDRESS=MDCA Mid-Stage Theatre 2901 West Flagler St Miami FL 33135 United States;X-APPLE-RADIUS=500;X-TITLE=2901 West Flagler St:geo:-80.241163,25.773093
END:VEVENT
BEGIN:VEVENT
DTSTART;TZID=America/New_York:20150822T200000
DTEND;TZID=America/New_York:20150822T220000
DTSTAMP:20260424T151859
CREATED:20150709T183730Z
LAST-MODIFIED:20150729T181112Z
UID:10007830-1440273600-1440280800@www.miamidadecountyauditorium.org
SUMMARY:Under Heaven and Earth: Story of the Cuban Mariel
DESCRIPTION:The new choreography by IFE-ILE Founder Neri Torres delves into the journey of Marielitos\, the thousands of Cubans who arrived through the Mariel Boatlift in 1980 and the impact they have made in various communities by exploring how migration impacts cultural patterns and develops fragmented identities. Part of the 17th annual Ife-Ile Cuban-Dance festival.
URL:https://www.miamidadecountyauditorium.org/event/under-heaven-and-earth/
LOCATION:MDCA Mid-Stage Theatre\, 2901 West Flagler St\, Miami\, FL\, 33135\, United States
ATTACH;FMTTYPE=image/jpeg:https://www.miamidadecountyauditorium.org/wp-content/uploads/2015/07/Ife.Ile2015B.jpg
GEO:25.773093;-80.241163
X-APPLE-STRUCTURED-LOCATION;VALUE=URI;X-ADDRESS=MDCA Mid-Stage Theatre 2901 West Flagler St Miami FL 33135 United States;X-APPLE-RADIUS=500;X-TITLE=2901 West Flagler St:geo:-80.241163,25.773093
END:VEVENT
BEGIN:VEVENT
DTSTART;TZID=America/New_York:20150821T200000
DTEND;TZID=America/New_York:20150821T220000
DTSTAMP:20260424T151859
CREATED:20150709T183201Z
LAST-MODIFIED:20150709T183201Z
UID:10007829-1440187200-1440194400@www.miamidadecountyauditorium.org
SUMMARY:Salsa Night
DESCRIPTION:A performance by guest salsa groups from Miami and New York\, including Hot Spot Dance Studio\, Salsateros\, Young Ambition Dance Company\, Spirits in Motion\, Habana Style Salsa\, Salsa Lovers\, and more! Part of the 17th annual Ife-Ile Cuban-Dance Festival.
URL:https://www.miamidadecountyauditorium.org/event/salsa-night/
LOCATION:MDCA Mid-Stage Theatre\, 2901 West Flagler St\, Miami\, FL\, 33135\, United States
ATTACH;FMTTYPE=image/jpeg:https://www.miamidadecountyauditorium.org/wp-content/uploads/2015/07/Ife.Ile2015B.jpg
GEO:25.773093;-80.241163
X-APPLE-STRUCTURED-LOCATION;VALUE=URI;X-ADDRESS=MDCA Mid-Stage Theatre 2901 West Flagler St Miami FL 33135 United States;X-APPLE-RADIUS=500;X-TITLE=2901 West Flagler St:geo:-80.241163,25.773093
END:VEVENT
BEGIN:VEVENT
DTSTART;TZID=America/New_York:20150628T170000
DTEND;TZID=America/New_York:20150628T190000
DTSTAMP:20260424T151859
CREATED:20150607T235754Z
LAST-MODIFIED:20150607T235754Z
UID:10007919-1435510800-1435518000@www.miamidadecountyauditorium.org
SUMMARY:Dr. Ed Calle Sinfónico
DESCRIPTION:Dr. Ed Calle brings Sinfónico to our Mid-Stage Theatre. Featuring Negroni’s Trio and a 30 piece orchestra it promises to be an unforgettable evening.
URL:https://www.miamidadecountyauditorium.org/event/dr-ed-calle-sinfonico/
LOCATION:MDCA Mid-Stage Theatre\, 2901 West Flagler St\, Miami\, FL\, 33135\, United States
ATTACH;FMTTYPE=image/jpeg:https://www.miamidadecountyauditorium.org/wp-content/uploads/2015/06/EdCalle.jpg
GEO:25.773093;-80.241163
X-APPLE-STRUCTURED-LOCATION;VALUE=URI;X-ADDRESS=MDCA Mid-Stage Theatre 2901 West Flagler St Miami FL 33135 United States;X-APPLE-RADIUS=500;X-TITLE=2901 West Flagler St:geo:-80.241163,25.773093
END:VEVENT
BEGIN:VEVENT
DTSTART;TZID=America/New_York:20150523T200000
DTEND;TZID=America/New_York:20150524T170000
DTSTAMP:20260424T151859
CREATED:20150413T194329Z
LAST-MODIFIED:20150418T225223Z
UID:10007873-1432411200-1432486800@www.miamidadecountyauditorium.org
SUMMARY:Ballet Flamenco La Rosa
DESCRIPTION:Using August Strindberg’s El Pardre as a springboard\, Ballet Flameco la Rosa sets off on creating an original choreography.
URL:https://www.miamidadecountyauditorium.org/event/ballet-flamenco-la-rosa/
LOCATION:MDCA Mid-Stage Theatre\, 2901 West Flagler St\, Miami\, FL\, 33135\, United States
GEO:25.773093;-80.241163
X-APPLE-STRUCTURED-LOCATION;VALUE=URI;X-ADDRESS=MDCA Mid-Stage Theatre 2901 West Flagler St Miami FL 33135 United States;X-APPLE-RADIUS=500;X-TITLE=2901 West Flagler St:geo:-80.241163,25.773093
END:VEVENT
END:VCALENDAR