BEGIN:VCALENDAR
VERSION:2.0
PRODID:-//Miami Dade County Auditorium - ECPv6.15.20//NONSGML v1.0//EN
CALSCALE:GREGORIAN
METHOD:PUBLISH
X-ORIGINAL-URL:https://www.miamidadecountyauditorium.org
X-WR-CALDESC:Events for Miami Dade County Auditorium
REFRESH-INTERVAL;VALUE=DURATION:PT1H
X-Robots-Tag:noindex
X-PUBLISHED-TTL:PT1H
BEGIN:VTIMEZONE
TZID:America/New_York
BEGIN:DAYLIGHT
TZOFFSETFROM:-0500
TZOFFSETTO:-0400
TZNAME:EDT
DTSTART:20140309T070000
END:DAYLIGHT
BEGIN:STANDARD
TZOFFSETFROM:-0400
TZOFFSETTO:-0500
TZNAME:EST
DTSTART:20141102T060000
END:STANDARD
BEGIN:DAYLIGHT
TZOFFSETFROM:-0500
TZOFFSETTO:-0400
TZNAME:EDT
DTSTART:20150308T070000
END:DAYLIGHT
BEGIN:STANDARD
TZOFFSETFROM:-0400
TZOFFSETTO:-0500
TZNAME:EST
DTSTART:20151101T060000
END:STANDARD
BEGIN:DAYLIGHT
TZOFFSETFROM:-0500
TZOFFSETTO:-0400
TZNAME:EDT
DTSTART:20160313T070000
END:DAYLIGHT
BEGIN:STANDARD
TZOFFSETFROM:-0400
TZOFFSETTO:-0500
TZNAME:EST
DTSTART:20161106T060000
END:STANDARD
END:VTIMEZONE
BEGIN:VEVENT
DTSTART;TZID=America/New_York:20150822T200000
DTEND;TZID=America/New_York:20150822T220000
DTSTAMP:20260424T170420
CREATED:20150709T183730Z
LAST-MODIFIED:20150729T181112Z
UID:10007830-1440273600-1440280800@www.miamidadecountyauditorium.org
SUMMARY:Under Heaven and Earth: Story of the Cuban Mariel
DESCRIPTION:The new choreography by IFE-ILE Founder Neri Torres delves into the journey of Marielitos\, the thousands of Cubans who arrived through the Mariel Boatlift in 1980 and the impact they have made in various communities by exploring how migration impacts cultural patterns and develops fragmented identities. Part of the 17th annual Ife-Ile Cuban-Dance festival.
URL:https://www.miamidadecountyauditorium.org/event/under-heaven-and-earth/
LOCATION:MDCA Mid-Stage Theatre\, 2901 West Flagler St\, Miami\, FL\, 33135\, United States
ATTACH;FMTTYPE=image/jpeg:https://www.miamidadecountyauditorium.org/wp-content/uploads/2015/07/Ife.Ile2015B.jpg
GEO:25.773093;-80.241163
X-APPLE-STRUCTURED-LOCATION;VALUE=URI;X-ADDRESS=MDCA Mid-Stage Theatre 2901 West Flagler St Miami FL 33135 United States;X-APPLE-RADIUS=500;X-TITLE=2901 West Flagler St:geo:-80.241163,25.773093
END:VEVENT
BEGIN:VEVENT
DTSTART;TZID=America/New_York:20150821T200000
DTEND;TZID=America/New_York:20150821T220000
DTSTAMP:20260424T170420
CREATED:20150709T183201Z
LAST-MODIFIED:20150709T183201Z
UID:10007829-1440187200-1440194400@www.miamidadecountyauditorium.org
SUMMARY:Salsa Night
DESCRIPTION:A performance by guest salsa groups from Miami and New York\, including Hot Spot Dance Studio\, Salsateros\, Young Ambition Dance Company\, Spirits in Motion\, Habana Style Salsa\, Salsa Lovers\, and more! Part of the 17th annual Ife-Ile Cuban-Dance Festival.
URL:https://www.miamidadecountyauditorium.org/event/salsa-night/
LOCATION:MDCA Mid-Stage Theatre\, 2901 West Flagler St\, Miami\, FL\, 33135\, United States
ATTACH;FMTTYPE=image/jpeg:https://www.miamidadecountyauditorium.org/wp-content/uploads/2015/07/Ife.Ile2015B.jpg
GEO:25.773093;-80.241163
X-APPLE-STRUCTURED-LOCATION;VALUE=URI;X-ADDRESS=MDCA Mid-Stage Theatre 2901 West Flagler St Miami FL 33135 United States;X-APPLE-RADIUS=500;X-TITLE=2901 West Flagler St:geo:-80.241163,25.773093
END:VEVENT
BEGIN:VEVENT
DTSTART;TZID=America/New_York:20150628T170000
DTEND;TZID=America/New_York:20150628T190000
DTSTAMP:20260424T170420
CREATED:20150607T235754Z
LAST-MODIFIED:20150607T235754Z
UID:10007919-1435510800-1435518000@www.miamidadecountyauditorium.org
SUMMARY:Dr. Ed Calle Sinfónico
DESCRIPTION:Dr. Ed Calle brings Sinfónico to our Mid-Stage Theatre. Featuring Negroni’s Trio and a 30 piece orchestra it promises to be an unforgettable evening.
URL:https://www.miamidadecountyauditorium.org/event/dr-ed-calle-sinfonico/
LOCATION:MDCA Mid-Stage Theatre\, 2901 West Flagler St\, Miami\, FL\, 33135\, United States
ATTACH;FMTTYPE=image/jpeg:https://www.miamidadecountyauditorium.org/wp-content/uploads/2015/06/EdCalle.jpg
GEO:25.773093;-80.241163
X-APPLE-STRUCTURED-LOCATION;VALUE=URI;X-ADDRESS=MDCA Mid-Stage Theatre 2901 West Flagler St Miami FL 33135 United States;X-APPLE-RADIUS=500;X-TITLE=2901 West Flagler St:geo:-80.241163,25.773093
END:VEVENT
BEGIN:VEVENT
DTSTART;TZID=America/New_York:20150523T200000
DTEND;TZID=America/New_York:20150524T170000
DTSTAMP:20260424T170420
CREATED:20150413T194329Z
LAST-MODIFIED:20150418T225223Z
UID:10007873-1432411200-1432486800@www.miamidadecountyauditorium.org
SUMMARY:Ballet Flamenco La Rosa
DESCRIPTION:Using August Strindberg’s El Pardre as a springboard\, Ballet Flameco la Rosa sets off on creating an original choreography.
URL:https://www.miamidadecountyauditorium.org/event/ballet-flamenco-la-rosa/
LOCATION:MDCA Mid-Stage Theatre\, 2901 West Flagler St\, Miami\, FL\, 33135\, United States
GEO:25.773093;-80.241163
X-APPLE-STRUCTURED-LOCATION;VALUE=URI;X-ADDRESS=MDCA Mid-Stage Theatre 2901 West Flagler St Miami FL 33135 United States;X-APPLE-RADIUS=500;X-TITLE=2901 West Flagler St:geo:-80.241163,25.773093
END:VEVENT
END:VCALENDAR