BEGIN:VCALENDAR
VERSION:2.0
PRODID:-//Miami Dade County Auditorium - ECPv6.15.20//NONSGML v1.0//EN
CALSCALE:GREGORIAN
METHOD:PUBLISH
X-ORIGINAL-URL:https://www.miamidadecountyauditorium.org
X-WR-CALDESC:Events for Miami Dade County Auditorium
REFRESH-INTERVAL;VALUE=DURATION:PT1H
X-Robots-Tag:noindex
X-PUBLISHED-TTL:PT1H
BEGIN:VTIMEZONE
TZID:America/New_York
BEGIN:DAYLIGHT
TZOFFSETFROM:-0500
TZOFFSETTO:-0400
TZNAME:EDT
DTSTART:20230312T070000
END:DAYLIGHT
BEGIN:STANDARD
TZOFFSETFROM:-0400
TZOFFSETTO:-0500
TZNAME:EST
DTSTART:20231105T060000
END:STANDARD
BEGIN:DAYLIGHT
TZOFFSETFROM:-0500
TZOFFSETTO:-0400
TZNAME:EDT
DTSTART:20240310T070000
END:DAYLIGHT
BEGIN:STANDARD
TZOFFSETFROM:-0400
TZOFFSETTO:-0500
TZNAME:EST
DTSTART:20241103T060000
END:STANDARD
BEGIN:DAYLIGHT
TZOFFSETFROM:-0500
TZOFFSETTO:-0400
TZNAME:EDT
DTSTART:20250309T070000
END:DAYLIGHT
BEGIN:STANDARD
TZOFFSETFROM:-0400
TZOFFSETTO:-0500
TZNAME:EST
DTSTART:20251102T060000
END:STANDARD
END:VTIMEZONE
BEGIN:VEVENT
DTSTART;TZID=America/New_York:20241213T200000
DTEND;TZID=America/New_York:20241213T200000
DTSTAMP:20260423T060424
CREATED:20240905T134743Z
LAST-MODIFIED:20240920T164434Z
UID:10009545-1734120000-1734120000@www.miamidadecountyauditorium.org
SUMMARY:MDCA Away from Home: Jose Negroni & Friends presents "Ready for Christmas"
DESCRIPTION:José Negroni and Miami-Dade County Auditorium presents “Ready for Christmas” (Listo Para La Navidad) on Friday\, December 13 at the Koubek Center. \nThis year\, three-time Latin Grammy® Nominee pianist and composer Jose Negroni\, featuring several special guest musicians\, choristers\, and soloists\, presents us with the best Latin and American Christmas music! Guest artists feature Nomar Negroni\, a percussionist musician who stood out at a very early age for his brilliant and musical solos\, Dr. Ed Calle\, one of the most recorded musical artists in history\, Cuban-American singer Lucy Grau\, experienced in various genres of pop and tropical music\, and Solange Merdinia\, American-Armenian-Argentine artist with an interpretive musical ability in different languages. With his experienced musicians\, Jose Negroni and friends will embroider new arrangements to each of the traditional Christmas songs\, giving it a touch of rhythmic and youthful freshness. \nPart of MDCA’s Very Merry Holiday Season 2024 series. \n————————— \n \nThis performance is part of Miami-Dade County Auditorium’s Away From Home Series. Programming continues to thrive during this period of renovation through the Away From Home Series. The series consists of off-site performances presented at alternative venues with community partners\, ensuring that the magic of the performing arts continues to captivate audiences throughout this transition period. The Away From Home Series presents dance\, theatre\, and music performances that take place at a variety of South Florida facilities and cultural centers. MDCA remains committed to keeping the spirit of creativity alive during this monumental endeavor and invites you to join us away from home!
URL:https://www.miamidadecountyauditorium.org/event/afh-2024-jose-negroni-ready-for-christmas/
LOCATION:Koubek Center\, 2705 SW 3rd St.\, Miami\, FL\, 33135\, United States
ATTACH;FMTTYPE=image/jpeg:https://www.miamidadecountyauditorium.org/wp-content/uploads/2021/12/Jose-Negroni-The-Michel-Legrand-Story_web1.jpg
GEO:25.7729289;-80.2410345
X-APPLE-STRUCTURED-LOCATION;VALUE=URI;X-ADDRESS=Koubek Center 2705 SW 3rd St. Miami FL 33135 United States;X-APPLE-RADIUS=500;X-TITLE=2705 SW 3rd St.:geo:-80.2410345,25.7729289
END:VEVENT
BEGIN:VEVENT
DTSTART;TZID=America/New_York:20241012T200000
DTEND;TZID=America/New_York:20241012T200000
DTSTAMP:20260423T060424
CREATED:20240823T144725Z
LAST-MODIFIED:20240823T144725Z
UID:10009543-1728763200-1728763200@www.miamidadecountyauditorium.org
SUMMARY:MDCA Away from Home: Julio Montalvo Cuban Collective Concert
DESCRIPTION:CCEMiami and Miami-Dade County Auditorium presents the Julio Montalvo Cuban Collective Concert on Saturday\, October 12 at the Koubek Center. \nLatin Grammy Award-winner Julio Montalvo will perform with his big band project\, the Julio Montalvo Collective\, offering an extensive repertoire from Latin Jazz to Afro-Cuban music. An ensemble of 6 musicians will perform original pieces and a selection of Cuban\, Brazilian\, and Latin Jazz covers. \nJulio Montalvo Collective es el nombre general del proyecto que este maestro del trombón defiende como solista\, una mezcla de ritmos afrocubanos con las nuevas tendencias del jazz moderno logrando una cálida fusión de New Latín Jazz. En este concierto\, que presenta el Centro Cultural Español junto con el Miami-Dade County Auditorium\, Montalvo se centra en la música afrocubana con toques de jazz latino y nos hace un recorrido de música instrumental y una variedad de temas cantados. \n————————— \n \nThis performance is part of Miami-Dade County Auditorium’s Away From Home Series. Programming continues to thrive during this period of renovation through the Away From Home Series. The series consists of off-site performances presented at alternative venues with community partners\, ensuring that the magic of the performing arts continues to captivate audiences throughout this transition period. The Away From Home Series presents dance\, theatre\, and music performances that take place at a variety of South Florida facilities and cultural centers. MDCA remains committed to keeping the spirit of creativity alive during this monumental endeavor and invites you to join us away from home! \n 
URL:https://www.miamidadecountyauditorium.org/event/mdca-away-from-home-julio-montalvo-cuban-collective-concert/
LOCATION:Koubek Center\, 2705 SW 3rd St.\, Miami\, FL\, 33135\, United States
ATTACH;FMTTYPE=image/png:https://www.miamidadecountyauditorium.org/wp-content/uploads/2024/08/Julio-Montalvo-Cuban-Collective_web-2.png
GEO:25.7729289;-80.2410345
X-APPLE-STRUCTURED-LOCATION;VALUE=URI;X-ADDRESS=Koubek Center 2705 SW 3rd St. Miami FL 33135 United States;X-APPLE-RADIUS=500;X-TITLE=2705 SW 3rd St.:geo:-80.2410345,25.7729289
END:VEVENT
BEGIN:VEVENT
DTSTART;TZID=America/New_York:20240824T200000
DTEND;TZID=America/New_York:20240824T200000
DTSTAMP:20260423T060424
CREATED:20240517T194656Z
LAST-MODIFIED:20240802T135520Z
UID:10009138-1724529600-1724529600@www.miamidadecountyauditorium.org
SUMMARY:MDCA Away from Home: "Negroni Plays BROADWAY"
DESCRIPTION:José Negroni and Miami-Dade County Auditorium presents “Negroni Plays BROADWAY” on Saturday\, August 24 at the Koubek Center. \nWelcome to “Negroni Plays BROADWAY”! Join us for a magical evening filled with the best tunes from Broadway\, performed by three-time Latin Grammy Nominee Pianist and Producer Jose Negroni and the Miami-Dade County Auditorium. Experience this new musical concert with an amazing orchestra\, singers\, and a visual history as we pay tribute to the iconic musicals that have shaped the landscape of American musical theater. The evening will kick off in a magical way with an extraordinary musical celebration\, featuring great Broadway composers and their award-winning musicals numbers. The King and I\, Man of La Mancha\, Cats\, The Phantom of the Opera… Masterpieces that are simply timeless and have defined musical theater as we know it today. “Negroni Plays BROADWAY” Live! You just have to be there! \n————————— \n \nThis performance is part of Miami-Dade County Auditorium’s Away From Home Series. Programming continues to thrive during this period of renovation through the Away From Home Series. The series consists of off-site performances presented at alternative venues with community partners\, ensuring that the magic of the performing arts continues to captivate audiences throughout this transition period. The Away From Home Series presents dance\, theatre\, and music performances that take place at a variety of South Florida facilities and cultural centers. MDCA remains committed to keeping the spirit of creativity alive during this monumental endeavor and invites you to join us away from home!
URL:https://www.miamidadecountyauditorium.org/event/mdca-away-from-home-negroni-plays-broadway/
LOCATION:Koubek Center\, 2705 SW 3rd St.\, Miami\, FL\, 33135\, United States
ATTACH;FMTTYPE=image/jpeg:https://www.miamidadecountyauditorium.org/wp-content/uploads/2020/10/Drive-Through-Theatre-Experience-featuring-Jose-Negroni-Digital-Premiere_second_Web2020.jpg
GEO:25.7729289;-80.2410345
X-APPLE-STRUCTURED-LOCATION;VALUE=URI;X-ADDRESS=Koubek Center 2705 SW 3rd St. Miami FL 33135 United States;X-APPLE-RADIUS=500;X-TITLE=2705 SW 3rd St.:geo:-80.2410345,25.7729289
END:VEVENT
BEGIN:VEVENT
DTSTART;TZID=America/New_York:20240721T140000
DTEND;TZID=America/New_York:20240721T180000
DTSTAMP:20260423T060424
CREATED:20240515T193114Z
LAST-MODIFIED:20240719T200510Z
UID:10009136-1721570400-1721584800@www.miamidadecountyauditorium.org
SUMMARY:International Children's Day 2024
DESCRIPTION:Teatro Avante and Miami-Dade County Auditorium present International Children’s Day\, as part of the 38ᵗʰ International Hispanic Theatre Festival\, on July 21 at the Koubek Center. Limited availability. \n————————— \nJoin us for this free spectacular day-long event with arts & crafts\, food\, activities\, theatre workshops and two showings of a theatre performance for the whole family! International Children’s Day features the theatre performance “Peneque\, Cien Por Cien Valiente” (Peneque\, Always Brave). See the full line-up for the day below: \n2:00 – 3:00 pm\nPintura facial\, personaje en zancos\, y distribución de meriendas\nFace painting\, stilt walker\, and distribution of combo meals \n2:30 – 5:00 pm\nJuegos de Feria\nCarnival Games \n3:00 – 5:00 pm\nTalleres: Pintura\, Títeres\, Danza y Percusión\nWorkshops: Painting\, Puppetry\, Dance and Percussion \n3:00 & 5:00 pm\nEspectáculo: “Peneque\, Cien Por Cien Valiente”\nPerformance: “Peneque\, Always Brave” \n  \nProducciones infantiles Miguel Pino\nEscrita y dirigida por / Written & Directed by Miguel y Antonio Pino \n(Málaga\, España) \nLos caminos y secretos de un titiritero serán desvelados en una entrañable historia de amor. Los primeros días de vida de Miguelito se nutren con lo que va a ser su más poderosa herramienta\, la imaginación. Una pequeña calabaza es su primer juguete e inicia su primer diálogo con objetos; todos los que le rodean sonríen cuando él agita su pequeña calabaza. No lo sabe\, pero es su primer títere. \nA heartwarming love story will unveil the paths and secrets of a puppeteer. Miguelito’s first days of life are nourished by what will become his most potent tool: imagination. A small pumpkin is his first toy\, and he starts his first conversation with objects; everyone around him smiles when he shakes his little pumpkin. He does not know it\, but that is his first puppet. \nEntrada y estacionamiento gratis / Free admission & valet parking \nPresented in Spanish. This performance is part of the 38ᵗʰ International Hispanic Theatre Festival of Miami.  \n————————— \n \nThis performance is part of Miami-Dade County Auditorium’s Away From Home Series. Programming continues to thrive during this period of renovation through the Away From Home Series. The series consists of off-site performances presented at alternative venues with community partners\, ensuring that the magic of the performing arts continues to captivate audiences throughout this transition period. The Away From Home Series presents dance\, theatre\, and music performances that take place at a variety of South Florida facilities and cultural centers. MDCA remains committed to keeping the spirit of creativity alive during this monumental endeavor and invites you to join us away from home!
URL:https://www.miamidadecountyauditorium.org/event/international-childrens-day-2024/
LOCATION:Koubek Center\, 2705 SW 3rd St.\, Miami\, FL\, 33135\, United States
ATTACH;FMTTYPE=image/png:https://www.miamidadecountyauditorium.org/wp-content/uploads/2024/05/IHTF-International-Childrens-Day-2024_AFH_web_1.png
GEO:25.7729289;-80.2410345
X-APPLE-STRUCTURED-LOCATION;VALUE=URI;X-ADDRESS=Koubek Center 2705 SW 3rd St. Miami FL 33135 United States;X-APPLE-RADIUS=500;X-TITLE=2705 SW 3rd St.:geo:-80.2410345,25.7729289
END:VEVENT
BEGIN:VEVENT
DTSTART;TZID=America/New_York:20240615T200000
DTEND;TZID=America/New_York:20240615T200000
DTSTAMP:20260423T060424
CREATED:20240502T182819Z
LAST-MODIFIED:20240514T002057Z
UID:10009126-1718481600-1718481600@www.miamidadecountyauditorium.org
SUMMARY:MDCA Away from Home: "Alacrán o la ceremonia" feat. José Antonio Lucia
DESCRIPTION:CCEMiami and Miami-Dade County Auditorium present “Alacrán o la ceremonia\,” featuring José Antonio Lucia\, on Saturday\, June 15 at the Koubek Center. \nAlacrán surge de todo su esplendor gitano desangrando su historia entre la pulla\, la zambra y la espina. Este canalla se reúne cada noche consigo mismo\, se arranca con un quejido flamenco\, le echa valor y sale a interpretar a “La Cangrejo”\, la que fue su amor y quien ya no está. Alacrán viene a recordarla mientras se instala en la tragicomedia negra\, divertida y absurda que es su vida. Historia de amor\, triángulo amoroso en el mundo de las tabernas sórdidas españolas. \n————————— \n \nThis performance is part of Miami-Dade County Auditorium’s Away From Home Series. Programming continues to thrive during this period of renovation through the Away From Home Series. The series consists of off-site performances presented at alternative venues with community partners\, ensuring that the magic of the performing arts continues to captivate audiences throughout this transition period. The Away From Home Series presents dance\, theatre\, and music performances that take place at a variety of South Florida facilities and cultural centers. MDCA remains committed to keeping the spirit of creativity alive during this monumental endeavor and invites you to join us away from home!
URL:https://www.miamidadecountyauditorium.org/event/mdca-away-from-home-alacran-o-la-ceremonia-feat-jose-antonio-lucia/
LOCATION:Koubek Center\, 2705 SW 3rd St.\, Miami\, FL\, 33135\, United States
ATTACH;FMTTYPE=image/png:https://www.miamidadecountyauditorium.org/wp-content/uploads/2024/05/Alacran-o-la-ceremonia_AFH_web_2.png
GEO:25.7729289;-80.2410345
X-APPLE-STRUCTURED-LOCATION;VALUE=URI;X-ADDRESS=Koubek Center 2705 SW 3rd St. Miami FL 33135 United States;X-APPLE-RADIUS=500;X-TITLE=2705 SW 3rd St.:geo:-80.2410345,25.7729289
END:VEVENT
END:VCALENDAR