BEGIN:VCALENDAR
VERSION:2.0
PRODID:-//Miami Dade County Auditorium - ECPv6.15.20//NONSGML v1.0//EN
CALSCALE:GREGORIAN
METHOD:PUBLISH
X-WR-CALNAME:Miami Dade County Auditorium
X-ORIGINAL-URL:https://www.miamidadecountyauditorium.org
X-WR-CALDESC:Events for Miami Dade County Auditorium
REFRESH-INTERVAL;VALUE=DURATION:PT1H
X-Robots-Tag:noindex
X-PUBLISHED-TTL:PT1H
BEGIN:VTIMEZONE
TZID:America/New_York
BEGIN:DAYLIGHT
TZOFFSETFROM:-0500
TZOFFSETTO:-0400
TZNAME:EDT
DTSTART:20240310T070000
END:DAYLIGHT
BEGIN:STANDARD
TZOFFSETFROM:-0400
TZOFFSETTO:-0500
TZNAME:EST
DTSTART:20241103T060000
END:STANDARD
BEGIN:DAYLIGHT
TZOFFSETFROM:-0500
TZOFFSETTO:-0400
TZNAME:EDT
DTSTART:20250309T070000
END:DAYLIGHT
BEGIN:STANDARD
TZOFFSETFROM:-0400
TZOFFSETTO:-0500
TZNAME:EST
DTSTART:20251102T060000
END:STANDARD
BEGIN:DAYLIGHT
TZOFFSETFROM:-0500
TZOFFSETTO:-0400
TZNAME:EDT
DTSTART:20260308T070000
END:DAYLIGHT
BEGIN:STANDARD
TZOFFSETFROM:-0400
TZOFFSETTO:-0500
TZNAME:EST
DTSTART:20261101T060000
END:STANDARD
END:VTIMEZONE
BEGIN:VEVENT
DTSTART;TZID=America/New_York:20250907T170000
DTEND;TZID=America/New_York:20250907T170000
DTSTAMP:20260423T041927
CREATED:20250722T173252Z
LAST-MODIFIED:20250902T161851Z
UID:10009620-1757264400-1757264400@www.miamidadecountyauditorium.org
SUMMARY:MDCA Away from Home: "All Beethoven's Piano Concertos" by Florida Chamber Orchestra
DESCRIPTION:Florida Chamber Orchestra and Miami-Dade County Auditorium presents “All Beethoven’s Piano Concertos” on Saturday\, September 6 and Sunday\, September 7 at the FIU Wertheim Performing Arts Center.  \nKick off the FCO’s 30th Anniversary Celebration with the power and passion of Beethoven’s five piano concertos performed live in one epic weekend by international award-winning pianists. A musical marathon that will move and inspire you. This is your chance to feel the thrill of Beethoven’s genius like never before. Experience the energy\, emotion\, and brilliance\, featuring soloists Alejandro de Castro\, Cristiana Dragos\, Leo de Maria and Leonel Morales. \nSaturday\, September 6 at 7:30 pm\n• Alejandro de Castro – Piano Concerto No. 1\n• María Soldado Bermúdez – Piano Concerto No. 2\n• Cristiana Dragos – Piano Concerto No. 3 \nSunday\, September 7 at 5:00 pm\n• Nicolás Marín Fumero – Piano Concerto No. 4\n• Leo de María – Piano Concerto No. 5 \n————————— \n \nThis performance is part of Miami-Dade County Auditorium’s Away From Home Series. Programming continues to thrive during this period of renovation through the Away From Home Series. The series consists of off-site performances presented at alternative venues with community partners\, ensuring that the magic of the performing arts continues to captivate audiences throughout this transition period. The Away From Home Series presents dance\, theatre\, and music performances that take place at a variety of South Florida facilities and cultural centers. MDCA remains committed to keeping the spirit of creativity alive during this monumental endeavor and invites you to join us away from home!
URL:https://www.miamidadecountyauditorium.org/event/mdca-away-from-home-all-beethovens-piano-concertos-by-florida-chamber-orchestra/2025-09-07/
LOCATION:FIU Wertheim Performing Arts Center\, 10910 SW 17th St.\, Miami\, FL\, 33172\, United States
ATTACH;FMTTYPE=image/png:https://www.miamidadecountyauditorium.org/wp-content/uploads/2025/07/All-Beethovens-Piano-Concertos-FCO_web2025.png
END:VEVENT
BEGIN:VEVENT
DTSTART;TZID=America/New_York:20250126T170000
DTEND;TZID=America/New_York:20250126T170000
DTSTAMP:20260423T041927
CREATED:20250106T210019Z
LAST-MODIFIED:20250106T210124Z
UID:10009571-1737910800-1737910800@www.miamidadecountyauditorium.org
SUMMARY:MDCA Away from Home: "Romantic Composers" by Florida Chamber Orchestra feat. Adrian Jojatu
DESCRIPTION:Florida Chamber Orchestra and Miami-Dade County Auditorium presents “Romantic Composers\,” featuring guest Adrian Jojatu\, on Sunday\, January 26 at the FIU Wertheim Performing Arts Center. \nMiami-Dade County Auditorium and Florida Chamber Orchestra present Romantic Composers\, featuring renowned classical pieces by virtuoso composers Anton Webern\, Johann Strauss II and Johannes Brahms\, performed by guest soloist Adrian Jojatu and accompanied by Maestro Marlene Urbay. \n————————— \n \nThis performance is part of Miami-Dade County Auditorium’s Away From Home Series. Programming continues to thrive during this period of renovation through the Away From Home Series. The series consists of off-site performances presented at alternative venues with community partners\, ensuring that the magic of the performing arts continues to captivate audiences throughout this transition period. The Away From Home Series presents dance\, theatre\, and music performances that take place at a variety of South Florida facilities and cultural centers. MDCA remains committed to keeping the spirit of creativity alive during this monumental endeavor and invites you to join us away from home!
URL:https://www.miamidadecountyauditorium.org/event/mdca-away-from-home-romantic-composers-by-florida-chamber-orchestra-feat-adrian-jojatu/
LOCATION:FIU Wertheim Performing Arts Center\, 10910 SW 17th St.\, Miami\, FL\, 33172\, United States
ATTACH;FMTTYPE=image/jpeg:https://www.miamidadecountyauditorium.org/wp-content/uploads/2023/07/Florida-Chamber-Orchestra-FCO_web2023.jpg
END:VEVENT
END:VCALENDAR