BEGIN:VCALENDAR
VERSION:2.0
PRODID:-//Miami Dade County Auditorium - ECPv6.15.20//NONSGML v1.0//EN
CALSCALE:GREGORIAN
METHOD:PUBLISH
X-WR-CALNAME:Miami Dade County Auditorium
X-ORIGINAL-URL:https://www.miamidadecountyauditorium.org
X-WR-CALDESC:Events for Miami Dade County Auditorium
REFRESH-INTERVAL;VALUE=DURATION:PT1H
X-Robots-Tag:noindex
X-PUBLISHED-TTL:PT1H
BEGIN:VTIMEZONE
TZID:America/New_York
BEGIN:DAYLIGHT
TZOFFSETFROM:-0500
TZOFFSETTO:-0400
TZNAME:EDT
DTSTART:20240310T070000
END:DAYLIGHT
BEGIN:STANDARD
TZOFFSETFROM:-0400
TZOFFSETTO:-0500
TZNAME:EST
DTSTART:20241103T060000
END:STANDARD
BEGIN:DAYLIGHT
TZOFFSETFROM:-0500
TZOFFSETTO:-0400
TZNAME:EDT
DTSTART:20250309T070000
END:DAYLIGHT
BEGIN:STANDARD
TZOFFSETFROM:-0400
TZOFFSETTO:-0500
TZNAME:EST
DTSTART:20251102T060000
END:STANDARD
BEGIN:DAYLIGHT
TZOFFSETFROM:-0500
TZOFFSETTO:-0400
TZNAME:EDT
DTSTART:20260308T070000
END:DAYLIGHT
BEGIN:STANDARD
TZOFFSETFROM:-0400
TZOFFSETTO:-0500
TZNAME:EST
DTSTART:20261101T060000
END:STANDARD
END:VTIMEZONE
BEGIN:VEVENT
DTSTART;TZID=America/New_York:20251012T163000
DTEND;TZID=America/New_York:20251012T163000
DTSTAMP:20260423T073258
CREATED:20250630T135051Z
LAST-MODIFIED:20250825T132329Z
UID:10009618-1760286600-1760286600@www.miamidadecountyauditorium.org
SUMMARY:MDCA Away from Home: Cecilia Valdés en Concierto de Gonzalo Roig
DESCRIPTION:Marti Productions\, Inc.\, in partnership with Miami-Dade County Auditorium\, presents Cecilia Valdés in Concert by Gonzalo Roig on October 11 & 12 at the Dennis C. Moss Cultural Arts Center.  \nThe Cuban zarzuela Cecilia Valdés\, considered a signature work by maestro Gonzalo Roig\, returns to celebrate Hispanic Heritage Week 2025. This concert presentation will revive the musical pieces from the original\, premiered in 1932 in Cuba\, and includes artistic direction by Manny Albelo and musical direction by Marlene Urbay leading the Florida Chamber Orchestra. \nThis presentation highlights the participation of the IFÉ-ILÉ Afro Cuban Ballet Company\, directed by Neri Torres\, while the choral sections are performed by Voices of Miami\, conducted by Greisel Domínguez. Featuring the great Cuban-American soprano Église Gutiérrez in the role of Cecilia Valdés on Saturday night\, October 11 and Puerto Rican soprano Marinel Cruz on Sunday\, October 12. On both nights\, the role of Leonardo de Gamboa will be played by Uruguayan tenor Martin Nusspaumer\, along with renowned figures from the opera and theater worlds. \nPresented in Spanish (Presentado en español). \n————————— \n \nThis performance is part of Miami-Dade County Auditorium’s Away From Home Series. Programming continues to thrive during this period of renovation through the Away From Home Series. The series consists of off-site performances presented at alternative venues with community partners\, ensuring that the magic of the performing arts continues to captivate audiences throughout this transition period. The Away From Home Series presents dance\, theatre\, and music performances that take place at a variety of South Florida facilities and cultural centers. MDCA remains committed to keeping the spirit of creativity alive during this monumental endeavor and invites you to join us away from home! \n 
URL:https://www.miamidadecountyauditorium.org/event/mdca-away-from-home-cecilia-valdes-de-gonzalo-roig-en-concierto-2025/2025-10-12/
LOCATION:Dennis C. Moss Cultural Arts Center\, 10950 SW 211 St.\, Cutler Bay\, FL\, 33189\, United States
ATTACH;FMTTYPE=image/png:https://www.miamidadecountyauditorium.org/wp-content/uploads/2025/06/Cecilia-Valdes_web1-1.png
END:VEVENT
END:VCALENDAR