BEGIN:VCALENDAR
VERSION:2.0
PRODID:-//Miami Dade County Auditorium - ECPv6.15.20//NONSGML v1.0//EN
CALSCALE:GREGORIAN
METHOD:PUBLISH
X-WR-CALNAME:Miami Dade County Auditorium
X-ORIGINAL-URL:https://www.miamidadecountyauditorium.org
X-WR-CALDESC:Events for Miami Dade County Auditorium
REFRESH-INTERVAL;VALUE=DURATION:PT1H
X-Robots-Tag:noindex
X-PUBLISHED-TTL:PT1H
BEGIN:VTIMEZONE
TZID:America/New_York
BEGIN:DAYLIGHT
TZOFFSETFROM:-0500
TZOFFSETTO:-0400
TZNAME:EDT
DTSTART:20210314T070000
END:DAYLIGHT
BEGIN:STANDARD
TZOFFSETFROM:-0400
TZOFFSETTO:-0500
TZNAME:EST
DTSTART:20211107T060000
END:STANDARD
BEGIN:DAYLIGHT
TZOFFSETFROM:-0500
TZOFFSETTO:-0400
TZNAME:EDT
DTSTART:20220313T070000
END:DAYLIGHT
BEGIN:STANDARD
TZOFFSETFROM:-0400
TZOFFSETTO:-0500
TZNAME:EST
DTSTART:20221106T060000
END:STANDARD
BEGIN:DAYLIGHT
TZOFFSETFROM:-0500
TZOFFSETTO:-0400
TZNAME:EDT
DTSTART:20230312T070000
END:DAYLIGHT
BEGIN:STANDARD
TZOFFSETFROM:-0400
TZOFFSETTO:-0500
TZNAME:EST
DTSTART:20231105T060000
END:STANDARD
END:VTIMEZONE
BEGIN:VEVENT
DTSTART;TZID=America/New_York:20221103T100000
DTEND;TZID=America/New_York:20221103T100000
DTSTAMP:20260424T170424
CREATED:20220130T013732Z
LAST-MODIFIED:20220716T214859Z
UID:10008430-1667469600-1667469600@www.miamidadecountyauditorium.org
SUMMARY:Community Grants (CG) Panel Meeting
DESCRIPTION:
URL:https://www.miamidadecountyauditorium.org/event/community-grants-cg-panel-meeting/2022-11-03/
LOCATION:2901 W Flagler St\, Miami\, FL\, 33135\, United States
END:VEVENT
END:VCALENDAR