BEGIN:VCALENDAR
VERSION:2.0
PRODID:-//Miami Dade County Auditorium - ECPv6.15.20//NONSGML v1.0//EN
CALSCALE:GREGORIAN
METHOD:PUBLISH
X-ORIGINAL-URL:https://www.miamidadecountyauditorium.org
X-WR-CALDESC:Events for Miami Dade County Auditorium
REFRESH-INTERVAL;VALUE=DURATION:PT1H
X-Robots-Tag:noindex
X-PUBLISHED-TTL:PT1H
BEGIN:VTIMEZONE
TZID:America/New_York
BEGIN:DAYLIGHT
TZOFFSETFROM:-0500
TZOFFSETTO:-0400
TZNAME:EDT
DTSTART:20190310T070000
END:DAYLIGHT
BEGIN:STANDARD
TZOFFSETFROM:-0400
TZOFFSETTO:-0500
TZNAME:EST
DTSTART:20191103T060000
END:STANDARD
BEGIN:DAYLIGHT
TZOFFSETFROM:-0500
TZOFFSETTO:-0400
TZNAME:EDT
DTSTART:20200308T070000
END:DAYLIGHT
BEGIN:STANDARD
TZOFFSETFROM:-0400
TZOFFSETTO:-0500
TZNAME:EST
DTSTART:20201101T060000
END:STANDARD
BEGIN:DAYLIGHT
TZOFFSETFROM:-0500
TZOFFSETTO:-0400
TZNAME:EDT
DTSTART:20210314T070000
END:DAYLIGHT
BEGIN:STANDARD
TZOFFSETFROM:-0400
TZOFFSETTO:-0500
TZNAME:EST
DTSTART:20211107T060000
END:STANDARD
END:VTIMEZONE
BEGIN:VEVENT
DTSTART;TZID=America/New_York:20200510T080000
DTEND;TZID=America/New_York:20200510T170000
DTSTAMP:20260423T201118
CREATED:20201023T182412Z
LAST-MODIFIED:20201023T182412Z
UID:10008752-1589097600-1589130000@www.miamidadecountyauditorium.org
SUMMARY:CANCELED / Alexis Valdez Live!
DESCRIPTION:CANCELED: In order to ensure public health in response to the threat of Coronavirus (COVID-19)\, this presentation of Alexis Valdez Live!\, scheduled for May 10\, has been canceled. We apologize for the inconvenience. Tickets may be refunded at the point of purchase. For more information or possible reschedule dates\, please call the Miami-Dade County Auditorium Box Office at (305) 547-5414. \nFor more information and updates on Coronavirus (COVID-19) from Miami-Dade County\, visit www.MiamiDade.gov/coronavirus. \nThe popular TV personality brings his unique brand of humor to the stage once again. As he’s done in 2017 and 2018\, this performance will be a celebration on Mother’s Day. \nPLEASE NOTE: New procedures are being implemented in an effort to enhance the safety of our patrons and all those who visit MDCA. These new measures may include bag checks at our lobby doors. Please allow yourself a bit of extra time while planning your trip.
URL:https://www.miamidadecountyauditorium.org/event/canceled-alexis-valdez-live/
LOCATION:2901 W Flagler St\, Miami\, FL\, 33135\, United States
ATTACH;FMTTYPE=image/jpeg:https://www.miamidadecountyauditorium.org/wp-content/uploads/2020/10/Alexis-Valdez-Live_web.jpg
END:VEVENT
END:VCALENDAR