BEGIN:VCALENDAR
VERSION:2.0
PRODID:-//Miami Dade County Auditorium - ECPv6.15.20//NONSGML v1.0//EN
CALSCALE:GREGORIAN
METHOD:PUBLISH
X-WR-CALNAME:Miami Dade County Auditorium
X-ORIGINAL-URL:https://www.miamidadecountyauditorium.org
X-WR-CALDESC:Events for Miami Dade County Auditorium
REFRESH-INTERVAL;VALUE=DURATION:PT1H
X-Robots-Tag:noindex
X-PUBLISHED-TTL:PT1H
BEGIN:VTIMEZONE
TZID:America/New_York
BEGIN:DAYLIGHT
TZOFFSETFROM:-0500
TZOFFSETTO:-0400
TZNAME:EDT
DTSTART:20190310T070000
END:DAYLIGHT
BEGIN:STANDARD
TZOFFSETFROM:-0400
TZOFFSETTO:-0500
TZNAME:EST
DTSTART:20191103T060000
END:STANDARD
BEGIN:DAYLIGHT
TZOFFSETFROM:-0500
TZOFFSETTO:-0400
TZNAME:EDT
DTSTART:20200308T070000
END:DAYLIGHT
BEGIN:STANDARD
TZOFFSETFROM:-0400
TZOFFSETTO:-0500
TZNAME:EST
DTSTART:20201101T060000
END:STANDARD
BEGIN:DAYLIGHT
TZOFFSETFROM:-0500
TZOFFSETTO:-0400
TZNAME:EDT
DTSTART:20210314T070000
END:DAYLIGHT
BEGIN:STANDARD
TZOFFSETFROM:-0400
TZOFFSETTO:-0500
TZNAME:EST
DTSTART:20211107T060000
END:STANDARD
END:VTIMEZONE
BEGIN:VEVENT
DTSTART;TZID=America/New_York:20200509T080000
DTEND;TZID=America/New_York:20200509T170000
DTSTAMP:20260423T183808
CREATED:20201023T182130Z
LAST-MODIFIED:20201023T182130Z
UID:10008751-1589011200-1589043600@www.miamidadecountyauditorium.org
SUMMARY:CANCELED / Albita\, Lucrecia y Lena en concierto: "Mujeres a Contratiempo"
DESCRIPTION:CANCELED: In order to ensure public health in response to the threat of Coronavirus (COVID-19)\, this presentation of Albita\, Lucrecia y Lena en concierto: “Mujeres a Contratiempo”\, scheduled for May 9\, has been canceled. We apologize for the inconvenience. Tickets may be refunded at the point of purchase. For more information or possible reschedule dates\, please call the Miami-Dade County Auditorium Box Office at (305) 547-5414. \nFor more information and updates on Coronavirus (COVID-19) from Miami-Dade County\, visit www.MiamiDade.gov/coronavirus. \nTres mujeres\, tres voces\, tres musicos. Albita\, Lucrecia y Lena se unen para contarnos sus vidas\, sus canciones\, sus alegrias y sus dolores. Ellas son “Mujeres a Contratiempo.” \nPLEASE NOTE: New procedures are being implemented in an effort to enhance the safety of our patrons and all those who visit MDCA. These new measures may include bag checks at our lobby doors. Please allow yourself a bit of extra time while planning your trip.
URL:https://www.miamidadecountyauditorium.org/event/canceled-albita-lucrecia-y-lena-en-concierto-mujeres-a-contratiempo/
LOCATION:2901 W Flagler St\, Miami\, FL\, 33135\, United States
ATTACH;FMTTYPE=image/jpeg:https://www.miamidadecountyauditorium.org/wp-content/uploads/2020/10/Albita_Web2020_4.jpg
END:VEVENT
END:VCALENDAR