BEGIN:VCALENDAR
VERSION:2.0
PRODID:-//Miami Dade County Auditorium - ECPv6.15.20//NONSGML v1.0//EN
CALSCALE:GREGORIAN
METHOD:PUBLISH
X-ORIGINAL-URL:https://www.miamidadecountyauditorium.org
X-WR-CALDESC:Events for Miami Dade County Auditorium
REFRESH-INTERVAL;VALUE=DURATION:PT1H
X-Robots-Tag:noindex
X-PUBLISHED-TTL:PT1H
BEGIN:VTIMEZONE
TZID:America/New_York
BEGIN:DAYLIGHT
TZOFFSETFROM:-0500
TZOFFSETTO:-0400
TZNAME:EDT
DTSTART:20250309T070000
END:DAYLIGHT
BEGIN:STANDARD
TZOFFSETFROM:-0400
TZOFFSETTO:-0500
TZNAME:EST
DTSTART:20251102T060000
END:STANDARD
BEGIN:DAYLIGHT
TZOFFSETFROM:-0500
TZOFFSETTO:-0400
TZNAME:EDT
DTSTART:20260308T070000
END:DAYLIGHT
BEGIN:STANDARD
TZOFFSETFROM:-0400
TZOFFSETTO:-0500
TZNAME:EST
DTSTART:20261101T060000
END:STANDARD
BEGIN:DAYLIGHT
TZOFFSETFROM:-0500
TZOFFSETTO:-0400
TZNAME:EDT
DTSTART:20270314T070000
END:DAYLIGHT
BEGIN:STANDARD
TZOFFSETFROM:-0400
TZOFFSETTO:-0500
TZNAME:EST
DTSTART:20271107T060000
END:STANDARD
END:VTIMEZONE
BEGIN:VEVENT
DTSTART;TZID=America/New_York:20260301T173000
DTEND;TZID=America/New_York:20260301T173000
DTSTAMP:20260422T190946
CREATED:20260120T185057Z
LAST-MODIFIED:20260227T162855Z
UID:10009666-1772386200-1772386200@www.miamidadecountyauditorium.org
SUMMARY:MDCA Away from Home: ARCA Images presents "Si me Pudieras Querer" Un Tributo a Bola de Nieve
DESCRIPTION:TICKETS ARE NOW SOLD OUT!\nARCA Images and Miami-Dade County Auditorium\, in partnership with the Roxy Theater Group\, presents “Si me Pudieras Querer” Un Tributo a Bola de Nieve on Sunday\, March 1 at 5:30 pm at the Westchester Cultural Arts Center.  \nDe los creadores de “¿Y cómo fue? Una historia de Benny Moré\,” llega “Si me Pudieras Querer” Un Tributo a Bola de Nieve\, una velada íntima que recorre el universo artístico de Ignacio Villa: pianista\, cantante y figura irrepetible de la música cubana y latinoamericana. Presentado por ARCA Images\, Roxy Theatre Group y Miami-Dade County Auditorium\, el espectáculo entrelaza música y relato para revelar al hombre detrás del mito: un artista que no se acompañaba al piano\, sino que dialogaba con él\, y que transformaba cada canción en una escena viva\, cargada de humor\, melancolía y verdad. \nDesde su infancia en Guanabacoa hasta la consolidación de una identidad artística única\, el homenaje sigue el camino de Bola de Nieve hacia un estilo donde la emoción manda y el piano es protagonista. Con una cuidada selección musical\, “Si me Pudieras Querer”… celebra a un performer de intensidad dramática inimitable\, cuya expresividad llevó la música cubana a escenarios de Latinoamérica\, Estados Unidos y Europa. Una noche pensada para quienes aman la música\, la memoria cultural y el gran escenario. \n————————— \n \nThis performance is part of Miami-Dade County Auditorium’s Away From Home Series. Programming continues to thrive during this period of renovation through the Away From Home Series. The series consists of off-site performances presented at alternative venues with community partners\, ensuring that the magic of the performing arts continues to captivate audiences throughout this transition period. The Away From Home Series presents dance\, theatre\, and music performances that take place at a variety of South Florida facilities and cultural centers. MDCA remains committed to keeping the spirit of creativity alive during this monumental endeavor and invites you to join us away from home!
URL:https://www.miamidadecountyauditorium.org/event/mdca-away-from-home-arca-images-presents-si-me-pudieras-querer-un-tributo-a-bola-de-nieve/
LOCATION:Westchester Cultural Arts Center\, 7930 SW 40th St\, Miami\, FL\, 33155\, United States
ATTACH;FMTTYPE=image/png:https://www.miamidadecountyauditorium.org/wp-content/uploads/2026/01/ARCA-Images_Si-me-pudieras-Querer_web2026.png
GEO:25.7729289;-80.2410345
X-APPLE-STRUCTURED-LOCATION;VALUE=URI;X-ADDRESS=Westchester Cultural Arts Center 7930 SW 40th St Miami FL 33155 United States;X-APPLE-RADIUS=500;X-TITLE=7930 SW 40th St:geo:-80.2410345,25.7729289
END:VEVENT
BEGIN:VEVENT
DTSTART;TZID=America/New_York:20260307T200000
DTEND;TZID=America/New_York:20260307T200000
DTSTAMP:20260422T190946
CREATED:20260115T140143Z
LAST-MODIFIED:20260206T144106Z
UID:10009665-1772913600-1772913600@www.miamidadecountyauditorium.org
SUMMARY:MDCA Away from Home: CCEMiami presents Daniela Padrón: Bach to Venezuela
DESCRIPTION:The Cultural Center of Spain in Miami (CCEMiami) and Miami-Dade County Auditorium\, in collaboration with the Roxy Theater Group\, presents Daniela Padrón: Bach to Venezuela on Saturday\, March 7 at 8:00 pm at the Westchester Cultural Arts Center.  \nJoin the Latin Grammy winner violinist Daniela Padrón in a vibrant\, genre-defying musical tribute to the album that launched her international career. A decade after its release\, Bach to Venezuela (2016) continues to enchant audiences by transforming beloved works of Johann Sebastian Bach with the rich folkloric rhythms of Venezuela\, from joropo and gaita to merengue and more\, creating a thrilling fusion of Baroque genius and Latin American soul. \nThis innovative project has taken Daniela and her ensemble to stages across the United States. Featuring violin alongside Venezuelan cuatro\, ethnic percussion\, and bass\, this special anniversary performance honors the album that opened doors\, connected cultures\, and reimagined tradition for a whole new audience. \n \n————————— \n \nThis performance is part of Miami-Dade County Auditorium’s Away From Home Series. Programming continues to thrive during this period of renovation through the Away From Home Series. The series consists of off-site performances presented at alternative venues with community partners\, ensuring that the magic of the performing arts continues to captivate audiences throughout this transition period. The Away From Home Series presents dance\, theatre\, and music performances that take place at a variety of South Florida facilities and cultural centers. MDCA remains committed to keeping the spirit of creativity alive during this monumental endeavor and invites you to join us away from home!
URL:https://www.miamidadecountyauditorium.org/event/mdca-afh-ccemiami-daniela-padron-bach-to-venezuela-2026/
LOCATION:Westchester Cultural Arts Center\, 7930 SW 40th St\, Miami\, FL\, 33155\, United States
ATTACH;FMTTYPE=image/png:https://www.miamidadecountyauditorium.org/wp-content/uploads/2026/01/CCE-Daniela-Padron-Bach-to-Venezuela_web2026_1.png
GEO:25.7729289;-80.2410345
X-APPLE-STRUCTURED-LOCATION;VALUE=URI;X-ADDRESS=Westchester Cultural Arts Center 7930 SW 40th St Miami FL 33155 United States;X-APPLE-RADIUS=500;X-TITLE=7930 SW 40th St:geo:-80.2410345,25.7729289
END:VEVENT
BEGIN:VEVENT
DTSTART;TZID=America/New_York:20260314T193000
DTEND;TZID=America/New_York:20260314T193000
DTSTAMP:20260422T190946
CREATED:20260211T194154Z
LAST-MODIFIED:20260226T182604Z
UID:10009648-1773516600-1773516600@www.miamidadecountyauditorium.org
SUMMARY:MDCA Away from Home: Florida Chamber Orchestra presents "Sounds of the Americas"
DESCRIPTION:Florida Chamber Orchestra and Miami-Dade County Auditorium presents “Sounds of the Americas” classical music concert on Saturday\, March 14 at 7:30 pm at the Sanctuary of the Arts.  \nCelebrate three decades of musical excellence with Marlene Urbay and the Florida Chamber Orchestra\, who will guide you on a journey through the rich classical and traditional melodies of Latin America. Famous and popular melodies from Mexico\, Argentina\, Cuba\, Puerto Rico\, Brazil\, Colombia\, the Dominican Republic\, and Venezuela by renowned Latin American composers such as Rafael Hernández\, Astor Piazzolla\, José Pablo Moncayo\, Arturo Márquez\, Gonzalo Roig\, Miguel Matamoros\, and many others. \n————————— \n \nThis performance is part of Miami-Dade County Auditorium’s Away From Home Series. Programming continues to thrive during this period of renovation through the Away From Home Series. The series consists of off-site performances presented at alternative venues with community partners\, ensuring that the magic of the performing arts continues to captivate audiences throughout this transition period. The Away From Home Series presents dance\, theatre\, and music performances that take place at a variety of South Florida facilities and cultural centers. MDCA remains committed to keeping the spirit of creativity alive during this monumental endeavor and invites you to join us away from home!
URL:https://www.miamidadecountyauditorium.org/event/afh-florida-chamber-orchestra-march-2026/
LOCATION:Sanctuary of the Arts\, 410 Andalusia Ave.\, Coral Gables\, FL\, 33134\, United States
ATTACH;FMTTYPE=image/jpeg:https://www.miamidadecountyauditorium.org/wp-content/uploads/2023/07/Florida-Chamber-Orchestra-FCO_web2023.jpg
GEO:25.7729289;-80.2410345
X-APPLE-STRUCTURED-LOCATION;VALUE=URI;X-ADDRESS=Sanctuary of the Arts 410 Andalusia Ave. Coral Gables FL 33134 United States;X-APPLE-RADIUS=500;X-TITLE=410 Andalusia Ave.:geo:-80.2410345,25.7729289
END:VEVENT
BEGIN:VEVENT
DTSTART;TZID=America/New_York:20260320T203000
DTEND;TZID=America/New_York:20260320T203000
DTSTAMP:20260422T190946
CREATED:20260219T180249Z
LAST-MODIFIED:20260219T180536Z
UID:10009668-1774038600-1774038600@www.miamidadecountyauditorium.org
SUMMARY:MDCA Away from Home: Bistoury Physical Theatre and Film "Soft Zone" & "Mechanical Ballet"
DESCRIPTION:Bistoury Physical Theatre and Film and Miami-Dade County Auditorium\, in collaboration with O Cinema\, presents “Soft Zone\,” directed by Carla Forte\, and “Mechanical Ballet\,” directed by Alexey Taran\, performed across two evenings on Friday\, March 20 and Saturday\, March 21 at 8:30 pm\, at Little River Performance Space.  \nEach evening features both works in a shared program\, bringing the pieces into direct and indirect dialogue. While created independently\, both works explore the body as a site of perception\, control\, vulnerability\, and resistance. Through movement\, image\, sound\, and presence\, the program offers an immersive experience reflecting on contemporary systems of power while opening space for sensitivity\, pause\, and transformation. \nMechanical Ballet is a multimedia dance work that exposes the friction between the human body and the mechanical\, digital\, industrial\, and power systems that shape contemporary life. Rooted in movement born from pure emotion\, the piece reveals how the body is progressively shaped by efficiency\, automation\, and constant productivity. The work offers a sensory and critical experience reflecting on dehumanization and alienation\, while opening space for sensitivity and presence as acts of resistance. \nSoft Zone is a multimedia performance that inhabits the threshold between body and thought\, where listening and presence create a shared\, sensitive space for transformation. \n————————— \n \nThis performance is part of Miami-Dade County Auditorium’s Away From Home Series. Programming continues to thrive during this period of renovation through the Away From Home Series. The series consists of off-site performances presented at alternative venues with community partners\, ensuring that the magic of the performing arts continues to captivate audiences throughout this transition period. The Away From Home Series presents dance\, theatre\, and music performances that take place at a variety of South Florida facilities and cultural centers. MDCA remains committed to keeping the spirit of creativity alive during this monumental endeavor and invites you to join us away from home!
URL:https://www.miamidadecountyauditorium.org/event/mdca-afh-bistoury-physical-theatre-and-film-march-2026/2026-03-20/
LOCATION:Little River Performance Space\, 80 NW 72nd St.\, Miami\, FL\, 33150\, United States
ATTACH;FMTTYPE=image/png:https://www.miamidadecountyauditorium.org/wp-content/uploads/2026/01/MechanicalBallet_Webpage_1.png
END:VEVENT
BEGIN:VEVENT
DTSTART;TZID=America/New_York:20260321T203000
DTEND;TZID=America/New_York:20260321T203000
DTSTAMP:20260422T190946
CREATED:20260219T180249Z
LAST-MODIFIED:20260219T180536Z
UID:10009669-1774125000-1774125000@www.miamidadecountyauditorium.org
SUMMARY:MDCA Away from Home: Bistoury Physical Theatre and Film "Soft Zone" & "Mechanical Ballet"
DESCRIPTION:Bistoury Physical Theatre and Film and Miami-Dade County Auditorium\, in collaboration with O Cinema\, presents “Soft Zone\,” directed by Carla Forte\, and “Mechanical Ballet\,” directed by Alexey Taran\, performed across two evenings on Friday\, March 20 and Saturday\, March 21 at 8:30 pm\, at Little River Performance Space.  \nEach evening features both works in a shared program\, bringing the pieces into direct and indirect dialogue. While created independently\, both works explore the body as a site of perception\, control\, vulnerability\, and resistance. Through movement\, image\, sound\, and presence\, the program offers an immersive experience reflecting on contemporary systems of power while opening space for sensitivity\, pause\, and transformation. \nMechanical Ballet is a multimedia dance work that exposes the friction between the human body and the mechanical\, digital\, industrial\, and power systems that shape contemporary life. Rooted in movement born from pure emotion\, the piece reveals how the body is progressively shaped by efficiency\, automation\, and constant productivity. The work offers a sensory and critical experience reflecting on dehumanization and alienation\, while opening space for sensitivity and presence as acts of resistance. \nSoft Zone is a multimedia performance that inhabits the threshold between body and thought\, where listening and presence create a shared\, sensitive space for transformation. \n————————— \n \nThis performance is part of Miami-Dade County Auditorium’s Away From Home Series. Programming continues to thrive during this period of renovation through the Away From Home Series. The series consists of off-site performances presented at alternative venues with community partners\, ensuring that the magic of the performing arts continues to captivate audiences throughout this transition period. The Away From Home Series presents dance\, theatre\, and music performances that take place at a variety of South Florida facilities and cultural centers. MDCA remains committed to keeping the spirit of creativity alive during this monumental endeavor and invites you to join us away from home!
URL:https://www.miamidadecountyauditorium.org/event/mdca-afh-bistoury-physical-theatre-and-film-march-2026/2026-03-21/
LOCATION:Little River Performance Space\, 80 NW 72nd St.\, Miami\, FL\, 33150\, United States
ATTACH;FMTTYPE=image/png:https://www.miamidadecountyauditorium.org/wp-content/uploads/2026/01/MechanicalBallet_Webpage_1.png
END:VEVENT
BEGIN:VEVENT
DTSTART;TZID=America/New_York:20260328T200000
DTEND;TZID=America/New_York:20260328T200000
DTSTAMP:20260422T190946
CREATED:20251113T173819Z
LAST-MODIFIED:20260312T142708Z
UID:10009647-1774728000-1774728000@www.miamidadecountyauditorium.org
SUMMARY:MDCA Away from Home: Dranoff 2 Piano Fusion presents Latin 2 Piano: "A Fuego Lento"
DESCRIPTION:Dranoff 2 Piano Fusion and Miami-Dade County Auditorium presents Latin 2 Piano: A Fuego Lento on Saturday\, March 28 at 8:00 pm at the Pinecrest Gardens Banyan Bowl Theater. \nA celebration of Latin America featuring Venezuelan pianists Vanessa Perez and Kristhyan Benítez. Enjoy innovative 2 piano arrangements of timeless music by legendary Latin songwriters for a nostalgic concert with songs like “Gracias a la vida” by Violeta Parra\, “Moliendo café” by Hugo Blanco\, “Besame Mama\,” by Poncho Sanchez\, “A fuego lento” by Horacio Salganand and the famous “Danzon no. 2” by Arturo Márquez\, among many others. \n————————— \n \nThis performance is part of Miami-Dade County Auditorium’s Away From Home Series. Programming continues to thrive during this period of renovation through the Away From Home Series. The series consists of off-site performances presented at alternative venues with community partners\, ensuring that the magic of the performing arts continues to captivate audiences throughout this transition period. The Away From Home Series presents dance\, theatre\, and music performances that take place at a variety of South Florida facilities and cultural centers. MDCA remains committed to keeping the spirit of creativity alive during this monumental endeavor and invites you to join us away from home! \n 
URL:https://www.miamidadecountyauditorium.org/event/dranoff-latin-2-piano-a-fuego-lento-2026/
LOCATION:Pinecrest Gardens Banyan Bowl Theater\, 11000 Red Road\, Pinecrest\, FL\, 33156\, United States
ATTACH;FMTTYPE=image/png:https://www.miamidadecountyauditorium.org/wp-content/uploads/2025/11/Latin-2-Piano-A-Fuego-Lento_web2025.png
END:VEVENT
END:VCALENDAR