BEGIN:VCALENDAR
VERSION:2.0
PRODID:-//Miami Dade County Auditorium - ECPv6.15.20//NONSGML v1.0//EN
CALSCALE:GREGORIAN
METHOD:PUBLISH
X-WR-CALNAME:Miami Dade County Auditorium
X-ORIGINAL-URL:https://www.miamidadecountyauditorium.org
X-WR-CALDESC:Events for Miami Dade County Auditorium
REFRESH-INTERVAL;VALUE=DURATION:PT1H
X-Robots-Tag:noindex
X-PUBLISHED-TTL:PT1H
BEGIN:VTIMEZONE
TZID:America/New_York
BEGIN:DAYLIGHT
TZOFFSETFROM:-0500
TZOFFSETTO:-0400
TZNAME:EDT
DTSTART:20250309T070000
END:DAYLIGHT
BEGIN:STANDARD
TZOFFSETFROM:-0400
TZOFFSETTO:-0500
TZNAME:EST
DTSTART:20251102T060000
END:STANDARD
BEGIN:DAYLIGHT
TZOFFSETFROM:-0500
TZOFFSETTO:-0400
TZNAME:EDT
DTSTART:20260308T070000
END:DAYLIGHT
BEGIN:STANDARD
TZOFFSETFROM:-0400
TZOFFSETTO:-0500
TZNAME:EST
DTSTART:20261101T060000
END:STANDARD
BEGIN:DAYLIGHT
TZOFFSETFROM:-0500
TZOFFSETTO:-0400
TZNAME:EDT
DTSTART:20270314T070000
END:DAYLIGHT
BEGIN:STANDARD
TZOFFSETFROM:-0400
TZOFFSETTO:-0500
TZNAME:EST
DTSTART:20271107T060000
END:STANDARD
END:VTIMEZONE
BEGIN:VEVENT
DTSTART;TZID=America/New_York:20260207T200000
DTEND;TZID=America/New_York:20260207T200000
DTSTAMP:20260422T203453
CREATED:20251229T143901Z
LAST-MODIFIED:20260204T165531Z
UID:10009644-1770494400-1770494400@www.miamidadecountyauditorium.org
SUMMARY:MDCA Away from Home: Negroni's Trío presents "Flamenco Meets Latin Jazz"
DESCRIPTION:TICKETS ARE NOW SOLD OUT!\nNegroni’s Trío and Miami-Dade County Auditorium present “Flamenco Meets Latin Jazz” on Saturday\, February 7 at 8:00 pm at the Koubek Center. \nUn concierto rico en ritmo\, armonía\, improvisación\, melodías y baile es la presentación que nos traen\, el 7 de febrero\, el pianista José Negroni y MDCA como parte de la serie Away From Home. La libertad y la creatividad\, enlazadas por la pasión que viviremos a través del flamenco y el jazz\, cautivarán nuestra alma. El Trío Negroni (Nomar Negroni y José Negroni)\, junto a Ed Calle\, logra un exquisito sonido de música de cámara. El taconeo rítmico y musical de María Mercedes “La Merche”\, los acentos bailables de José Junco y la voz única del cantaor Salvador de Ángela se fusionan para ofrecernos una experiencia inolvidable en Flamenco Meets Latin Jazz. \nA concert\, an album\, and a musical encounter filled with romance. Three-time Latin Grammy® nominee pianist and composer José Negroni presents an intimate performance that showcases the expressive power of his piano with music that speaks directly to the heart. Featuring Negroni‘s Trío (Nomar Negroni\, José Negroni) and Ed Calle\, with the voice of Salvador de Ángela and flamenco dancers María Mercedes “La Merche” and José Junco. \n————————— \n \nThis performance is part of Miami-Dade County Auditorium’s Away From Home Series. Programming continues to thrive during this period of renovation through the Away From Home Series. The series consists of off-site performances presented at alternative venues with community partners\, ensuring that the magic of the performing arts continues to captivate audiences throughout this transition period. The Away From Home Series presents dance\, theatre\, and music performances that take place at a variety of South Florida facilities and cultural centers. MDCA remains committed to keeping the spirit of creativity alive during this monumental endeavor and invites you to join us away from home!
URL:https://www.miamidadecountyauditorium.org/event/negronis-trio-flamenco-meets-latin-jazz-2026/
LOCATION:Koubek Center\, 2705 SW 3rd St.\, Miami\, FL\, 33135\, United States
ATTACH;FMTTYPE=image/jpeg:https://www.miamidadecountyauditorium.org/wp-content/uploads/2021/12/Jose-Negroni-The-Michel-Legrand-Story_web2.jpg
GEO:25.7729289;-80.2410345
X-APPLE-STRUCTURED-LOCATION;VALUE=URI;X-ADDRESS=Koubek Center 2705 SW 3rd St. Miami FL 33135 United States;X-APPLE-RADIUS=500;X-TITLE=2705 SW 3rd St.:geo:-80.2410345,25.7729289
END:VEVENT
BEGIN:VEVENT
DTSTART;TZID=America/New_York:20260219T203000
DTEND;TZID=America/New_York:20260219T203000
DTSTAMP:20260422T203453
CREATED:20251219T153538Z
LAST-MODIFIED:20260206T175713Z
UID:10009654-1771533000-1771533000@www.miamidadecountyauditorium.org
SUMMARY:MDCA Away from Home: Teatro Avante presents "Lear"
DESCRIPTION:Teatro Avante and Miami-Dade County Auditorium presents “Lear\,” written and directed by Neher Jacqueline Briceño\, on Thursday\, February 19 – Saturday\, February 21 at 8:30 pm and Sunday\, February 22 at 5:00 pm at the Westchester Cultural Arts Center. \nInspirada en “El Rey Lear” de William Shakespeare. La caída del poder patriarcal a través de un viaje fragmentado por la memoria del Rey Lear es la premisa que sostiene esta perspectiva contemporánea del clásico Shakespeariano\, donde las confrontaciones internas padre/hijas y las consecuencias del poder toman la palabra. Entre ellos una figura joven\, el Bufón. El eco\, el puente que irrumpe con verdades que ya no pueden callarse porque en Lear el tiempo no avanza\, se repite\, se disuelve\, se abre como una herida que transforma la memoria del viejo Rey en un campo de batalla. \nInspired by William Shakespeare’s “King Lear.” The demise of patriarchal power through a fragmented journey as seen through King Lear’s memory is the premise that sustains this contemporary perspective on the Shakespearean classic\, where the internal confrontations between father and daughter and the consequences of power take center stage. Among them\, a young figure\, the jester\, the echo\, the bridge\, bursts with truths that can no longer be silenced because in Lear\, time stops moving; it repeats itself\, dissolves\, and opens like a wound that transforms the old King’s memory into a battlefield. \nCast: Julio Rodríguez\, Claudia Valdés\, Claudia Tomás\, Laura Alemán\, and Daniel Romero. \n————————— \n \nThis performance is part of Miami-Dade County Auditorium’s Away From Home Series. Programming continues to thrive during this period of renovation through the Away From Home Series. The series consists of off-site performances presented at alternative venues with community partners\, ensuring that the magic of the performing arts continues to captivate audiences throughout this transition period. The Away From Home Series presents dance\, theatre\, and music performances that take place at a variety of South Florida facilities and cultural centers. MDCA remains committed to keeping the spirit of creativity alive during this monumental endeavor and invites you to join us away from home!
URL:https://www.miamidadecountyauditorium.org/event/mdca-away-from-home-yeatro-avante-lear-2026/2026-02-19/
LOCATION:Westchester Cultural Arts Center\, 7930 SW 40th St\, Miami\, FL\, 33155\, United States
ATTACH;FMTTYPE=image/png:https://www.miamidadecountyauditorium.org/wp-content/uploads/2025/12/ARCA_Lear_web2026.png
GEO:25.7729289;-80.2410345
X-APPLE-STRUCTURED-LOCATION;VALUE=URI;X-ADDRESS=Westchester Cultural Arts Center 7930 SW 40th St Miami FL 33155 United States;X-APPLE-RADIUS=500;X-TITLE=7930 SW 40th St:geo:-80.2410345,25.7729289
END:VEVENT
BEGIN:VEVENT
DTSTART;TZID=America/New_York:20260220T203000
DTEND;TZID=America/New_York:20260220T203000
DTSTAMP:20260422T203453
CREATED:20251219T153538Z
LAST-MODIFIED:20260206T175713Z
UID:10009655-1771619400-1771619400@www.miamidadecountyauditorium.org
SUMMARY:MDCA Away from Home: Teatro Avante presents "Lear"
DESCRIPTION:Teatro Avante and Miami-Dade County Auditorium presents “Lear\,” written and directed by Neher Jacqueline Briceño\, on Thursday\, February 19 – Saturday\, February 21 at 8:30 pm and Sunday\, February 22 at 5:00 pm at the Westchester Cultural Arts Center. \nInspirada en “El Rey Lear” de William Shakespeare. La caída del poder patriarcal a través de un viaje fragmentado por la memoria del Rey Lear es la premisa que sostiene esta perspectiva contemporánea del clásico Shakespeariano\, donde las confrontaciones internas padre/hijas y las consecuencias del poder toman la palabra. Entre ellos una figura joven\, el Bufón. El eco\, el puente que irrumpe con verdades que ya no pueden callarse porque en Lear el tiempo no avanza\, se repite\, se disuelve\, se abre como una herida que transforma la memoria del viejo Rey en un campo de batalla. \nInspired by William Shakespeare’s “King Lear.” The demise of patriarchal power through a fragmented journey as seen through King Lear’s memory is the premise that sustains this contemporary perspective on the Shakespearean classic\, where the internal confrontations between father and daughter and the consequences of power take center stage. Among them\, a young figure\, the jester\, the echo\, the bridge\, bursts with truths that can no longer be silenced because in Lear\, time stops moving; it repeats itself\, dissolves\, and opens like a wound that transforms the old King’s memory into a battlefield. \nCast: Julio Rodríguez\, Claudia Valdés\, Claudia Tomás\, Laura Alemán\, and Daniel Romero. \n————————— \n \nThis performance is part of Miami-Dade County Auditorium’s Away From Home Series. Programming continues to thrive during this period of renovation through the Away From Home Series. The series consists of off-site performances presented at alternative venues with community partners\, ensuring that the magic of the performing arts continues to captivate audiences throughout this transition period. The Away From Home Series presents dance\, theatre\, and music performances that take place at a variety of South Florida facilities and cultural centers. MDCA remains committed to keeping the spirit of creativity alive during this monumental endeavor and invites you to join us away from home!
URL:https://www.miamidadecountyauditorium.org/event/mdca-away-from-home-yeatro-avante-lear-2026/2026-02-20/
LOCATION:Westchester Cultural Arts Center\, 7930 SW 40th St\, Miami\, FL\, 33155\, United States
ATTACH;FMTTYPE=image/png:https://www.miamidadecountyauditorium.org/wp-content/uploads/2025/12/ARCA_Lear_web2026.png
GEO:25.7729289;-80.2410345
X-APPLE-STRUCTURED-LOCATION;VALUE=URI;X-ADDRESS=Westchester Cultural Arts Center 7930 SW 40th St Miami FL 33155 United States;X-APPLE-RADIUS=500;X-TITLE=7930 SW 40th St:geo:-80.2410345,25.7729289
END:VEVENT
BEGIN:VEVENT
DTSTART;TZID=America/New_York:20260221T203000
DTEND;TZID=America/New_York:20260221T203000
DTSTAMP:20260422T203453
CREATED:20251219T153538Z
LAST-MODIFIED:20260206T175713Z
UID:10009656-1771705800-1771705800@www.miamidadecountyauditorium.org
SUMMARY:MDCA Away from Home: Teatro Avante presents "Lear"
DESCRIPTION:Teatro Avante and Miami-Dade County Auditorium presents “Lear\,” written and directed by Neher Jacqueline Briceño\, on Thursday\, February 19 – Saturday\, February 21 at 8:30 pm and Sunday\, February 22 at 5:00 pm at the Westchester Cultural Arts Center. \nInspirada en “El Rey Lear” de William Shakespeare. La caída del poder patriarcal a través de un viaje fragmentado por la memoria del Rey Lear es la premisa que sostiene esta perspectiva contemporánea del clásico Shakespeariano\, donde las confrontaciones internas padre/hijas y las consecuencias del poder toman la palabra. Entre ellos una figura joven\, el Bufón. El eco\, el puente que irrumpe con verdades que ya no pueden callarse porque en Lear el tiempo no avanza\, se repite\, se disuelve\, se abre como una herida que transforma la memoria del viejo Rey en un campo de batalla. \nInspired by William Shakespeare’s “King Lear.” The demise of patriarchal power through a fragmented journey as seen through King Lear’s memory is the premise that sustains this contemporary perspective on the Shakespearean classic\, where the internal confrontations between father and daughter and the consequences of power take center stage. Among them\, a young figure\, the jester\, the echo\, the bridge\, bursts with truths that can no longer be silenced because in Lear\, time stops moving; it repeats itself\, dissolves\, and opens like a wound that transforms the old King’s memory into a battlefield. \nCast: Julio Rodríguez\, Claudia Valdés\, Claudia Tomás\, Laura Alemán\, and Daniel Romero. \n————————— \n \nThis performance is part of Miami-Dade County Auditorium’s Away From Home Series. Programming continues to thrive during this period of renovation through the Away From Home Series. The series consists of off-site performances presented at alternative venues with community partners\, ensuring that the magic of the performing arts continues to captivate audiences throughout this transition period. The Away From Home Series presents dance\, theatre\, and music performances that take place at a variety of South Florida facilities and cultural centers. MDCA remains committed to keeping the spirit of creativity alive during this monumental endeavor and invites you to join us away from home!
URL:https://www.miamidadecountyauditorium.org/event/mdca-away-from-home-yeatro-avante-lear-2026/2026-02-21/
LOCATION:Westchester Cultural Arts Center\, 7930 SW 40th St\, Miami\, FL\, 33155\, United States
ATTACH;FMTTYPE=image/png:https://www.miamidadecountyauditorium.org/wp-content/uploads/2025/12/ARCA_Lear_web2026.png
GEO:25.7729289;-80.2410345
X-APPLE-STRUCTURED-LOCATION;VALUE=URI;X-ADDRESS=Westchester Cultural Arts Center 7930 SW 40th St Miami FL 33155 United States;X-APPLE-RADIUS=500;X-TITLE=7930 SW 40th St:geo:-80.2410345,25.7729289
END:VEVENT
BEGIN:VEVENT
DTSTART;TZID=America/New_York:20260222T170000
DTEND;TZID=America/New_York:20260222T170000
DTSTAMP:20260422T203453
CREATED:20251219T153538Z
LAST-MODIFIED:20260206T175713Z
UID:10009653-1771779600-1771779600@www.miamidadecountyauditorium.org
SUMMARY:MDCA Away from Home: Teatro Avante presents "Lear"
DESCRIPTION:Teatro Avante and Miami-Dade County Auditorium presents “Lear\,” written and directed by Neher Jacqueline Briceño\, on Thursday\, February 19 – Saturday\, February 21 at 8:30 pm and Sunday\, February 22 at 5:00 pm at the Westchester Cultural Arts Center. \nInspirada en “El Rey Lear” de William Shakespeare. La caída del poder patriarcal a través de un viaje fragmentado por la memoria del Rey Lear es la premisa que sostiene esta perspectiva contemporánea del clásico Shakespeariano\, donde las confrontaciones internas padre/hijas y las consecuencias del poder toman la palabra. Entre ellos una figura joven\, el Bufón. El eco\, el puente que irrumpe con verdades que ya no pueden callarse porque en Lear el tiempo no avanza\, se repite\, se disuelve\, se abre como una herida que transforma la memoria del viejo Rey en un campo de batalla. \nInspired by William Shakespeare’s “King Lear.” The demise of patriarchal power through a fragmented journey as seen through King Lear’s memory is the premise that sustains this contemporary perspective on the Shakespearean classic\, where the internal confrontations between father and daughter and the consequences of power take center stage. Among them\, a young figure\, the jester\, the echo\, the bridge\, bursts with truths that can no longer be silenced because in Lear\, time stops moving; it repeats itself\, dissolves\, and opens like a wound that transforms the old King’s memory into a battlefield. \nCast: Julio Rodríguez\, Claudia Valdés\, Claudia Tomás\, Laura Alemán\, and Daniel Romero. \n————————— \n \nThis performance is part of Miami-Dade County Auditorium’s Away From Home Series. Programming continues to thrive during this period of renovation through the Away From Home Series. The series consists of off-site performances presented at alternative venues with community partners\, ensuring that the magic of the performing arts continues to captivate audiences throughout this transition period. The Away From Home Series presents dance\, theatre\, and music performances that take place at a variety of South Florida facilities and cultural centers. MDCA remains committed to keeping the spirit of creativity alive during this monumental endeavor and invites you to join us away from home!
URL:https://www.miamidadecountyauditorium.org/event/mdca-away-from-home-yeatro-avante-lear-2026/2026-02-22/
LOCATION:Westchester Cultural Arts Center\, 7930 SW 40th St\, Miami\, FL\, 33155\, United States
ATTACH;FMTTYPE=image/png:https://www.miamidadecountyauditorium.org/wp-content/uploads/2025/12/ARCA_Lear_web2026.png
GEO:25.7729289;-80.2410345
X-APPLE-STRUCTURED-LOCATION;VALUE=URI;X-ADDRESS=Westchester Cultural Arts Center 7930 SW 40th St Miami FL 33155 United States;X-APPLE-RADIUS=500;X-TITLE=7930 SW 40th St:geo:-80.2410345,25.7729289
END:VEVENT
END:VCALENDAR