BEGIN:VCALENDAR
VERSION:2.0
PRODID:-//Miami Dade County Auditorium - ECPv6.15.20//NONSGML v1.0//EN
CALSCALE:GREGORIAN
METHOD:PUBLISH
X-ORIGINAL-URL:https://www.miamidadecountyauditorium.org
X-WR-CALDESC:Events for Miami Dade County Auditorium
REFRESH-INTERVAL;VALUE=DURATION:PT1H
X-Robots-Tag:noindex
X-PUBLISHED-TTL:PT1H
BEGIN:VTIMEZONE
TZID:America/New_York
BEGIN:DAYLIGHT
TZOFFSETFROM:-0500
TZOFFSETTO:-0400
TZNAME:EDT
DTSTART:20240310T070000
END:DAYLIGHT
BEGIN:STANDARD
TZOFFSETFROM:-0400
TZOFFSETTO:-0500
TZNAME:EST
DTSTART:20241103T060000
END:STANDARD
BEGIN:DAYLIGHT
TZOFFSETFROM:-0500
TZOFFSETTO:-0400
TZNAME:EDT
DTSTART:20250309T070000
END:DAYLIGHT
BEGIN:STANDARD
TZOFFSETFROM:-0400
TZOFFSETTO:-0500
TZNAME:EST
DTSTART:20251102T060000
END:STANDARD
BEGIN:DAYLIGHT
TZOFFSETFROM:-0500
TZOFFSETTO:-0400
TZNAME:EDT
DTSTART:20260308T070000
END:DAYLIGHT
BEGIN:STANDARD
TZOFFSETFROM:-0400
TZOFFSETTO:-0500
TZNAME:EST
DTSTART:20261101T060000
END:STANDARD
END:VTIMEZONE
BEGIN:VEVENT
DTSTART;TZID=America/New_York:20251206T200000
DTEND;TZID=America/New_York:20251206T200000
DTSTAMP:20260422T233551
CREATED:20251008T182952Z
LAST-MODIFIED:20251008T183025Z
UID:10009604-1765051200-1765051200@www.miamidadecountyauditorium.org
SUMMARY:MDCA Away from Home: José Negroni presents "Ready for Christmas - The Brazilian Edition"
DESCRIPTION:José Negroni and Miami-Dade County Auditorium presents “Ready for Christmas – The Brazilian Edition” on Saturday\, December 6 at 8:00 pm at the Koubek Center. \nJosé Negroni\, Rose Max\, and renowned guitarist and producer Ramatis Moraes will fill us with a Brazilian Christmas party this December with samba\, bossa\, and villancicos in “Ready for Christmas – The Brazilian Edition!” Rose Max and Ramatis were born in Rio de Janeiro\, the capital of bossa and samba. Three-time Latin Grammy® Nominee pianist and composer José Negroni\, along with Nomar Negroni\, Puerto Ricans like Coqui\, and the voice and guitar of Rio de Janeiro\, Rose and Ramatis\, present a fusion of rhythms and great melodies to celebrate a Christmas full of love and joy. \nJosé Negroni junto a Rose Max y El destacado guitarrista\, productor Ramatis Moraes nos llenaran de una fiesta Brasileña en navidad con samba \, Bossa y villancicos: “Ready for Christmas – The Brazilian Edition.” Rose max y Ramatis nacieron en Rio de Janeiro capital de la Bossa y la samba. El pianista tres veces nominado a Los Grammy Jose Negroni junto a Nomar Negroni\, Puertorriqueños como el Coqui juntos a la voz y la guitarra de Río de Janeiro Rose y Ramatis con una fusion de ritmos y grandes melodías nos pondrán a bailar para celebrar una navidad de amor y Alegría. \nPart of MDCA’s Very Merry Holiday Season 2025 series. \n————————— \n \nThis performance is part of Miami-Dade County Auditorium’s Away From Home Series. Programming continues to thrive during this period of renovation through the Away From Home Series. The series consists of off-site performances presented at alternative venues with community partners\, ensuring that the magic of the performing arts continues to captivate audiences throughout this transition period. The Away From Home Series presents dance\, theatre\, and music performances that take place at a variety of South Florida facilities and cultural centers. MDCA remains committed to keeping the spirit of creativity alive during this monumental endeavor and invites you to join us away from home!
URL:https://www.miamidadecountyauditorium.org/event/mdca-away-from-home-jose-negroni-presents-ready-for-christmas-the-brazilian-edition/
LOCATION:Koubek Center\, 2705 SW 3rd St.\, Miami\, FL\, 33135\, United States
ATTACH;FMTTYPE=image/png:https://www.miamidadecountyauditorium.org/wp-content/uploads/2025/04/Jose-Negroni-Ready-4-Xmas_2025_web1-1.png
GEO:25.7729289;-80.2410345
X-APPLE-STRUCTURED-LOCATION;VALUE=URI;X-ADDRESS=Koubek Center 2705 SW 3rd St. Miami FL 33135 United States;X-APPLE-RADIUS=500;X-TITLE=2705 SW 3rd St.:geo:-80.2410345,25.7729289
END:VEVENT
BEGIN:VEVENT
DTSTART;TZID=America/New_York:20251207T160000
DTEND;TZID=America/New_York:20251207T160000
DTSTAMP:20260422T233551
CREATED:20251106T142119Z
LAST-MODIFIED:20251106T142300Z
UID:10009645-1765123200-1765123200@www.miamidadecountyauditorium.org
SUMMARY:MDCA Away from Home: ARCA Images presents "Una blanca Navidad... ¿en el Caribe?"
DESCRIPTION:ARCA Images and Miami-Dade County Auditorium\, in partnership with Roxy Theater Group\, presents “Una blanca Navidad… ¿en el Caribe?” on Sunday\, December 7 at 4:00 pm at the Westchester Cultural Arts Center. \nCelebrate the holiday season with a festive orchestral concert featuring the most beloved Christmas carols from Spain and Latin America. Each region of Latin America has its own unique musical expressions of Christmas\, all rooted in the traditional Spanish carol. This concert takes audiences on a musical journey through the holiday season\, tracing the evolution of Spanish-language Christmas songs from the Iberian Peninsula to the farthest corners of the Americas. \nPart of MDCA’s Very Merry Holiday Season 2025 series. \n————————— \n \nThis performance is part of Miami-Dade County Auditorium’s Away From Home Series. Programming continues to thrive during this period of renovation through the Away From Home Series. The series consists of off-site performances presented at alternative venues with community partners\, ensuring that the magic of the performing arts continues to captivate audiences throughout this transition period. The Away From Home Series presents dance\, theatre\, and music performances that take place at a variety of South Florida facilities and cultural centers. MDCA remains committed to keeping the spirit of creativity alive during this monumental endeavor and invites you to join us away from home!
URL:https://www.miamidadecountyauditorium.org/event/mdca-away-from-home-arca-images-una-blanca-navidad-2025/
LOCATION:Westchester Cultural Arts Center\, 7930 SW 40th St\, Miami\, FL\, 33155\, United States
ATTACH;FMTTYPE=image/png:https://www.miamidadecountyauditorium.org/wp-content/uploads/2025/11/ARCA-Images-Holiday-Show_web2025.png
GEO:25.7729289;-80.2410345
X-APPLE-STRUCTURED-LOCATION;VALUE=URI;X-ADDRESS=Westchester Cultural Arts Center 7930 SW 40th St Miami FL 33155 United States;X-APPLE-RADIUS=500;X-TITLE=7930 SW 40th St:geo:-80.2410345,25.7729289
END:VEVENT
BEGIN:VEVENT
DTSTART;TZID=America/New_York:20251221T200000
DTEND;TZID=America/New_York:20251221T200000
DTSTAMP:20260422T233551
CREATED:20251112T141707Z
LAST-MODIFIED:20251112T141707Z
UID:10009646-1766347200-1766347200@www.miamidadecountyauditorium.org
SUMMARY:MDCA Away from Home: Florida Chamber Orchestra presents "Christmas is in the Air"
DESCRIPTION:Florida Chamber Orchestra and Miami-Dade County Auditorium presents “Christmas is in the Air” on Sunday\, December 21 at 8:00 pm at St. Dominic Catholic Parish. \nCelebrate the 30th Anniversary of the Florida Chamber Orchestra\, led by the elegant Marlene Urbay\, with a concert brimming with Christmas spirit. Enjoy timeless holiday classics infused with the glamour and energy of a Big Band from the golden age of swing\, and be enchanted by the captivating voice and charisma of Maylú. Plus\, experience a touch of magic with illusionist Alexander Blade\, who will dazzle audiences with his artistry and mystery. \nPrepárate para la noche más increíble de la temporada y acompáñanos a celebrar el 30º Aniversario de la FCO\, bajo la batuta de la elegante Marlene Urbay\, con un concierto inolvidable lleno del espíritu y la alegría de la Navidad! Disfruta las melodías tradicionales de Navidad\, interpretadas con todo el glamour y arreglos musicales del tradicional Big Band de la época dorada del swing\, y déjate cautivar por la seductora voz y el carisma de Maylu. Para completar esta experiencia mágica\, contaremos con la participación especial del ilusionista Alexander Blade\, quien nos sorprenderá con su arte y misterio\, creando el ambiente perfecto para encender la magia navideña en el corazón de todos. \nPart of MDCA’s Very Merry Holiday Season 2025 series. \n————————— \n \nThis performance is part of Miami-Dade County Auditorium’s Away From Home Series. Programming continues to thrive during this period of renovation through the Away From Home Series. The series consists of off-site performances presented at alternative venues with community partners\, ensuring that the magic of the performing arts continues to captivate audiences throughout this transition period. The Away From Home Series presents dance\, theatre\, and music performances that take place at a variety of South Florida facilities and cultural centers. MDCA remains committed to keeping the spirit of creativity alive during this monumental endeavor and invites you to join us away from home!
URL:https://www.miamidadecountyauditorium.org/event/mdca-away-from-home-florida-chamber-orchestra-presents-christmas-is-in-the-air-2025/
LOCATION:St. Dominic Catholic Parish\, 5909 NW 7th St.\, Miami\, FL\, 33126\, United States
ATTACH;FMTTYPE=image/png:https://www.miamidadecountyauditorium.org/wp-content/uploads/2025/10/FCO-Xmas-is-in-the-Air_web2025.png
END:VEVENT
END:VCALENDAR