BEGIN:VCALENDAR
VERSION:2.0
PRODID:-//Miami Dade County Auditorium - ECPv6.15.20//NONSGML v1.0//EN
CALSCALE:GREGORIAN
METHOD:PUBLISH
X-WR-CALNAME:Miami Dade County Auditorium
X-ORIGINAL-URL:https://www.miamidadecountyauditorium.org
X-WR-CALDESC:Events for Miami Dade County Auditorium
REFRESH-INTERVAL;VALUE=DURATION:PT1H
X-Robots-Tag:noindex
X-PUBLISHED-TTL:PT1H
BEGIN:VTIMEZONE
TZID:America/New_York
BEGIN:DAYLIGHT
TZOFFSETFROM:-0500
TZOFFSETTO:-0400
TZNAME:EDT
DTSTART:20240310T070000
END:DAYLIGHT
BEGIN:STANDARD
TZOFFSETFROM:-0400
TZOFFSETTO:-0500
TZNAME:EST
DTSTART:20241103T060000
END:STANDARD
BEGIN:DAYLIGHT
TZOFFSETFROM:-0500
TZOFFSETTO:-0400
TZNAME:EDT
DTSTART:20250309T070000
END:DAYLIGHT
BEGIN:STANDARD
TZOFFSETFROM:-0400
TZOFFSETTO:-0500
TZNAME:EST
DTSTART:20251102T060000
END:STANDARD
BEGIN:DAYLIGHT
TZOFFSETFROM:-0500
TZOFFSETTO:-0400
TZNAME:EDT
DTSTART:20260308T070000
END:DAYLIGHT
BEGIN:STANDARD
TZOFFSETFROM:-0400
TZOFFSETTO:-0500
TZNAME:EST
DTSTART:20261101T060000
END:STANDARD
END:VTIMEZONE
BEGIN:VEVENT
DTSTART;TZID=America/New_York:20250711T200000
DTEND;TZID=America/New_York:20250711T200000
DTSTAMP:20260423T071422
CREATED:20250513T134449Z
LAST-MODIFIED:20250623T165628Z
UID:10009586-1752264000-1752264000@www.miamidadecountyauditorium.org
SUMMARY:MDCA Away from Home: ARCA Images presenta "La Travesía" de Josep Maria Miró
DESCRIPTION:ARCA Images and Miami-Dade County Auditorium\, in partnership with Roxy Theater Group\, presents “La Travesía” on Friday\, July 11 – Sunday\, July 20 at Westchester Cultural Arts Center.  \nUna niña muere en brazos de la hermana Cecilia\, que la encuentra entre unos matorrales después de haber sido brutalmente agredida. Este incidente dispara las alarmas de la religiosa sobre el funcionamiento del proyecto humanitario en el poblado donde trabaja\, una zona devastada por la violencia y las múltiples necesidades de asistencia a los niños y refugiados. El suceso será el punto de partida de un intenso viaje emocional sobre sus principios éticos y de la fe. Esta obra poderosa y provocadora explora temas como la búsqueda de la verdad. El rico desarrollo de personajes y la narrativa evocadora crean una experiencia teatral cautivadora que invita al público a reflexionar sobre sus propias creencias y valores. \nA young girl dies in the arms of Sister Cecilia\, who finds her among bushes after being brutally assaulted. This incident triggers alarms for the nun about the functioning of the humanitarian project in the village where she works\, an area devastated by violence and multiple needs for assistance to children and refugees. The event becomes the starting point of an intense emotional journey about her ethical principles and faith. This powerful and thought-provoking play explores themes such as the search for truth. The rich character development and evocative narrative create a compelling theatrical experience that invites audiences to reflect on their own beliefs and values. \nPresentado en español con traducción simultánea de audio en ingles. Presented in Spanish with simultaneous audio translation in English. \n————————— \n \nThis performance is part of Miami-Dade County Auditorium’s Away From Home Series. Programming continues to thrive during this period of renovation through the Away From Home Series. The series consists of off-site performances presented at alternative venues with community partners\, ensuring that the magic of the performing arts continues to captivate audiences throughout this transition period. The Away From Home Series presents dance\, theatre\, and music performances that take place at a variety of South Florida facilities and cultural centers. MDCA remains committed to keeping the spirit of creativity alive during this monumental endeavor and invites you to join us away from home! \n 
URL:https://www.miamidadecountyauditorium.org/event/mdca-away-from-home-arca-images-presenta-la-travesia/2025-07-11/
LOCATION:Westchester Cultural Arts Center\, 7930 SW 40th St\, Miami\, FL\, 33155\, United States
ATTACH;FMTTYPE=image/png:https://www.miamidadecountyauditorium.org/wp-content/uploads/2025/05/AFH-La-Travesia_ARCA-Images_web-2025.png
GEO:25.7729289;-80.2410345
X-APPLE-STRUCTURED-LOCATION;VALUE=URI;X-ADDRESS=Westchester Cultural Arts Center 7930 SW 40th St Miami FL 33155 United States;X-APPLE-RADIUS=500;X-TITLE=7930 SW 40th St:geo:-80.2410345,25.7729289
END:VEVENT
BEGIN:VEVENT
DTSTART;TZID=America/New_York:20250712T200000
DTEND;TZID=America/New_York:20250712T200000
DTSTAMP:20260423T071422
CREATED:20250513T134449Z
LAST-MODIFIED:20250623T165628Z
UID:10009587-1752350400-1752350400@www.miamidadecountyauditorium.org
SUMMARY:MDCA Away from Home: ARCA Images presenta "La Travesía" de Josep Maria Miró
DESCRIPTION:ARCA Images and Miami-Dade County Auditorium\, in partnership with Roxy Theater Group\, presents “La Travesía” on Friday\, July 11 – Sunday\, July 20 at Westchester Cultural Arts Center.  \nUna niña muere en brazos de la hermana Cecilia\, que la encuentra entre unos matorrales después de haber sido brutalmente agredida. Este incidente dispara las alarmas de la religiosa sobre el funcionamiento del proyecto humanitario en el poblado donde trabaja\, una zona devastada por la violencia y las múltiples necesidades de asistencia a los niños y refugiados. El suceso será el punto de partida de un intenso viaje emocional sobre sus principios éticos y de la fe. Esta obra poderosa y provocadora explora temas como la búsqueda de la verdad. El rico desarrollo de personajes y la narrativa evocadora crean una experiencia teatral cautivadora que invita al público a reflexionar sobre sus propias creencias y valores. \nA young girl dies in the arms of Sister Cecilia\, who finds her among bushes after being brutally assaulted. This incident triggers alarms for the nun about the functioning of the humanitarian project in the village where she works\, an area devastated by violence and multiple needs for assistance to children and refugees. The event becomes the starting point of an intense emotional journey about her ethical principles and faith. This powerful and thought-provoking play explores themes such as the search for truth. The rich character development and evocative narrative create a compelling theatrical experience that invites audiences to reflect on their own beliefs and values. \nPresentado en español con traducción simultánea de audio en ingles. Presented in Spanish with simultaneous audio translation in English. \n————————— \n \nThis performance is part of Miami-Dade County Auditorium’s Away From Home Series. Programming continues to thrive during this period of renovation through the Away From Home Series. The series consists of off-site performances presented at alternative venues with community partners\, ensuring that the magic of the performing arts continues to captivate audiences throughout this transition period. The Away From Home Series presents dance\, theatre\, and music performances that take place at a variety of South Florida facilities and cultural centers. MDCA remains committed to keeping the spirit of creativity alive during this monumental endeavor and invites you to join us away from home! \n 
URL:https://www.miamidadecountyauditorium.org/event/mdca-away-from-home-arca-images-presenta-la-travesia/2025-07-12/
LOCATION:Westchester Cultural Arts Center\, 7930 SW 40th St\, Miami\, FL\, 33155\, United States
ATTACH;FMTTYPE=image/png:https://www.miamidadecountyauditorium.org/wp-content/uploads/2025/05/AFH-La-Travesia_ARCA-Images_web-2025.png
GEO:25.7729289;-80.2410345
X-APPLE-STRUCTURED-LOCATION;VALUE=URI;X-ADDRESS=Westchester Cultural Arts Center 7930 SW 40th St Miami FL 33155 United States;X-APPLE-RADIUS=500;X-TITLE=7930 SW 40th St:geo:-80.2410345,25.7729289
END:VEVENT
BEGIN:VEVENT
DTSTART;TZID=America/New_York:20250713T170000
DTEND;TZID=America/New_York:20250713T170000
DTSTAMP:20260423T071422
CREATED:20250513T134449Z
LAST-MODIFIED:20250623T165628Z
UID:10009588-1752426000-1752426000@www.miamidadecountyauditorium.org
SUMMARY:MDCA Away from Home: ARCA Images presenta "La Travesía" de Josep Maria Miró
DESCRIPTION:ARCA Images and Miami-Dade County Auditorium\, in partnership with Roxy Theater Group\, presents “La Travesía” on Friday\, July 11 – Sunday\, July 20 at Westchester Cultural Arts Center.  \nUna niña muere en brazos de la hermana Cecilia\, que la encuentra entre unos matorrales después de haber sido brutalmente agredida. Este incidente dispara las alarmas de la religiosa sobre el funcionamiento del proyecto humanitario en el poblado donde trabaja\, una zona devastada por la violencia y las múltiples necesidades de asistencia a los niños y refugiados. El suceso será el punto de partida de un intenso viaje emocional sobre sus principios éticos y de la fe. Esta obra poderosa y provocadora explora temas como la búsqueda de la verdad. El rico desarrollo de personajes y la narrativa evocadora crean una experiencia teatral cautivadora que invita al público a reflexionar sobre sus propias creencias y valores. \nA young girl dies in the arms of Sister Cecilia\, who finds her among bushes after being brutally assaulted. This incident triggers alarms for the nun about the functioning of the humanitarian project in the village where she works\, an area devastated by violence and multiple needs for assistance to children and refugees. The event becomes the starting point of an intense emotional journey about her ethical principles and faith. This powerful and thought-provoking play explores themes such as the search for truth. The rich character development and evocative narrative create a compelling theatrical experience that invites audiences to reflect on their own beliefs and values. \nPresentado en español con traducción simultánea de audio en ingles. Presented in Spanish with simultaneous audio translation in English. \n————————— \n \nThis performance is part of Miami-Dade County Auditorium’s Away From Home Series. Programming continues to thrive during this period of renovation through the Away From Home Series. The series consists of off-site performances presented at alternative venues with community partners\, ensuring that the magic of the performing arts continues to captivate audiences throughout this transition period. The Away From Home Series presents dance\, theatre\, and music performances that take place at a variety of South Florida facilities and cultural centers. MDCA remains committed to keeping the spirit of creativity alive during this monumental endeavor and invites you to join us away from home! \n 
URL:https://www.miamidadecountyauditorium.org/event/mdca-away-from-home-arca-images-presenta-la-travesia/2025-07-13/
LOCATION:Westchester Cultural Arts Center\, 7930 SW 40th St\, Miami\, FL\, 33155\, United States
ATTACH;FMTTYPE=image/png:https://www.miamidadecountyauditorium.org/wp-content/uploads/2025/05/AFH-La-Travesia_ARCA-Images_web-2025.png
GEO:25.7729289;-80.2410345
X-APPLE-STRUCTURED-LOCATION;VALUE=URI;X-ADDRESS=Westchester Cultural Arts Center 7930 SW 40th St Miami FL 33155 United States;X-APPLE-RADIUS=500;X-TITLE=7930 SW 40th St:geo:-80.2410345,25.7729289
END:VEVENT
BEGIN:VEVENT
DTSTART;TZID=America/New_York:20250718T200000
DTEND;TZID=America/New_York:20250718T200000
DTSTAMP:20260423T071422
CREATED:20250513T134449Z
LAST-MODIFIED:20250623T165628Z
UID:10009590-1752868800-1752868800@www.miamidadecountyauditorium.org
SUMMARY:MDCA Away from Home: ARCA Images presenta "La Travesía" de Josep Maria Miró
DESCRIPTION:ARCA Images and Miami-Dade County Auditorium\, in partnership with Roxy Theater Group\, presents “La Travesía” on Friday\, July 11 – Sunday\, July 20 at Westchester Cultural Arts Center.  \nUna niña muere en brazos de la hermana Cecilia\, que la encuentra entre unos matorrales después de haber sido brutalmente agredida. Este incidente dispara las alarmas de la religiosa sobre el funcionamiento del proyecto humanitario en el poblado donde trabaja\, una zona devastada por la violencia y las múltiples necesidades de asistencia a los niños y refugiados. El suceso será el punto de partida de un intenso viaje emocional sobre sus principios éticos y de la fe. Esta obra poderosa y provocadora explora temas como la búsqueda de la verdad. El rico desarrollo de personajes y la narrativa evocadora crean una experiencia teatral cautivadora que invita al público a reflexionar sobre sus propias creencias y valores. \nA young girl dies in the arms of Sister Cecilia\, who finds her among bushes after being brutally assaulted. This incident triggers alarms for the nun about the functioning of the humanitarian project in the village where she works\, an area devastated by violence and multiple needs for assistance to children and refugees. The event becomes the starting point of an intense emotional journey about her ethical principles and faith. This powerful and thought-provoking play explores themes such as the search for truth. The rich character development and evocative narrative create a compelling theatrical experience that invites audiences to reflect on their own beliefs and values. \nPresentado en español con traducción simultánea de audio en ingles. Presented in Spanish with simultaneous audio translation in English. \n————————— \n \nThis performance is part of Miami-Dade County Auditorium’s Away From Home Series. Programming continues to thrive during this period of renovation through the Away From Home Series. The series consists of off-site performances presented at alternative venues with community partners\, ensuring that the magic of the performing arts continues to captivate audiences throughout this transition period. The Away From Home Series presents dance\, theatre\, and music performances that take place at a variety of South Florida facilities and cultural centers. MDCA remains committed to keeping the spirit of creativity alive during this monumental endeavor and invites you to join us away from home! \n 
URL:https://www.miamidadecountyauditorium.org/event/mdca-away-from-home-arca-images-presenta-la-travesia/2025-07-18/
LOCATION:Westchester Cultural Arts Center\, 7930 SW 40th St\, Miami\, FL\, 33155\, United States
ATTACH;FMTTYPE=image/png:https://www.miamidadecountyauditorium.org/wp-content/uploads/2025/05/AFH-La-Travesia_ARCA-Images_web-2025.png
GEO:25.7729289;-80.2410345
X-APPLE-STRUCTURED-LOCATION;VALUE=URI;X-ADDRESS=Westchester Cultural Arts Center 7930 SW 40th St Miami FL 33155 United States;X-APPLE-RADIUS=500;X-TITLE=7930 SW 40th St:geo:-80.2410345,25.7729289
END:VEVENT
BEGIN:VEVENT
DTSTART;TZID=America/New_York:20250719T200000
DTEND;TZID=America/New_York:20250719T200000
DTSTAMP:20260423T071422
CREATED:20250513T134449Z
LAST-MODIFIED:20250623T165628Z
UID:10009591-1752955200-1752955200@www.miamidadecountyauditorium.org
SUMMARY:MDCA Away from Home: ARCA Images presenta "La Travesía" de Josep Maria Miró
DESCRIPTION:ARCA Images and Miami-Dade County Auditorium\, in partnership with Roxy Theater Group\, presents “La Travesía” on Friday\, July 11 – Sunday\, July 20 at Westchester Cultural Arts Center.  \nUna niña muere en brazos de la hermana Cecilia\, que la encuentra entre unos matorrales después de haber sido brutalmente agredida. Este incidente dispara las alarmas de la religiosa sobre el funcionamiento del proyecto humanitario en el poblado donde trabaja\, una zona devastada por la violencia y las múltiples necesidades de asistencia a los niños y refugiados. El suceso será el punto de partida de un intenso viaje emocional sobre sus principios éticos y de la fe. Esta obra poderosa y provocadora explora temas como la búsqueda de la verdad. El rico desarrollo de personajes y la narrativa evocadora crean una experiencia teatral cautivadora que invita al público a reflexionar sobre sus propias creencias y valores. \nA young girl dies in the arms of Sister Cecilia\, who finds her among bushes after being brutally assaulted. This incident triggers alarms for the nun about the functioning of the humanitarian project in the village where she works\, an area devastated by violence and multiple needs for assistance to children and refugees. The event becomes the starting point of an intense emotional journey about her ethical principles and faith. This powerful and thought-provoking play explores themes such as the search for truth. The rich character development and evocative narrative create a compelling theatrical experience that invites audiences to reflect on their own beliefs and values. \nPresentado en español con traducción simultánea de audio en ingles. Presented in Spanish with simultaneous audio translation in English. \n————————— \n \nThis performance is part of Miami-Dade County Auditorium’s Away From Home Series. Programming continues to thrive during this period of renovation through the Away From Home Series. The series consists of off-site performances presented at alternative venues with community partners\, ensuring that the magic of the performing arts continues to captivate audiences throughout this transition period. The Away From Home Series presents dance\, theatre\, and music performances that take place at a variety of South Florida facilities and cultural centers. MDCA remains committed to keeping the spirit of creativity alive during this monumental endeavor and invites you to join us away from home! \n 
URL:https://www.miamidadecountyauditorium.org/event/mdca-away-from-home-arca-images-presenta-la-travesia/2025-07-19/
LOCATION:Westchester Cultural Arts Center\, 7930 SW 40th St\, Miami\, FL\, 33155\, United States
ATTACH;FMTTYPE=image/png:https://www.miamidadecountyauditorium.org/wp-content/uploads/2025/05/AFH-La-Travesia_ARCA-Images_web-2025.png
GEO:25.7729289;-80.2410345
X-APPLE-STRUCTURED-LOCATION;VALUE=URI;X-ADDRESS=Westchester Cultural Arts Center 7930 SW 40th St Miami FL 33155 United States;X-APPLE-RADIUS=500;X-TITLE=7930 SW 40th St:geo:-80.2410345,25.7729289
END:VEVENT
BEGIN:VEVENT
DTSTART;TZID=America/New_York:20250720T170000
DTEND;TZID=America/New_York:20250720T170000
DTSTAMP:20260423T071422
CREATED:20250513T134449Z
LAST-MODIFIED:20250623T165628Z
UID:10009592-1753030800-1753030800@www.miamidadecountyauditorium.org
SUMMARY:MDCA Away from Home: ARCA Images presenta "La Travesía" de Josep Maria Miró
DESCRIPTION:ARCA Images and Miami-Dade County Auditorium\, in partnership with Roxy Theater Group\, presents “La Travesía” on Friday\, July 11 – Sunday\, July 20 at Westchester Cultural Arts Center.  \nUna niña muere en brazos de la hermana Cecilia\, que la encuentra entre unos matorrales después de haber sido brutalmente agredida. Este incidente dispara las alarmas de la religiosa sobre el funcionamiento del proyecto humanitario en el poblado donde trabaja\, una zona devastada por la violencia y las múltiples necesidades de asistencia a los niños y refugiados. El suceso será el punto de partida de un intenso viaje emocional sobre sus principios éticos y de la fe. Esta obra poderosa y provocadora explora temas como la búsqueda de la verdad. El rico desarrollo de personajes y la narrativa evocadora crean una experiencia teatral cautivadora que invita al público a reflexionar sobre sus propias creencias y valores. \nA young girl dies in the arms of Sister Cecilia\, who finds her among bushes after being brutally assaulted. This incident triggers alarms for the nun about the functioning of the humanitarian project in the village where she works\, an area devastated by violence and multiple needs for assistance to children and refugees. The event becomes the starting point of an intense emotional journey about her ethical principles and faith. This powerful and thought-provoking play explores themes such as the search for truth. The rich character development and evocative narrative create a compelling theatrical experience that invites audiences to reflect on their own beliefs and values. \nPresentado en español con traducción simultánea de audio en ingles. Presented in Spanish with simultaneous audio translation in English. \n————————— \n \nThis performance is part of Miami-Dade County Auditorium’s Away From Home Series. Programming continues to thrive during this period of renovation through the Away From Home Series. The series consists of off-site performances presented at alternative venues with community partners\, ensuring that the magic of the performing arts continues to captivate audiences throughout this transition period. The Away From Home Series presents dance\, theatre\, and music performances that take place at a variety of South Florida facilities and cultural centers. MDCA remains committed to keeping the spirit of creativity alive during this monumental endeavor and invites you to join us away from home! \n 
URL:https://www.miamidadecountyauditorium.org/event/mdca-away-from-home-arca-images-presenta-la-travesia/2025-07-20/
LOCATION:Westchester Cultural Arts Center\, 7930 SW 40th St\, Miami\, FL\, 33155\, United States
ATTACH;FMTTYPE=image/png:https://www.miamidadecountyauditorium.org/wp-content/uploads/2025/05/AFH-La-Travesia_ARCA-Images_web-2025.png
GEO:25.7729289;-80.2410345
X-APPLE-STRUCTURED-LOCATION;VALUE=URI;X-ADDRESS=Westchester Cultural Arts Center 7930 SW 40th St Miami FL 33155 United States;X-APPLE-RADIUS=500;X-TITLE=7930 SW 40th St:geo:-80.2410345,25.7729289
END:VEVENT
END:VCALENDAR