BEGIN:VCALENDAR
VERSION:2.0
PRODID:-//Miami Dade County Auditorium - ECPv6.15.20//NONSGML v1.0//EN
CALSCALE:GREGORIAN
METHOD:PUBLISH
X-ORIGINAL-URL:https://www.miamidadecountyauditorium.org
X-WR-CALDESC:Events for Miami Dade County Auditorium
REFRESH-INTERVAL;VALUE=DURATION:PT1H
X-Robots-Tag:noindex
X-PUBLISHED-TTL:PT1H
BEGIN:VTIMEZONE
TZID:America/New_York
BEGIN:DAYLIGHT
TZOFFSETFROM:-0500
TZOFFSETTO:-0400
TZNAME:EDT
DTSTART:20240310T070000
END:DAYLIGHT
BEGIN:STANDARD
TZOFFSETFROM:-0400
TZOFFSETTO:-0500
TZNAME:EST
DTSTART:20241103T060000
END:STANDARD
BEGIN:DAYLIGHT
TZOFFSETFROM:-0500
TZOFFSETTO:-0400
TZNAME:EDT
DTSTART:20250309T070000
END:DAYLIGHT
BEGIN:STANDARD
TZOFFSETFROM:-0400
TZOFFSETTO:-0500
TZNAME:EST
DTSTART:20251102T060000
END:STANDARD
BEGIN:DAYLIGHT
TZOFFSETFROM:-0500
TZOFFSETTO:-0400
TZNAME:EDT
DTSTART:20260308T070000
END:DAYLIGHT
BEGIN:STANDARD
TZOFFSETFROM:-0400
TZOFFSETTO:-0500
TZNAME:EST
DTSTART:20261101T060000
END:STANDARD
END:VTIMEZONE
BEGIN:VEVENT
DTSTART;TZID=America/New_York:20250601T200000
DTEND;TZID=America/New_York:20250601T200000
DTSTAMP:20260423T085408
CREATED:20250428T170022Z
LAST-MODIFIED:20250428T170055Z
UID:10009605-1748808000-1748808000@www.miamidadecountyauditorium.org
SUMMARY:MDCA Away from Home: "Echoes of Tomorrow" by Florida Chamber Orchestra
DESCRIPTION:Florida Chamber Orchestra and Miami-Dade County Auditorium presents “Echoes of Tomorrow” on Sunday\, June 1 at 8:00 pm at the St. Dominic Catholic Parish.  \nUnder the baton of conductor Marlene Urbay\, Florida Chamber Orchestra and Miami-Dade County Auditorium present the grand finale of the FCO’s 29th season with “Echoes of Tomorrow\,” a powerful evening celebrating the future of opera. Experience the brilliance of rising voices as young\, exceptionally talented opera singers from Manny Pérez’s acclaimed studio take the stage. Don’t miss this inspiring night where the promise of tomorrow resonates through every note. \n————————— \n \nThis performance is part of Miami-Dade County Auditorium’s Away From Home Series. Programming continues to thrive during this period of renovation through the Away From Home Series. The series consists of off-site performances presented at alternative venues with community partners\, ensuring that the magic of the performing arts continues to captivate audiences throughout this transition period. The Away From Home Series presents dance\, theatre\, and music performances that take place at a variety of South Florida facilities and cultural centers. MDCA remains committed to keeping the spirit of creativity alive during this monumental endeavor and invites you to join us away from home!
URL:https://www.miamidadecountyauditorium.org/event/mdca-away-from-home-echoes-of-tomorrow-by-florida-chamber-orchestra/
LOCATION:St. Dominic Catholic Parish\, 5909 NW 7th St.\, Miami\, FL\, 33126\, United States
ATTACH;FMTTYPE=image/jpeg:https://www.miamidadecountyauditorium.org/wp-content/uploads/2023/07/Florida-Chamber-Orchestra-FCO_web2023.jpg
END:VEVENT
END:VCALENDAR