BEGIN:VCALENDAR
VERSION:2.0
PRODID:-//Miami Dade County Auditorium - ECPv6.15.20//NONSGML v1.0//EN
CALSCALE:GREGORIAN
METHOD:PUBLISH
X-WR-CALNAME:Miami Dade County Auditorium
X-ORIGINAL-URL:https://www.miamidadecountyauditorium.org
X-WR-CALDESC:Events for Miami Dade County Auditorium
REFRESH-INTERVAL;VALUE=DURATION:PT1H
X-Robots-Tag:noindex
X-PUBLISHED-TTL:PT1H
BEGIN:VTIMEZONE
TZID:America/New_York
BEGIN:DAYLIGHT
TZOFFSETFROM:-0500
TZOFFSETTO:-0400
TZNAME:EDT
DTSTART:20240310T070000
END:DAYLIGHT
BEGIN:STANDARD
TZOFFSETFROM:-0400
TZOFFSETTO:-0500
TZNAME:EST
DTSTART:20241103T060000
END:STANDARD
BEGIN:DAYLIGHT
TZOFFSETFROM:-0500
TZOFFSETTO:-0400
TZNAME:EDT
DTSTART:20250309T070000
END:DAYLIGHT
BEGIN:STANDARD
TZOFFSETFROM:-0400
TZOFFSETTO:-0500
TZNAME:EST
DTSTART:20251102T060000
END:STANDARD
BEGIN:DAYLIGHT
TZOFFSETFROM:-0500
TZOFFSETTO:-0400
TZNAME:EDT
DTSTART:20260308T070000
END:DAYLIGHT
BEGIN:STANDARD
TZOFFSETFROM:-0400
TZOFFSETTO:-0500
TZNAME:EST
DTSTART:20261101T060000
END:STANDARD
END:VTIMEZONE
BEGIN:VEVENT
DTSTART;TZID=America/New_York:20250207T200000
DTEND;TZID=America/New_York:20250207T200000
DTSTAMP:20260423T150353
CREATED:20250129T203635Z
LAST-MODIFIED:20250129T203821Z
UID:10009593-1738958400-1738958400@www.miamidadecountyauditorium.org
SUMMARY:MDCA Away from Home: "Music Inside the Magic" by Florida Chamber Orchestra
DESCRIPTION:Florida Chamber Orchestra and Miami-Dade County Auditorium presents “Music Inside the Magic” on Friday\, February 7 and Saturday\, February 8 at 8:00 pm at the Belen Jesuit Roca Theatre. \nGet ready for an unparalleled magical experience! “Music Inside the Magic” is here to dazzle you with a show that defies reality and sparks the imagination. Featuring live music performed by the Florida Chamber Orchestra\, this mesmerizing illusionist spectacle promises to be unforgettable. A magical trio — Alexander Blade\, “The Hunter\,” Alberto Lorenzo\, “The Master\,” and Jarold Martin\, “The Inventor” — three of the most talented magicians in the world\, will take the stage to make the impossible possible. This event is more than just an illusionist performance; it’s a breathtaking visual experience enriched by live music under the baton of Marlene Urbay. The harmonious blend of music and magic creates the perfect balance between imagination and reality\, taking this show to extraordinary heights. \n————————— \n \nThis performance is part of Miami-Dade County Auditorium’s Away From Home Series. Programming continues to thrive during this period of renovation through the Away From Home Series. The series consists of off-site performances presented at alternative venues with community partners\, ensuring that the magic of the performing arts continues to captivate audiences throughout this transition period. The Away From Home Series presents dance\, theatre\, and music performances that take place at a variety of South Florida facilities and cultural centers. MDCA remains committed to keeping the spirit of creativity alive during this monumental endeavor and invites you to join us away from home!
URL:https://www.miamidadecountyauditorium.org/event/mdca-away-from-home-music-inside-the-magic-by-florida-chamber-orchestra/2025-02-07/
LOCATION:Belen Jesuit Roca Theatre\, 500 SW 127th Ave.\, Miami\, FL\, 33184\, United States
ATTACH;FMTTYPE=image/jpeg:https://www.miamidadecountyauditorium.org/wp-content/uploads/2023/07/Florida-Chamber-Orchestra-FCO_web2023.jpg
END:VEVENT
BEGIN:VEVENT
DTSTART;TZID=America/New_York:20250208T200000
DTEND;TZID=America/New_York:20250208T200000
DTSTAMP:20260423T150353
CREATED:20241218T172923Z
LAST-MODIFIED:20250203T154145Z
UID:10009566-1739044800-1739044800@www.miamidadecountyauditorium.org
SUMMARY:MDCA Away from Home: José Negroni presents “Del Son al Flamenco"
DESCRIPTION:TICKETS ARE SOLD OUT!\nJosé Negroni and Miami-Dade County Auditorium presents “Del Son al Flamenco” on Saturday\, February 8 at the Koubek Center. \nA unique sound journey through the music of Cuba\, Puerto Rico and Spain\, performed by the Puerto Rican/Spanish singer Ana del Rocío and the Cuban singer Freddy Lugo. Special guest features La Meche\, the prolific Spanish Flamenco dancer\, who will bring her amazing percussion touches to the performance. Under the direction three-time Latin Grammy® Nominee pianist and composer José Negroni\, this unforgettable concert remembers the great legends of Cuban bolero\, dance and flamenco music. \n“Del Son al Flamenco” es un viaje sonoro único por la música de Cuba\, Puerto Rico y España\, interpretado por la cantante boricua / española Ana del Rocío y el cantante cubano Freddy Lugo. Como figura flamenca y dando unos toques de percucion junto a Negroni\, nos acompaña la bailaora flamenca\, La Merche. “Del Son al Flamenco” tendrá en escena unos músicos reconocidos por la academia latina y americana de Los Grammy\, Federico Britos (violin)\, Nomar Negroni (Batería)\, Rafael Valencia (bajo)\, entre otros. Este gran concierto estará dirigido por José Negroni ( tres veces nominado a la academia de Los Grammy.) Sin duda este concierto popular y único\, será una velada musical inolvidable\, recordando a grandes leyendas del son cubano\, el bolero\, y el flamenco. Algunos de los artistas y compositores contemporáneos que representaron esta antología musical fueron; Tito Rodríguez\, Olga Guillot\, La Lupe\, Benny Moré\, Lola Flores\, Rocio Jurado\, entre muchos. \n————————— \n \nThis performance is part of Miami-Dade County Auditorium’s Away From Home Series. Programming continues to thrive during this period of renovation through the Away From Home Series. The series consists of off-site performances presented at alternative venues with community partners\, ensuring that the magic of the performing arts continues to captivate audiences throughout this transition period. The Away From Home Series presents dance\, theatre\, and music performances that take place at a variety of South Florida facilities and cultural centers. MDCA remains committed to keeping the spirit of creativity alive during this monumental endeavor and invites you to join us away from home!
URL:https://www.miamidadecountyauditorium.org/event/mdca-away-from-home-jose-negroni-presents-del-son-al-flamenco-2025/
LOCATION:Koubek Center\, 2705 SW 3rd St.\, Miami\, FL\, 33135\, United States
ATTACH;FMTTYPE=image/png:https://www.miamidadecountyauditorium.org/wp-content/uploads/2024/12/Del-Son-al-Flamenco_1_web2025.png
GEO:25.7729289;-80.2410345
X-APPLE-STRUCTURED-LOCATION;VALUE=URI;X-ADDRESS=Koubek Center 2705 SW 3rd St. Miami FL 33135 United States;X-APPLE-RADIUS=500;X-TITLE=2705 SW 3rd St.:geo:-80.2410345,25.7729289
END:VEVENT
BEGIN:VEVENT
DTSTART;TZID=America/New_York:20250208T200000
DTEND;TZID=America/New_York:20250208T200000
DTSTAMP:20260423T150353
CREATED:20250129T203635Z
LAST-MODIFIED:20250129T203821Z
UID:10009594-1739044800-1739044800@www.miamidadecountyauditorium.org
SUMMARY:MDCA Away from Home: "Music Inside the Magic" by Florida Chamber Orchestra
DESCRIPTION:Florida Chamber Orchestra and Miami-Dade County Auditorium presents “Music Inside the Magic” on Friday\, February 7 and Saturday\, February 8 at 8:00 pm at the Belen Jesuit Roca Theatre. \nGet ready for an unparalleled magical experience! “Music Inside the Magic” is here to dazzle you with a show that defies reality and sparks the imagination. Featuring live music performed by the Florida Chamber Orchestra\, this mesmerizing illusionist spectacle promises to be unforgettable. A magical trio — Alexander Blade\, “The Hunter\,” Alberto Lorenzo\, “The Master\,” and Jarold Martin\, “The Inventor” — three of the most talented magicians in the world\, will take the stage to make the impossible possible. This event is more than just an illusionist performance; it’s a breathtaking visual experience enriched by live music under the baton of Marlene Urbay. The harmonious blend of music and magic creates the perfect balance between imagination and reality\, taking this show to extraordinary heights. \n————————— \n \nThis performance is part of Miami-Dade County Auditorium’s Away From Home Series. Programming continues to thrive during this period of renovation through the Away From Home Series. The series consists of off-site performances presented at alternative venues with community partners\, ensuring that the magic of the performing arts continues to captivate audiences throughout this transition period. The Away From Home Series presents dance\, theatre\, and music performances that take place at a variety of South Florida facilities and cultural centers. MDCA remains committed to keeping the spirit of creativity alive during this monumental endeavor and invites you to join us away from home!
URL:https://www.miamidadecountyauditorium.org/event/mdca-away-from-home-music-inside-the-magic-by-florida-chamber-orchestra/2025-02-08/
LOCATION:Belen Jesuit Roca Theatre\, 500 SW 127th Ave.\, Miami\, FL\, 33184\, United States
ATTACH;FMTTYPE=image/jpeg:https://www.miamidadecountyauditorium.org/wp-content/uploads/2023/07/Florida-Chamber-Orchestra-FCO_web2023.jpg
END:VEVENT
BEGIN:VEVENT
DTSTART;TZID=America/New_York:20250215T170000
DTEND;TZID=America/New_York:20250215T170000
DTSTAMP:20260423T150353
CREATED:20241031T175029Z
LAST-MODIFIED:20250117T145517Z
UID:10009557-1739638800-1739638800@www.miamidadecountyauditorium.org
SUMMARY:MDCA Away from Home: "¿Y Cómo Fue? Una Historia de Benny Moré"
DESCRIPTION:Back by popular demand\, ARCA Images and Miami-Dade County Auditorium\, in partnership with the Roxy Theater\, presents “¿Y Cómo Fue? Una Historia de Benny Moré\,” on Saturday\, February 15 at 5:00 and 8:30 pm at the Westchester Cultural Arts Center (WCAC). \nEl aclamado cantante de ópera y director musical venezolano\, Carlos Silva\, se complace en presentar su más reciente obra: “¿Y cómo fue? Una historia de Benny Moré”. Este espectáculo promete cautivar al público con su estreno mundial en el Westchester Cultural Arts Center (WCAC). En una colaboración única con Arca Images y en asociación con el Miami-Dade County Auditorium\, Silva nos invita a emprender un viaje musical evocador a través de las canciones del legendario músico cubano Benny Moré. Ambientada en el resplandor de un cabaret de la década de los 50\, esta producción ofrece una experiencia inmersiva en la era dorada de la música latina. \nRenowned Venezuelan opera singer and musical director Carlos Silva is proud to present his latest work: “And How Was It? A Story of Benny Moré.” This captivating show is set for its world premiere at the Westchester Cultural Arts Center (WCAC). In a unique production by Arca Images and in partnership with the Miami-Dade County Auditorium and Roxy Theater\, Silva invites us on an evocative musical journey through the songs of the iconic Cuban musician Benny Moré. Set against the backdrop of a 1950s cabaret\, this production offers an immersive experience into the golden age of Latin music. \n————————— \n \nThis performance is part of Miami-Dade County Auditorium’s Away From Home Series. Programming continues to thrive during this period of renovation through the Away From Home Series. The series consists of off-site performances presented at alternative venues with community partners\, ensuring that the magic of the performing arts continues to captivate audiences throughout this transition period. The Away From Home Series presents dance\, theatre\, and music performances that take place at a variety of South Florida facilities and cultural centers. MDCA remains committed to keeping the spirit of creativity alive during this monumental endeavor and invites you to join us away from home!
URL:https://www.miamidadecountyauditorium.org/event/mdca-away-from-home-y-como-fue-una-historia-de-benny-more-2/2025-02-15/1/
LOCATION:Westchester Cultural Arts Center\, 7930 SW 40th St\, Miami\, FL\, 33155\, United States
ATTACH;FMTTYPE=image/png:https://www.miamidadecountyauditorium.org/wp-content/uploads/2024/04/ARCA-Images_Y-Como-Fue-2024_AFH_web_1.png
GEO:25.7729289;-80.2410345
X-APPLE-STRUCTURED-LOCATION;VALUE=URI;X-ADDRESS=Westchester Cultural Arts Center 7930 SW 40th St Miami FL 33155 United States;X-APPLE-RADIUS=500;X-TITLE=7930 SW 40th St:geo:-80.2410345,25.7729289
END:VEVENT
BEGIN:VEVENT
DTSTART;TZID=America/New_York:20250215T203000
DTEND;TZID=America/New_York:20250215T203000
DTSTAMP:20260423T150353
CREATED:20241031T175029Z
LAST-MODIFIED:20250117T145517Z
UID:10009559-1739651400-1739651400@www.miamidadecountyauditorium.org
SUMMARY:MDCA Away from Home: "¿Y Cómo Fue? Una Historia de Benny Moré"
DESCRIPTION:Back by popular demand\, ARCA Images and Miami-Dade County Auditorium\, in partnership with the Roxy Theater\, presents “¿Y Cómo Fue? Una Historia de Benny Moré\,” on Saturday\, February 15 at 5:00 and 8:30 pm at the Westchester Cultural Arts Center (WCAC). \nEl aclamado cantante de ópera y director musical venezolano\, Carlos Silva\, se complace en presentar su más reciente obra: “¿Y cómo fue? Una historia de Benny Moré”. Este espectáculo promete cautivar al público con su estreno mundial en el Westchester Cultural Arts Center (WCAC). En una colaboración única con Arca Images y en asociación con el Miami-Dade County Auditorium\, Silva nos invita a emprender un viaje musical evocador a través de las canciones del legendario músico cubano Benny Moré. Ambientada en el resplandor de un cabaret de la década de los 50\, esta producción ofrece una experiencia inmersiva en la era dorada de la música latina. \nRenowned Venezuelan opera singer and musical director Carlos Silva is proud to present his latest work: “And How Was It? A Story of Benny Moré.” This captivating show is set for its world premiere at the Westchester Cultural Arts Center (WCAC). In a unique production by Arca Images and in partnership with the Miami-Dade County Auditorium and Roxy Theater\, Silva invites us on an evocative musical journey through the songs of the iconic Cuban musician Benny Moré. Set against the backdrop of a 1950s cabaret\, this production offers an immersive experience into the golden age of Latin music. \n————————— \n \nThis performance is part of Miami-Dade County Auditorium’s Away From Home Series. Programming continues to thrive during this period of renovation through the Away From Home Series. The series consists of off-site performances presented at alternative venues with community partners\, ensuring that the magic of the performing arts continues to captivate audiences throughout this transition period. The Away From Home Series presents dance\, theatre\, and music performances that take place at a variety of South Florida facilities and cultural centers. MDCA remains committed to keeping the spirit of creativity alive during this monumental endeavor and invites you to join us away from home!
URL:https://www.miamidadecountyauditorium.org/event/mdca-away-from-home-y-como-fue-una-historia-de-benny-more-2/2025-02-15/3/
LOCATION:Westchester Cultural Arts Center\, 7930 SW 40th St\, Miami\, FL\, 33155\, United States
ATTACH;FMTTYPE=image/png:https://www.miamidadecountyauditorium.org/wp-content/uploads/2024/04/ARCA-Images_Y-Como-Fue-2024_AFH_web_1.png
GEO:25.7729289;-80.2410345
X-APPLE-STRUCTURED-LOCATION;VALUE=URI;X-ADDRESS=Westchester Cultural Arts Center 7930 SW 40th St Miami FL 33155 United States;X-APPLE-RADIUS=500;X-TITLE=7930 SW 40th St:geo:-80.2410345,25.7729289
END:VEVENT
BEGIN:VEVENT
DTSTART;TZID=America/New_York:20250220T203000
DTEND;TZID=America/New_York:20250220T203000
DTSTAMP:20260423T150353
CREATED:20241218T175402Z
LAST-MODIFIED:20250106T182215Z
UID:10009567-1740083400-1740083400@www.miamidadecountyauditorium.org
SUMMARY:MDCA Away from Home: “Disonancia” by Abel González Melo
DESCRIPTION:Teatro Avante and Miami-Dade County Auditorium presents “Disonancia” (Dissonance)\, by Abel González Melo and directed by Mario Ernesto Sánchez\, on Thursday\, February 20 through Saturday\, February 22 at 8:30 pm and Sunday\, February 23 at 5:00 pm at the Westchester Cultural Arts Center (WCAC). \nA totalitarian regime rises under the guise of democratic revolutions\, covert and subtle\, which tests the integrity of society and human beings in Abel González Melo’s gripping drama. Through the tools that theatre\, thought and art offer\, we analyze how dictatorships develop mechanisms of violence. \nThis performance is presented in Spanish with English supertitles. \n————————— \n \nThis performance is part of Miami-Dade County Auditorium’s Away From Home Series. Programming continues to thrive during this period of renovation through the Away From Home Series. The series consists of off-site performances presented at alternative venues with community partners\, ensuring that the magic of the performing arts continues to captivate audiences throughout this transition period. The Away From Home Series presents dance\, theatre\, and music performances that take place at a variety of South Florida facilities and cultural centers. MDCA remains committed to keeping the spirit of creativity alive during this monumental endeavor and invites you to join us away from home!
URL:https://www.miamidadecountyauditorium.org/event/mdca-away-from-home-disonancia-by-abel-gonzalez-melo/2025-02-20/
LOCATION:Westchester Cultural Arts Center\, 7930 SW 40th St\, Miami\, FL\, 33155\, United States
ATTACH;FMTTYPE=image/png:https://www.miamidadecountyauditorium.org/wp-content/uploads/2024/12/Disonancia_web2025.png
GEO:25.7729289;-80.2410345
X-APPLE-STRUCTURED-LOCATION;VALUE=URI;X-ADDRESS=Westchester Cultural Arts Center 7930 SW 40th St Miami FL 33155 United States;X-APPLE-RADIUS=500;X-TITLE=7930 SW 40th St:geo:-80.2410345,25.7729289
END:VEVENT
BEGIN:VEVENT
DTSTART;TZID=America/New_York:20250221T203000
DTEND;TZID=America/New_York:20250221T203000
DTSTAMP:20260423T150353
CREATED:20241218T175402Z
LAST-MODIFIED:20250106T182215Z
UID:10009568-1740169800-1740169800@www.miamidadecountyauditorium.org
SUMMARY:MDCA Away from Home: “Disonancia” by Abel González Melo
DESCRIPTION:Teatro Avante and Miami-Dade County Auditorium presents “Disonancia” (Dissonance)\, by Abel González Melo and directed by Mario Ernesto Sánchez\, on Thursday\, February 20 through Saturday\, February 22 at 8:30 pm and Sunday\, February 23 at 5:00 pm at the Westchester Cultural Arts Center (WCAC). \nA totalitarian regime rises under the guise of democratic revolutions\, covert and subtle\, which tests the integrity of society and human beings in Abel González Melo’s gripping drama. Through the tools that theatre\, thought and art offer\, we analyze how dictatorships develop mechanisms of violence. \nThis performance is presented in Spanish with English supertitles. \n————————— \n \nThis performance is part of Miami-Dade County Auditorium’s Away From Home Series. Programming continues to thrive during this period of renovation through the Away From Home Series. The series consists of off-site performances presented at alternative venues with community partners\, ensuring that the magic of the performing arts continues to captivate audiences throughout this transition period. The Away From Home Series presents dance\, theatre\, and music performances that take place at a variety of South Florida facilities and cultural centers. MDCA remains committed to keeping the spirit of creativity alive during this monumental endeavor and invites you to join us away from home!
URL:https://www.miamidadecountyauditorium.org/event/mdca-away-from-home-disonancia-by-abel-gonzalez-melo/2025-02-21/
LOCATION:Westchester Cultural Arts Center\, 7930 SW 40th St\, Miami\, FL\, 33155\, United States
ATTACH;FMTTYPE=image/png:https://www.miamidadecountyauditorium.org/wp-content/uploads/2024/12/Disonancia_web2025.png
GEO:25.7729289;-80.2410345
X-APPLE-STRUCTURED-LOCATION;VALUE=URI;X-ADDRESS=Westchester Cultural Arts Center 7930 SW 40th St Miami FL 33155 United States;X-APPLE-RADIUS=500;X-TITLE=7930 SW 40th St:geo:-80.2410345,25.7729289
END:VEVENT
BEGIN:VEVENT
DTSTART;TZID=America/New_York:20250222T203000
DTEND;TZID=America/New_York:20250222T203000
DTSTAMP:20260423T150353
CREATED:20241218T175402Z
LAST-MODIFIED:20250106T182215Z
UID:10009569-1740256200-1740256200@www.miamidadecountyauditorium.org
SUMMARY:MDCA Away from Home: “Disonancia” by Abel González Melo
DESCRIPTION:Teatro Avante and Miami-Dade County Auditorium presents “Disonancia” (Dissonance)\, by Abel González Melo and directed by Mario Ernesto Sánchez\, on Thursday\, February 20 through Saturday\, February 22 at 8:30 pm and Sunday\, February 23 at 5:00 pm at the Westchester Cultural Arts Center (WCAC). \nA totalitarian regime rises under the guise of democratic revolutions\, covert and subtle\, which tests the integrity of society and human beings in Abel González Melo’s gripping drama. Through the tools that theatre\, thought and art offer\, we analyze how dictatorships develop mechanisms of violence. \nThis performance is presented in Spanish with English supertitles. \n————————— \n \nThis performance is part of Miami-Dade County Auditorium’s Away From Home Series. Programming continues to thrive during this period of renovation through the Away From Home Series. The series consists of off-site performances presented at alternative venues with community partners\, ensuring that the magic of the performing arts continues to captivate audiences throughout this transition period. The Away From Home Series presents dance\, theatre\, and music performances that take place at a variety of South Florida facilities and cultural centers. MDCA remains committed to keeping the spirit of creativity alive during this monumental endeavor and invites you to join us away from home!
URL:https://www.miamidadecountyauditorium.org/event/mdca-away-from-home-disonancia-by-abel-gonzalez-melo/2025-02-22/
LOCATION:Westchester Cultural Arts Center\, 7930 SW 40th St\, Miami\, FL\, 33155\, United States
ATTACH;FMTTYPE=image/png:https://www.miamidadecountyauditorium.org/wp-content/uploads/2024/12/Disonancia_web2025.png
GEO:25.7729289;-80.2410345
X-APPLE-STRUCTURED-LOCATION;VALUE=URI;X-ADDRESS=Westchester Cultural Arts Center 7930 SW 40th St Miami FL 33155 United States;X-APPLE-RADIUS=500;X-TITLE=7930 SW 40th St:geo:-80.2410345,25.7729289
END:VEVENT
BEGIN:VEVENT
DTSTART;TZID=America/New_York:20250223T170000
DTEND;TZID=America/New_York:20250223T170000
DTSTAMP:20260423T150353
CREATED:20241218T175402Z
LAST-MODIFIED:20250106T182215Z
UID:10009570-1740330000-1740330000@www.miamidadecountyauditorium.org
SUMMARY:MDCA Away from Home: “Disonancia” by Abel González Melo
DESCRIPTION:Teatro Avante and Miami-Dade County Auditorium presents “Disonancia” (Dissonance)\, by Abel González Melo and directed by Mario Ernesto Sánchez\, on Thursday\, February 20 through Saturday\, February 22 at 8:30 pm and Sunday\, February 23 at 5:00 pm at the Westchester Cultural Arts Center (WCAC). \nA totalitarian regime rises under the guise of democratic revolutions\, covert and subtle\, which tests the integrity of society and human beings in Abel González Melo’s gripping drama. Through the tools that theatre\, thought and art offer\, we analyze how dictatorships develop mechanisms of violence. \nThis performance is presented in Spanish with English supertitles. \n————————— \n \nThis performance is part of Miami-Dade County Auditorium’s Away From Home Series. Programming continues to thrive during this period of renovation through the Away From Home Series. The series consists of off-site performances presented at alternative venues with community partners\, ensuring that the magic of the performing arts continues to captivate audiences throughout this transition period. The Away From Home Series presents dance\, theatre\, and music performances that take place at a variety of South Florida facilities and cultural centers. MDCA remains committed to keeping the spirit of creativity alive during this monumental endeavor and invites you to join us away from home!
URL:https://www.miamidadecountyauditorium.org/event/mdca-away-from-home-disonancia-by-abel-gonzalez-melo/2025-02-23/
LOCATION:Westchester Cultural Arts Center\, 7930 SW 40th St\, Miami\, FL\, 33155\, United States
ATTACH;FMTTYPE=image/png:https://www.miamidadecountyauditorium.org/wp-content/uploads/2024/12/Disonancia_web2025.png
GEO:25.7729289;-80.2410345
X-APPLE-STRUCTURED-LOCATION;VALUE=URI;X-ADDRESS=Westchester Cultural Arts Center 7930 SW 40th St Miami FL 33155 United States;X-APPLE-RADIUS=500;X-TITLE=7930 SW 40th St:geo:-80.2410345,25.7729289
END:VEVENT
END:VCALENDAR