BEGIN:VCALENDAR
VERSION:2.0
PRODID:-//Miami Dade County Auditorium - ECPv6.15.20//NONSGML v1.0//EN
CALSCALE:GREGORIAN
METHOD:PUBLISH
X-WR-CALNAME:Miami Dade County Auditorium
X-ORIGINAL-URL:https://www.miamidadecountyauditorium.org
X-WR-CALDESC:Events for Miami Dade County Auditorium
REFRESH-INTERVAL;VALUE=DURATION:PT1H
X-Robots-Tag:noindex
X-PUBLISHED-TTL:PT1H
BEGIN:VTIMEZONE
TZID:America/New_York
BEGIN:DAYLIGHT
TZOFFSETFROM:-0500
TZOFFSETTO:-0400
TZNAME:EDT
DTSTART:20230312T070000
END:DAYLIGHT
BEGIN:STANDARD
TZOFFSETFROM:-0400
TZOFFSETTO:-0500
TZNAME:EST
DTSTART:20231105T060000
END:STANDARD
BEGIN:DAYLIGHT
TZOFFSETFROM:-0500
TZOFFSETTO:-0400
TZNAME:EDT
DTSTART:20240310T070000
END:DAYLIGHT
BEGIN:STANDARD
TZOFFSETFROM:-0400
TZOFFSETTO:-0500
TZNAME:EST
DTSTART:20241103T060000
END:STANDARD
BEGIN:DAYLIGHT
TZOFFSETFROM:-0500
TZOFFSETTO:-0400
TZNAME:EDT
DTSTART:20250309T070000
END:DAYLIGHT
BEGIN:STANDARD
TZOFFSETFROM:-0400
TZOFFSETTO:-0500
TZNAME:EST
DTSTART:20251102T060000
END:STANDARD
END:VTIMEZONE
BEGIN:VEVENT
DTSTART;TZID=America/New_York:20241208T170000
DTEND;TZID=America/New_York:20241208T170000
DTSTAMP:20260423T180100
CREATED:20241017T140638Z
LAST-MODIFIED:20241023T192654Z
UID:10009554-1733677200-1733677200@www.miamidadecountyauditorium.org
SUMMARY:MDCA Away from Home: ARCA Images "Un viaje de Navidad Villancicos de Hispanoamérica" feat. Raúl González
DESCRIPTION:ARCA Images and Miami-Dade County Auditorium\, in partnership with the Roxy Theater\, presents “Un viaje de Navidad Villancicos de Hispanoamérica” on Sunday\, December 8 at the Westchester Cultural Arts Center (WCAC). \nChristmas has its own musical manifestations in each region of Latin America derived from the traditional Spanish Christmas carol. This is a voyage that describes Christmas through its most traditional and emotional songs\, a musical history of Christmas carols in Spanish from the Iberian Peninsula to the farthest reaches of the American continent. \nLa navidad tiene manifestaciones musicales propias en cada región de Latinoamérica derivadas del villancico tradicional español. Este es un recorrido que describe la navidad a través de sus canciones más tradicionales y emotivas\, una historia musical del villancico en español desde la península ibérica hasta los confines más recónditos del continente americano. \nPart of MDCA’s Very Merry Holiday Season 2024 series. \n————————— \n \nThis performance is part of Miami-Dade County Auditorium’s Away From Home Series. Programming continues to thrive during this period of renovation through the Away From Home Series. The series consists of off-site performances presented at alternative venues with community partners\, ensuring that the magic of the performing arts continues to captivate audiences throughout this transition period. The Away From Home Series presents dance\, theatre\, and music performances that take place at a variety of South Florida facilities and cultural centers. MDCA remains committed to keeping the spirit of creativity alive during this monumental endeavor and invites you to join us away from home!
URL:https://www.miamidadecountyauditorium.org/event/mdca-away-from-home-arca-images-un-viaje-de-navidad-a-christmas-voyage/
LOCATION:Westchester Cultural Arts Center\, 7930 SW 40th St\, Miami\, FL\, 33155\, United States
ATTACH;FMTTYPE=image/png:https://www.miamidadecountyauditorium.org/wp-content/uploads/2023/10/Un-viaje-de-Navidadr_web2023.png
GEO:25.7729289;-80.2410345
X-APPLE-STRUCTURED-LOCATION;VALUE=URI;X-ADDRESS=Westchester Cultural Arts Center 7930 SW 40th St Miami FL 33155 United States;X-APPLE-RADIUS=500;X-TITLE=7930 SW 40th St:geo:-80.2410345,25.7729289
END:VEVENT
BEGIN:VEVENT
DTSTART;TZID=America/New_York:20241213T200000
DTEND;TZID=America/New_York:20241213T200000
DTSTAMP:20260423T180100
CREATED:20240905T134743Z
LAST-MODIFIED:20240920T164434Z
UID:10009545-1734120000-1734120000@www.miamidadecountyauditorium.org
SUMMARY:MDCA Away from Home: Jose Negroni & Friends presents "Ready for Christmas"
DESCRIPTION:José Negroni and Miami-Dade County Auditorium presents “Ready for Christmas” (Listo Para La Navidad) on Friday\, December 13 at the Koubek Center. \nThis year\, three-time Latin Grammy® Nominee pianist and composer Jose Negroni\, featuring several special guest musicians\, choristers\, and soloists\, presents us with the best Latin and American Christmas music! Guest artists feature Nomar Negroni\, a percussionist musician who stood out at a very early age for his brilliant and musical solos\, Dr. Ed Calle\, one of the most recorded musical artists in history\, Cuban-American singer Lucy Grau\, experienced in various genres of pop and tropical music\, and Solange Merdinia\, American-Armenian-Argentine artist with an interpretive musical ability in different languages. With his experienced musicians\, Jose Negroni and friends will embroider new arrangements to each of the traditional Christmas songs\, giving it a touch of rhythmic and youthful freshness. \nPart of MDCA’s Very Merry Holiday Season 2024 series. \n————————— \n \nThis performance is part of Miami-Dade County Auditorium’s Away From Home Series. Programming continues to thrive during this period of renovation through the Away From Home Series. The series consists of off-site performances presented at alternative venues with community partners\, ensuring that the magic of the performing arts continues to captivate audiences throughout this transition period. The Away From Home Series presents dance\, theatre\, and music performances that take place at a variety of South Florida facilities and cultural centers. MDCA remains committed to keeping the spirit of creativity alive during this monumental endeavor and invites you to join us away from home!
URL:https://www.miamidadecountyauditorium.org/event/afh-2024-jose-negroni-ready-for-christmas/
LOCATION:Koubek Center\, 2705 SW 3rd St.\, Miami\, FL\, 33135\, United States
ATTACH;FMTTYPE=image/jpeg:https://www.miamidadecountyauditorium.org/wp-content/uploads/2021/12/Jose-Negroni-The-Michel-Legrand-Story_web1.jpg
GEO:25.7729289;-80.2410345
X-APPLE-STRUCTURED-LOCATION;VALUE=URI;X-ADDRESS=Koubek Center 2705 SW 3rd St. Miami FL 33135 United States;X-APPLE-RADIUS=500;X-TITLE=2705 SW 3rd St.:geo:-80.2410345,25.7729289
END:VEVENT
BEGIN:VEVENT
DTSTART;TZID=America/New_York:20241215T200000
DTEND;TZID=America/New_York:20241215T200000
DTSTAMP:20260423T180100
CREATED:20241001T171451Z
LAST-MODIFIED:20241206T154647Z
UID:10009552-1734292800-1734292800@www.miamidadecountyauditorium.org
SUMMARY:MDCA Away from Home: "Christmas is in the Air" by Florida Chamber Orchestra feat. Daniel Bouchet
DESCRIPTION:Florida Chamber Orchestra and Miami-Dade County Auditorium presents “Christmas is in the Air\,” featuring guest singer Daniel Bouchet\, on Sunday\, December 15 at St. Dominic Catholic Parish Church. \nGet ready for the most magical night of the season! The Florida Chamber Orchestra\, celebrating its 29th spectacular year\, is bringing holiday joy to life in an unforgettable Christmas concert. Under the masterful baton of the renowned Marlene Urbay\, this festive event will feature a dazzling program that blends cherished traditional Christmas tunes\, lively Latin rhythms\, iconic movie soundtracks\, and even some pop favorites. To top it all off\, special guest singer Daniel Bouchet will take the stage\, adding his incredible voice to this enchanting evening. Don’t miss the chance to experience the magic—this concert will fill your heart with holiday cheer! \nPart of MDCA’s Very Merry Holiday Season 2024 series. \n————————— \n \nThis performance is part of Miami-Dade County Auditorium’s Away From Home Series. Programming continues to thrive during this period of renovation through the Away From Home Series. The series consists of off-site performances presented at alternative venues with community partners\, ensuring that the magic of the performing arts continues to captivate audiences throughout this transition period. The Away From Home Series presents dance\, theatre\, and music performances that take place at a variety of South Florida facilities and cultural centers. MDCA remains committed to keeping the spirit of creativity alive during this monumental endeavor and invites you to join us away from home!
URL:https://www.miamidadecountyauditorium.org/event/afh-christmas-is-in-the-air-fco-2024/
LOCATION:St. Dominic Catholic Parish\, 5909 NW 7th St.\, Miami\, FL\, 33126\, United States
ATTACH;FMTTYPE=image/png:https://www.miamidadecountyauditorium.org/wp-content/uploads/2024/10/Christmas-is-in-the-Air_FCO-2024_web-1.png
END:VEVENT
BEGIN:VEVENT
DTSTART;TZID=America/New_York:20241221T170000
DTEND;TZID=America/New_York:20241221T170000
DTSTAMP:20260423T180100
CREATED:20241028T180012Z
LAST-MODIFIED:20241028T180027Z
UID:10009555-1734800400-1734800400@www.miamidadecountyauditorium.org
SUMMARY:MDCA Away from Home: "Papier Maché" de Carlos Celdrán
DESCRIPTION:Back by popular demand\, ARCA Images and Miami-Dade County Auditorium present “Papier Maché” on December 21 & 22 at the Westchester Cultural Arts Center (WCAC). \nLa historia gira alrededor de la vida y el trabajo de la importante pintora cubana Antonia Eiriz. \nAntonia alcanzó su mayor reconocimiento como pintora en la Cuba revolucionaria de la década de 1960. En el apogeo de su carrera\, después de sufrir ataques y críticas por parte de algunos comisionados y representantes de las instituciones culturales del país\, quienes la acusaban decrear una obra pesimista y derrotista que se alejaba de la nueva realidad social\, optó por retirarse y permanecer en silencio en la escena artística durante más de veinticinco años. En el texto\, un director de teatro intenta “vender” un proyecto sobre Antonia a productores\, bienales y teatros en Europa. La incomprensión y las dudas ideológicas\, culturales y comerciales que su idea genera son parte de la trama de la obra\, junto con la investigación que debe realizar para reconstruir los eventos y causas que rodearon la supuesta censura y autoexilio de la artista. \nLa obra está dirigida por Carlos Cedrán\, con la producción de Alexa Kuve y contará con las actuaciones de Zulema Clarés\, Ariel Texidó\, Rosalinda Rodríguez\, Andy Barbosa\, Guillermo Cabré. \n————————— \n \nThis performance is part of Miami-Dade County Auditorium’s Away From Home Series. Programming continues to thrive during this period of renovation through the Away From Home Series. The series consists of off-site performances presented at alternative venues with community partners\, ensuring that the magic of the performing arts continues to captivate audiences throughout this transition period. The Away From Home Series presents dance\, theatre\, and music performances that take place at a variety of South Florida facilities and cultural centers. MDCA remains committed to keeping the spirit of creativity alive during this monumental endeavor and invites you to join us away from home!
URL:https://www.miamidadecountyauditorium.org/event/mdca-away-from-home-papier-mache_2024/2024-12-21/
LOCATION:Westchester Cultural Arts Center\, 7930 SW 40th St\, Miami\, FL\, 33155\, United States
ATTACH;FMTTYPE=image/png:https://www.miamidadecountyauditorium.org/wp-content/uploads/2024/06/Papier-Mache_general_1.png
GEO:25.7729289;-80.2410345
X-APPLE-STRUCTURED-LOCATION;VALUE=URI;X-ADDRESS=Westchester Cultural Arts Center 7930 SW 40th St Miami FL 33155 United States;X-APPLE-RADIUS=500;X-TITLE=7930 SW 40th St:geo:-80.2410345,25.7729289
END:VEVENT
BEGIN:VEVENT
DTSTART;TZID=America/New_York:20241222T170000
DTEND;TZID=America/New_York:20241222T170000
DTSTAMP:20260423T180100
CREATED:20241028T180012Z
LAST-MODIFIED:20241028T180027Z
UID:10009556-1734886800-1734886800@www.miamidadecountyauditorium.org
SUMMARY:MDCA Away from Home: "Papier Maché" de Carlos Celdrán
DESCRIPTION:Back by popular demand\, ARCA Images and Miami-Dade County Auditorium present “Papier Maché” on December 21 & 22 at the Westchester Cultural Arts Center (WCAC). \nLa historia gira alrededor de la vida y el trabajo de la importante pintora cubana Antonia Eiriz. \nAntonia alcanzó su mayor reconocimiento como pintora en la Cuba revolucionaria de la década de 1960. En el apogeo de su carrera\, después de sufrir ataques y críticas por parte de algunos comisionados y representantes de las instituciones culturales del país\, quienes la acusaban decrear una obra pesimista y derrotista que se alejaba de la nueva realidad social\, optó por retirarse y permanecer en silencio en la escena artística durante más de veinticinco años. En el texto\, un director de teatro intenta “vender” un proyecto sobre Antonia a productores\, bienales y teatros en Europa. La incomprensión y las dudas ideológicas\, culturales y comerciales que su idea genera son parte de la trama de la obra\, junto con la investigación que debe realizar para reconstruir los eventos y causas que rodearon la supuesta censura y autoexilio de la artista. \nLa obra está dirigida por Carlos Cedrán\, con la producción de Alexa Kuve y contará con las actuaciones de Zulema Clarés\, Ariel Texidó\, Rosalinda Rodríguez\, Andy Barbosa\, Guillermo Cabré. \n————————— \n \nThis performance is part of Miami-Dade County Auditorium’s Away From Home Series. Programming continues to thrive during this period of renovation through the Away From Home Series. The series consists of off-site performances presented at alternative venues with community partners\, ensuring that the magic of the performing arts continues to captivate audiences throughout this transition period. The Away From Home Series presents dance\, theatre\, and music performances that take place at a variety of South Florida facilities and cultural centers. MDCA remains committed to keeping the spirit of creativity alive during this monumental endeavor and invites you to join us away from home!
URL:https://www.miamidadecountyauditorium.org/event/mdca-away-from-home-papier-mache_2024/2024-12-22/
LOCATION:Westchester Cultural Arts Center\, 7930 SW 40th St\, Miami\, FL\, 33155\, United States
ATTACH;FMTTYPE=image/png:https://www.miamidadecountyauditorium.org/wp-content/uploads/2024/06/Papier-Mache_general_1.png
GEO:25.7729289;-80.2410345
X-APPLE-STRUCTURED-LOCATION;VALUE=URI;X-ADDRESS=Westchester Cultural Arts Center 7930 SW 40th St Miami FL 33155 United States;X-APPLE-RADIUS=500;X-TITLE=7930 SW 40th St:geo:-80.2410345,25.7729289
END:VEVENT
END:VCALENDAR