BEGIN:VCALENDAR
VERSION:2.0
PRODID:-//Miami Dade County Auditorium - ECPv6.15.20//NONSGML v1.0//EN
CALSCALE:GREGORIAN
METHOD:PUBLISH
X-ORIGINAL-URL:https://www.miamidadecountyauditorium.org
X-WR-CALDESC:Events for Miami Dade County Auditorium
REFRESH-INTERVAL;VALUE=DURATION:PT1H
X-Robots-Tag:noindex
X-PUBLISHED-TTL:PT1H
BEGIN:VTIMEZONE
TZID:America/New_York
BEGIN:DAYLIGHT
TZOFFSETFROM:-0500
TZOFFSETTO:-0400
TZNAME:EDT
DTSTART:20230312T070000
END:DAYLIGHT
BEGIN:STANDARD
TZOFFSETFROM:-0400
TZOFFSETTO:-0500
TZNAME:EST
DTSTART:20231105T060000
END:STANDARD
BEGIN:DAYLIGHT
TZOFFSETFROM:-0500
TZOFFSETTO:-0400
TZNAME:EDT
DTSTART:20240310T070000
END:DAYLIGHT
BEGIN:STANDARD
TZOFFSETFROM:-0400
TZOFFSETTO:-0500
TZNAME:EST
DTSTART:20241103T060000
END:STANDARD
BEGIN:DAYLIGHT
TZOFFSETFROM:-0500
TZOFFSETTO:-0400
TZNAME:EDT
DTSTART:20250309T070000
END:DAYLIGHT
BEGIN:STANDARD
TZOFFSETFROM:-0400
TZOFFSETTO:-0500
TZNAME:EST
DTSTART:20251102T060000
END:STANDARD
END:VTIMEZONE
BEGIN:VEVENT
DTSTART;TZID=America/New_York:20241012T150000
DTEND;TZID=America/New_York:20241012T150000
DTSTAMP:20260424T092018
CREATED:20240826T193306Z
LAST-MODIFIED:20241011T135104Z
UID:10009544-1728745200-1728745200@www.miamidadecountyauditorium.org
SUMMARY:MDCA Away from Home: ZunZún Children’s Fest feat. "Insectos y Bicharracos" by Rita Rosa Ruesga
DESCRIPTION:TICKETS ARE SOLD OUT!\nFUNDarte and Miami-Dade County Auditorium present “Insectos y Bicharracos” by Rita Rosa Ruesga as part of the ZunZún Children’s Festival on Saturday\, October 12 at 3:00 pm at the Westchester Cultural Arts Center (WCAC). \nThe ZunZún Children’s Festival celebrates annually with the family and the youngest audiences a varied program of bilingual projects that brings together local and visiting artists to promote the appreciation of universal culture and the values of “Hispanidad”. “Insectos y Bicharracos” is a musical theater play\, inspired by the album of the same name\, produced by Rita Rosa Ruesga and directed by Eddy Diaz Souza. Her band of local musicians will accompany the renowned singer-songwriter to tell this story full of color and Caribbean rhythms with the general production of FUNDarte in collaboration with the Westchester Arts & Cultural Center. \n————————— \n \nThis performance is part of Miami-Dade County Auditorium’s Away From Home Series. Programming continues to thrive during this period of renovation through the Away From Home Series. The series consists of off-site performances presented at alternative venues with community partners\, ensuring that the magic of the performing arts continues to captivate audiences throughout this transition period. The Away From Home Series presents dance\, theatre\, and music performances that take place at a variety of South Florida facilities and cultural centers. MDCA remains committed to keeping the spirit of creativity alive during this monumental endeavor and invites you to join us away from home!
URL:https://www.miamidadecountyauditorium.org/event/mdca-away-from-home-zunzun-childrens-fest-feat-insectos-y-bicharracos-by-rita-rosa-ruesga/
LOCATION:Westchester Cultural Arts Center\, 7930 SW 40th St\, Miami\, FL\, 33155\, United States
ATTACH;FMTTYPE=image/png:https://www.miamidadecountyauditorium.org/wp-content/uploads/2024/08/Insectos-y-Bicharracos_web-1.png
GEO:25.7729289;-80.2410345
X-APPLE-STRUCTURED-LOCATION;VALUE=URI;X-ADDRESS=Westchester Cultural Arts Center 7930 SW 40th St Miami FL 33155 United States;X-APPLE-RADIUS=500;X-TITLE=7930 SW 40th St:geo:-80.2410345,25.7729289
END:VEVENT
BEGIN:VEVENT
DTSTART;TZID=America/New_York:20241012T170000
DTEND;TZID=America/New_York:20241012T170000
DTSTAMP:20260424T092018
CREATED:20241011T134958Z
LAST-MODIFIED:20241011T172712Z
UID:10009553-1728752400-1728752400@www.miamidadecountyauditorium.org
SUMMARY:MDCA Away from Home: ZunZún Children’s Fest feat. "Insectos y Bicharracos" by Rita Rosa Ruesga
DESCRIPTION:TICKETS ARE SOLD OUT!\nFUNDarte and Miami-Dade County Auditorium present “Insectos y Bicharracos” by Rita Rosa Ruesga as part of the ZunZún Children’s Festival on Saturday\, October 12 at 5:00 pm at the Westchester Cultural Arts Center (WCAC). \nThe ZunZún Children’s Festival celebrates annually with the family and the youngest audiences a varied program of bilingual projects that brings together local and visiting artists to promote the appreciation of universal culture and the values of “Hispanidad”. “Insectos y Bicharracos” is a musical theater play\, inspired by the album of the same name\, produced by Rita Rosa Ruesga and directed by Eddy Diaz Souza. Her band of local musicians will accompany the renowned singer-songwriter to tell this story full of color and Caribbean rhythms with the general production of FUNDarte in collaboration with the Westchester Arts & Cultural Center. \n————————— \n \nThis performance is part of Miami-Dade County Auditorium’s Away From Home Series. Programming continues to thrive during this period of renovation through the Away From Home Series. The series consists of off-site performances presented at alternative venues with community partners\, ensuring that the magic of the performing arts continues to captivate audiences throughout this transition period. The Away From Home Series presents dance\, theatre\, and music performances that take place at a variety of South Florida facilities and cultural centers. MDCA remains committed to keeping the spirit of creativity alive during this monumental endeavor and invites you to join us away from home!
URL:https://www.miamidadecountyauditorium.org/event/mdca-away-from-home-zunzun-childrens-fest-feat-insectos-y-bicharracos-by-rita-rosa-ruesga-2/
LOCATION:Westchester Cultural Arts Center\, 7930 SW 40th St\, Miami\, FL\, 33155\, United States
ATTACH;FMTTYPE=image/png:https://www.miamidadecountyauditorium.org/wp-content/uploads/2024/08/Insectos-y-Bicharracos_web-1.png
GEO:25.7729289;-80.2410345
X-APPLE-STRUCTURED-LOCATION;VALUE=URI;X-ADDRESS=Westchester Cultural Arts Center 7930 SW 40th St Miami FL 33155 United States;X-APPLE-RADIUS=500;X-TITLE=7930 SW 40th St:geo:-80.2410345,25.7729289
END:VEVENT
BEGIN:VEVENT
DTSTART;TZID=America/New_York:20241012T200000
DTEND;TZID=America/New_York:20241012T200000
DTSTAMP:20260424T092018
CREATED:20240823T144725Z
LAST-MODIFIED:20240823T144725Z
UID:10009543-1728763200-1728763200@www.miamidadecountyauditorium.org
SUMMARY:MDCA Away from Home: Julio Montalvo Cuban Collective Concert
DESCRIPTION:CCEMiami and Miami-Dade County Auditorium presents the Julio Montalvo Cuban Collective Concert on Saturday\, October 12 at the Koubek Center. \nLatin Grammy Award-winner Julio Montalvo will perform with his big band project\, the Julio Montalvo Collective\, offering an extensive repertoire from Latin Jazz to Afro-Cuban music. An ensemble of 6 musicians will perform original pieces and a selection of Cuban\, Brazilian\, and Latin Jazz covers. \nJulio Montalvo Collective es el nombre general del proyecto que este maestro del trombón defiende como solista\, una mezcla de ritmos afrocubanos con las nuevas tendencias del jazz moderno logrando una cálida fusión de New Latín Jazz. En este concierto\, que presenta el Centro Cultural Español junto con el Miami-Dade County Auditorium\, Montalvo se centra en la música afrocubana con toques de jazz latino y nos hace un recorrido de música instrumental y una variedad de temas cantados. \n————————— \n \nThis performance is part of Miami-Dade County Auditorium’s Away From Home Series. Programming continues to thrive during this period of renovation through the Away From Home Series. The series consists of off-site performances presented at alternative venues with community partners\, ensuring that the magic of the performing arts continues to captivate audiences throughout this transition period. The Away From Home Series presents dance\, theatre\, and music performances that take place at a variety of South Florida facilities and cultural centers. MDCA remains committed to keeping the spirit of creativity alive during this monumental endeavor and invites you to join us away from home! \n 
URL:https://www.miamidadecountyauditorium.org/event/mdca-away-from-home-julio-montalvo-cuban-collective-concert/
LOCATION:Koubek Center\, 2705 SW 3rd St.\, Miami\, FL\, 33135\, United States
ATTACH;FMTTYPE=image/png:https://www.miamidadecountyauditorium.org/wp-content/uploads/2024/08/Julio-Montalvo-Cuban-Collective_web-2.png
GEO:25.7729289;-80.2410345
X-APPLE-STRUCTURED-LOCATION;VALUE=URI;X-ADDRESS=Koubek Center 2705 SW 3rd St. Miami FL 33135 United States;X-APPLE-RADIUS=500;X-TITLE=2705 SW 3rd St.:geo:-80.2410345,25.7729289
END:VEVENT
BEGIN:VEVENT
DTSTART;TZID=America/New_York:20241013T150000
DTEND;TZID=America/New_York:20241013T150000
DTSTAMP:20260424T092018
CREATED:20240813T191645Z
LAST-MODIFIED:20240927T193202Z
UID:10009531-1728831600-1728831600@www.miamidadecountyauditorium.org
SUMMARY:MDCA Away from Home: ZunZún Children’s Fest feat. "Luis Pescetti in Concert"
DESCRIPTION:FUNDarte and Miami-Dade County Auditorium\, in partnership with Rhythm Foundation\, present “Luis Pescetti in Concert” as part of the ZunZún Children’s Festival and Miami Beach Arts in the Park Program on Sunday\, October 13 at Miami Beach Bandshell. \nThe ZunZún Children’s Festival celebrates annually with the family and the youngest audiences a varied program of bilingual projects that brings together local and visiting artists to promote the appreciation of universal culture and the values of “Hispanidad”. Luis María Pescetti’s concerts are a joyous experience filled with laughter and interaction. Expect to be engaged with hilarious anecdotes\, witty jokes\, and catchy songs that will have you singing along. Pescetti’s unique ability to connect with the audience\, especially children\, makes his performances truly special. \n————————— \n \nThis performance is part of Miami-Dade County Auditorium’s Away From Home Series. Programming continues to thrive during this period of renovation through the Away From Home Series. The series consists of off-site performances presented at alternative venues with community partners\, ensuring that the magic of the performing arts continues to captivate audiences throughout this transition period. The Away From Home Series presents dance\, theatre\, and music performances that take place at a variety of South Florida facilities and cultural centers. MDCA remains committed to keeping the spirit of creativity alive during this monumental endeavor and invites you to join us away from home!
URL:https://www.miamidadecountyauditorium.org/event/mdca-away-from-home-zunzun-childrens-fest-feat-luis-pescetti-in-concert/
LOCATION:Miami Beach Bandshell\, 7275 Collins Ave.\, Miami Beach\, FL\, 33141\, United States
ATTACH;FMTTYPE=image/png:https://www.miamidadecountyauditorium.org/wp-content/uploads/2024/08/Luis-Pescetti-in-Concert_AFH_web_1.png
END:VEVENT
BEGIN:VEVENT
DTSTART;TZID=America/New_York:20241025T203000
DTEND;TZID=America/New_York:20241025T203000
DTSTAMP:20260424T092018
CREATED:20240913T153819Z
LAST-MODIFIED:20241011T153306Z
UID:10009547-1729888200-1729888200@www.miamidadecountyauditorium.org
SUMMARY:MDCA Away from Home: "Por dentro" by Bistoury Physical Theatre and Film
DESCRIPTION:Bistoury Physical Theatre and Film and Miami-Dade County Auditorium presents “Por dentro” on October 25 and 26 at Inkub8. \nA transdisciplinary exploration laboratory focused on contemporary dance and physical theatre — a multifaceted and evolving endeavor\, offering a realm of infinite possibilities for interpretation by whomever observes it. “Por dentro” serves as a metaphor for a new worldview in which reality is perceived as unstable\, ambiguous\, and in a perpetual state of flux. Directed by Alexey Taran\, featuring artists Carla Forte\, Heather Maloney and Daniela Padrón. \n————————— \n \nThis performance is part of Miami-Dade County Auditorium’s Away From Home Series. Programming continues to thrive during this period of renovation through the Away From Home Series. The series consists of off-site performances presented at alternative venues with community partners\, ensuring that the magic of the performing arts continues to captivate audiences throughout this transition period. The Away From Home Series presents dance\, theatre\, and music performances that take place at a variety of South Florida facilities and cultural centers. MDCA remains committed to keeping the spirit of creativity alive during this monumental endeavor and invites you to join us away from home!
URL:https://www.miamidadecountyauditorium.org/event/mdca-afh-por-dentro-bistoury-2024/2024-10-25/
LOCATION:Inkub8\, 355 NW 54th Street\, Miami\, FL\, 33127\, United States
ATTACH;FMTTYPE=image/png:https://www.miamidadecountyauditorium.org/wp-content/uploads/2023/09/Por-Dentro_web_2023_1.png
END:VEVENT
BEGIN:VEVENT
DTSTART;TZID=America/New_York:20241026T203000
DTEND;TZID=America/New_York:20241026T203000
DTSTAMP:20260424T092018
CREATED:20240913T153819Z
LAST-MODIFIED:20241011T153306Z
UID:10009548-1729974600-1729974600@www.miamidadecountyauditorium.org
SUMMARY:MDCA Away from Home: "Por dentro" by Bistoury Physical Theatre and Film
DESCRIPTION:Bistoury Physical Theatre and Film and Miami-Dade County Auditorium presents “Por dentro” on October 25 and 26 at Inkub8. \nA transdisciplinary exploration laboratory focused on contemporary dance and physical theatre — a multifaceted and evolving endeavor\, offering a realm of infinite possibilities for interpretation by whomever observes it. “Por dentro” serves as a metaphor for a new worldview in which reality is perceived as unstable\, ambiguous\, and in a perpetual state of flux. Directed by Alexey Taran\, featuring artists Carla Forte\, Heather Maloney and Daniela Padrón. \n————————— \n \nThis performance is part of Miami-Dade County Auditorium’s Away From Home Series. Programming continues to thrive during this period of renovation through the Away From Home Series. The series consists of off-site performances presented at alternative venues with community partners\, ensuring that the magic of the performing arts continues to captivate audiences throughout this transition period. The Away From Home Series presents dance\, theatre\, and music performances that take place at a variety of South Florida facilities and cultural centers. MDCA remains committed to keeping the spirit of creativity alive during this monumental endeavor and invites you to join us away from home!
URL:https://www.miamidadecountyauditorium.org/event/mdca-afh-por-dentro-bistoury-2024/2024-10-26/
LOCATION:Inkub8\, 355 NW 54th Street\, Miami\, FL\, 33127\, United States
ATTACH;FMTTYPE=image/png:https://www.miamidadecountyauditorium.org/wp-content/uploads/2023/09/Por-Dentro_web_2023_1.png
END:VEVENT
END:VCALENDAR