BEGIN:VCALENDAR
VERSION:2.0
PRODID:-//Miami Dade County Auditorium - ECPv6.15.20//NONSGML v1.0//EN
CALSCALE:GREGORIAN
METHOD:PUBLISH
X-ORIGINAL-URL:https://www.miamidadecountyauditorium.org
X-WR-CALDESC:Events for Miami Dade County Auditorium
REFRESH-INTERVAL;VALUE=DURATION:PT1H
X-Robots-Tag:noindex
X-PUBLISHED-TTL:PT1H
BEGIN:VTIMEZONE
TZID:America/New_York
BEGIN:DAYLIGHT
TZOFFSETFROM:-0500
TZOFFSETTO:-0400
TZNAME:EDT
DTSTART:20230312T070000
END:DAYLIGHT
BEGIN:STANDARD
TZOFFSETFROM:-0400
TZOFFSETTO:-0500
TZNAME:EST
DTSTART:20231105T060000
END:STANDARD
BEGIN:DAYLIGHT
TZOFFSETFROM:-0500
TZOFFSETTO:-0400
TZNAME:EDT
DTSTART:20240310T070000
END:DAYLIGHT
BEGIN:STANDARD
TZOFFSETFROM:-0400
TZOFFSETTO:-0500
TZNAME:EST
DTSTART:20241103T060000
END:STANDARD
BEGIN:DAYLIGHT
TZOFFSETFROM:-0500
TZOFFSETTO:-0400
TZNAME:EDT
DTSTART:20250309T070000
END:DAYLIGHT
BEGIN:STANDARD
TZOFFSETFROM:-0400
TZOFFSETTO:-0500
TZNAME:EST
DTSTART:20251102T060000
END:STANDARD
END:VTIMEZONE
BEGIN:VEVENT
DTSTART;TZID=America/New_York:20240928T170000
DTEND;TZID=America/New_York:20240928T170000
DTSTAMP:20260423T223241
CREATED:20240821T152528Z
LAST-MODIFIED:20240924T171034Z
UID:10009551-1727542800-1727542800@www.miamidadecountyauditorium.org
SUMMARY:MDCA Away from Home: "¿Y Cómo Fue? Una Historia de Benny Moré"
DESCRIPTION:ARCA Images and Miami-Dade County Auditorium\, in partnership with the Roxy Theater\, presents “¿Y Cómo Fue? Una Historia de Benny Moré\,” on September 28 at 5:00 and 8:30 pm at the Westchester Cultural Arts Center (WCAC). \nEste viaje musical inmersivo a través de las canciones del músico cubano Benny Moré\, ambientado en un cabaret de los años 50\, promete cautivar al público. El reconocido actor Franklin Virgüez interpreta a un viejo trompetista cuya vida se transforma por un encuentro fatídico con el “Rey del Son” cubano. Se anima a los asistentes a vestirse elegantemente para esta noche mágica de música. \n————————— \n \nThis performance is part of Miami-Dade County Auditorium’s Away From Home Series. Programming continues to thrive during this period of renovation through the Away From Home Series. The series consists of off-site performances presented at alternative venues with community partners\, ensuring that the magic of the performing arts continues to captivate audiences throughout this transition period. The Away From Home Series presents dance\, theatre\, and music performances that take place at a variety of South Florida facilities and cultural centers. MDCA remains committed to keeping the spirit of creativity alive during this monumental endeavor and invites you to join us away from home!
URL:https://www.miamidadecountyauditorium.org/event/mdca-away-from-home-y-como-fue-una-historia-de-benny-more/2024-09-28/1/
LOCATION:Westchester Cultural Arts Center\, 7930 SW 40th St\, Miami\, FL\, 33155\, United States
ATTACH;FMTTYPE=image/png:https://www.miamidadecountyauditorium.org/wp-content/uploads/2024/04/ARCA-Images_Y-Como-Fue-2024_AFH_web_1.png
GEO:25.7729289;-80.2410345
X-APPLE-STRUCTURED-LOCATION;VALUE=URI;X-ADDRESS=Westchester Cultural Arts Center 7930 SW 40th St Miami FL 33155 United States;X-APPLE-RADIUS=500;X-TITLE=7930 SW 40th St:geo:-80.2410345,25.7729289
END:VEVENT
BEGIN:VEVENT
DTSTART;TZID=America/New_York:20240928T203000
DTEND;TZID=America/New_York:20240928T203000
DTSTAMP:20260423T223241
CREATED:20240821T152528Z
LAST-MODIFIED:20240924T171034Z
UID:10009541-1727555400-1727555400@www.miamidadecountyauditorium.org
SUMMARY:MDCA Away from Home: "¿Y Cómo Fue? Una Historia de Benny Moré"
DESCRIPTION:ARCA Images and Miami-Dade County Auditorium\, in partnership with the Roxy Theater\, presents “¿Y Cómo Fue? Una Historia de Benny Moré\,” on September 28 at 5:00 and 8:30 pm at the Westchester Cultural Arts Center (WCAC). \nEste viaje musical inmersivo a través de las canciones del músico cubano Benny Moré\, ambientado en un cabaret de los años 50\, promete cautivar al público. El reconocido actor Franklin Virgüez interpreta a un viejo trompetista cuya vida se transforma por un encuentro fatídico con el “Rey del Son” cubano. Se anima a los asistentes a vestirse elegantemente para esta noche mágica de música. \n————————— \n \nThis performance is part of Miami-Dade County Auditorium’s Away From Home Series. Programming continues to thrive during this period of renovation through the Away From Home Series. The series consists of off-site performances presented at alternative venues with community partners\, ensuring that the magic of the performing arts continues to captivate audiences throughout this transition period. The Away From Home Series presents dance\, theatre\, and music performances that take place at a variety of South Florida facilities and cultural centers. MDCA remains committed to keeping the spirit of creativity alive during this monumental endeavor and invites you to join us away from home!
URL:https://www.miamidadecountyauditorium.org/event/mdca-away-from-home-y-como-fue-una-historia-de-benny-more/2024-09-28/2/
LOCATION:Westchester Cultural Arts Center\, 7930 SW 40th St\, Miami\, FL\, 33155\, United States
ATTACH;FMTTYPE=image/png:https://www.miamidadecountyauditorium.org/wp-content/uploads/2024/04/ARCA-Images_Y-Como-Fue-2024_AFH_web_1.png
GEO:25.7729289;-80.2410345
X-APPLE-STRUCTURED-LOCATION;VALUE=URI;X-ADDRESS=Westchester Cultural Arts Center 7930 SW 40th St Miami FL 33155 United States;X-APPLE-RADIUS=500;X-TITLE=7930 SW 40th St:geo:-80.2410345,25.7729289
END:VEVENT
END:VCALENDAR