BEGIN:VCALENDAR
VERSION:2.0
PRODID:-//Miami Dade County Auditorium - ECPv6.15.20//NONSGML v1.0//EN
CALSCALE:GREGORIAN
METHOD:PUBLISH
X-ORIGINAL-URL:https://www.miamidadecountyauditorium.org
X-WR-CALDESC:Events for Miami Dade County Auditorium
REFRESH-INTERVAL;VALUE=DURATION:PT1H
X-Robots-Tag:noindex
X-PUBLISHED-TTL:PT1H
BEGIN:VTIMEZONE
TZID:America/New_York
BEGIN:DAYLIGHT
TZOFFSETFROM:-0500
TZOFFSETTO:-0400
TZNAME:EDT
DTSTART:20230312T070000
END:DAYLIGHT
BEGIN:STANDARD
TZOFFSETFROM:-0400
TZOFFSETTO:-0500
TZNAME:EST
DTSTART:20231105T060000
END:STANDARD
BEGIN:DAYLIGHT
TZOFFSETFROM:-0500
TZOFFSETTO:-0400
TZNAME:EDT
DTSTART:20240310T070000
END:DAYLIGHT
BEGIN:STANDARD
TZOFFSETFROM:-0400
TZOFFSETTO:-0500
TZNAME:EST
DTSTART:20241103T060000
END:STANDARD
BEGIN:DAYLIGHT
TZOFFSETFROM:-0500
TZOFFSETTO:-0400
TZNAME:EDT
DTSTART:20250309T070000
END:DAYLIGHT
BEGIN:STANDARD
TZOFFSETFROM:-0400
TZOFFSETTO:-0500
TZNAME:EST
DTSTART:20251102T060000
END:STANDARD
END:VTIMEZONE
BEGIN:VEVENT
DTSTART;TZID=America/New_York:20240504T100000
DTEND;TZID=America/New_York:20240504T120000
DTSTAMP:20260424T043904
CREATED:20240408T145226Z
LAST-MODIFIED:20240408T145226Z
UID:10008667-1714816800-1714824000@www.miamidadecountyauditorium.org
SUMMARY:Food Distribution Drive Thru
DESCRIPTION:Join Miami-Dade County Commissioner Eileen Higgins for the Food Distribution Drive Thru at Miami-Dade County Auditorium on Saturday\, May 4 from 10:00 am – 12:00 pm (or until supplies last). Gates open at 9:00 am.
URL:https://www.miamidadecountyauditorium.org/event/food-distribution-drive-thru-2024/
LOCATION:Miami-Dade County Auditorium\, 2901 West Flagler St\, Miami\, FL\, 33135\, United States
ATTACH;FMTTYPE=image/png:https://www.miamidadecountyauditorium.org/wp-content/uploads/2024/04/District-5-Food-Drive-Thru_2024_web.png
GEO:25.773093;-80.241163
X-APPLE-STRUCTURED-LOCATION;VALUE=URI;X-ADDRESS=Miami-Dade County Auditorium 2901 West Flagler St Miami FL 33135 United States;X-APPLE-RADIUS=500;X-TITLE=2901 West Flagler St:geo:-80.241163,25.773093
END:VEVENT
BEGIN:VEVENT
DTSTART;TZID=America/New_York:20240511T200000
DTEND;TZID=America/New_York:20240511T200000
DTSTAMP:20260424T043904
CREATED:20240417T143026Z
LAST-MODIFIED:20240428T212034Z
UID:10008671-1715457600-1715457600@www.miamidadecountyauditorium.org
SUMMARY:MDCA Away from Home: "FlamenGO 2024" feat. Paula Rodríguez Flamenco Company
DESCRIPTION:CCEMiami and Miami-Dade County Auditorium present FlamenGO 2024\, “El latir del Mantón\,” featuring the Paula Rodríguez Flamenco Company on Saturday\, May 11 at the Colony Theater. \nPaula Rodríguez Flamenco Company’s “El latir del Mantón” is a show where singing\, guitar and percussion accompany the dancer Paula Rodríguez on a sensory journey that only flamenco can create\, to turn this show into an hour of magic and genuinely Spanish art. Paula Rodríguez\, who won in 2021 the first prize in the modality of Desplante in the International Flamenco Festival of Cante de las Minas\, with a sublime Taranto is accompanied on Stage by the outstanding flamenco singer José Plantón Heredia “José del Calli”\, also winner in 2022 of the first prize of Seguirillas in the same festival. \n————————— \n \nThis performance is part of Miami-Dade County Auditorium’s Away From Home Series. Programming continues to thrive during this period of renovation through the Away From Home Series. The series consists of off-site performances presented at alternative venues with community partners\, ensuring that the magic of the performing arts continues to captivate audiences throughout this transition period. The Away From Home Series presents dance\, theatre\, and music performances that take place at a variety of South Florida facilities and cultural centers. MDCA remains committed to keeping the spirit of creativity alive during this monumental endeavor and invites you to join us away from home!
URL:https://www.miamidadecountyauditorium.org/event/ccemiami-flamengo-2024-afh/
LOCATION:Colony Theatre\, 1040 Lincoln Rd.\, Miami Beach\, FL\, 33139\, United States
ATTACH;FMTTYPE=image/png:https://www.miamidadecountyauditorium.org/wp-content/uploads/2024/04/FlamenGO2024_AFH_web_5.png
END:VEVENT
BEGIN:VEVENT
DTSTART;TZID=America/New_York:20240517T200000
DTEND;TZID=America/New_York:20240517T200000
DTSTAMP:20260424T043904
CREATED:20240417T142736Z
LAST-MODIFIED:20240502T165129Z
UID:10008669-1715976000-1715976000@www.miamidadecountyauditorium.org
SUMMARY:MDCA Away from Home: "Cuba 2024: A Contemporary Showcase of Cuban and Cuban American Composers”
DESCRIPTION:Dranoff 2 Piano/Latin 2 Piano and Miami-Dade County Auditorium presents “Cuba 2024: A Contemporary Showcase of Cuban and Cuban American Composers\,” on Friday\, May 17 at the Sanctuary of the Arts in Coral Gables. \n“Cuba 2024: A Contemporary Showcase of Cuban and Cuban American Composers” will showcase top Cuban musicians from around the U.S. playing award-winning Cuban and Cuban American composers leading their fields today in Classical\, Jazz\, Latin Jazz\, and Afro Cuban. The program narrative will orchestrate the role of the history of Cuba in music of the island\, and the impact and changes that music has made becoming popular in the United States. The pre-concert talk will feature musicians and scholars in discussion of how South Florida is both a catalyst and melting pot for Cuban American art. \n————————— \n \nThis performance is part of Miami-Dade County Auditorium’s Away From Home Series. Programming continues to thrive during this period of renovation through the Away From Home Series. The series consists of off-site performances presented at alternative venues with community partners\, ensuring that the magic of the performing arts continues to captivate audiences throughout this transition period. The Away From Home Series presents dance\, theatre\, and music performances that take place at a variety of South Florida facilities and cultural centers. MDCA remains committed to keeping the spirit of creativity alive during this monumental endeavor and invites you to join us away from home!
URL:https://www.miamidadecountyauditorium.org/event/dranoff-2-piano-cuba2024-afh/
LOCATION:Sanctuary of the Arts\, 410 Andalusia Ave.\, Coral Gables\, FL\, 33134\, United States
ATTACH;FMTTYPE=image/png:https://www.miamidadecountyauditorium.org/wp-content/uploads/2024/04/Dranoff2Piano_Cuba2024_AFH_web.png
GEO:25.7729289;-80.2410345
X-APPLE-STRUCTURED-LOCATION;VALUE=URI;X-ADDRESS=Sanctuary of the Arts 410 Andalusia Ave. Coral Gables FL 33134 United States;X-APPLE-RADIUS=500;X-TITLE=410 Andalusia Ave.:geo:-80.2410345,25.7729289
END:VEVENT
BEGIN:VEVENT
DTSTART;TZID=America/New_York:20240518T203000
DTEND;TZID=America/New_York:20240518T203000
DTSTAMP:20260424T043904
CREATED:20240417T152701Z
LAST-MODIFIED:20240531T131849Z
UID:10008673-1716064200-1716064200@www.miamidadecountyauditorium.org
SUMMARY:MDCA Away from Home: "¿Y Cómo Fue? Una Historia de Benny Moré"
DESCRIPTION:ARCA Images and Miami-Dade County Auditorium\, in partnership with the Roxy Theater\, presents “¿Y Cómo Fue? Una Historia de Benny Moré\,” on Sunday\, June 2 at the Westchester Cultural Arts Center (WCAC). \nEste viaje musical inmersivo a través de las canciones del músico cubano Benny Moré\, ambientado en un cabaret de los años 50\, promete cautivar al público. El reconocido actor Franklin Virgüez interpreta a un viejo trompetista cuya vida se transforma por un encuentro fatídico con el “Rey del Son” cubano. Se anima a los asistentes a vestirse elegantemente para esta noche mágica de música. \n————————— \n \nThis performance is part of Miami-Dade County Auditorium’s Away From Home Series. Programming continues to thrive during this period of renovation through the Away From Home Series. The series consists of off-site performances presented at alternative venues with community partners\, ensuring that the magic of the performing arts continues to captivate audiences throughout this transition period. The Away From Home Series presents dance\, theatre\, and music performances that take place at a variety of South Florida facilities and cultural centers. MDCA remains committed to keeping the spirit of creativity alive during this monumental endeavor and invites you to join us away from home!
URL:https://www.miamidadecountyauditorium.org/event/arca-images-y-como-fue-2024-afh/2024-05-18/
LOCATION:Westchester Cultural Arts Center\, 7930 SW 40th St\, Miami\, FL\, 33155\, United States
ATTACH;FMTTYPE=image/png:https://www.miamidadecountyauditorium.org/wp-content/uploads/2024/04/ARCA-Images_Y-Como-Fue-2024_AFH_web_1.png
GEO:25.7729289;-80.2410345
X-APPLE-STRUCTURED-LOCATION;VALUE=URI;X-ADDRESS=Westchester Cultural Arts Center 7930 SW 40th St Miami FL 33155 United States;X-APPLE-RADIUS=500;X-TITLE=7930 SW 40th St:geo:-80.2410345,25.7729289
END:VEVENT
END:VCALENDAR