BEGIN:VCALENDAR
VERSION:2.0
PRODID:-//Miami Dade County Auditorium - ECPv6.15.20//NONSGML v1.0//EN
CALSCALE:GREGORIAN
METHOD:PUBLISH
X-ORIGINAL-URL:https://www.miamidadecountyauditorium.org
X-WR-CALDESC:Events for Miami Dade County Auditorium
REFRESH-INTERVAL;VALUE=DURATION:PT1H
X-Robots-Tag:noindex
X-PUBLISHED-TTL:PT1H
BEGIN:VTIMEZONE
TZID:America/New_York
BEGIN:DAYLIGHT
TZOFFSETFROM:-0500
TZOFFSETTO:-0400
TZNAME:EDT
DTSTART:20230312T070000
END:DAYLIGHT
BEGIN:STANDARD
TZOFFSETFROM:-0400
TZOFFSETTO:-0500
TZNAME:EST
DTSTART:20231105T060000
END:STANDARD
BEGIN:DAYLIGHT
TZOFFSETFROM:-0500
TZOFFSETTO:-0400
TZNAME:EDT
DTSTART:20240310T070000
END:DAYLIGHT
BEGIN:STANDARD
TZOFFSETFROM:-0400
TZOFFSETTO:-0500
TZNAME:EST
DTSTART:20241103T060000
END:STANDARD
BEGIN:DAYLIGHT
TZOFFSETFROM:-0500
TZOFFSETTO:-0400
TZNAME:EDT
DTSTART:20250309T070000
END:DAYLIGHT
BEGIN:STANDARD
TZOFFSETFROM:-0400
TZOFFSETTO:-0500
TZNAME:EST
DTSTART:20251102T060000
END:STANDARD
END:VTIMEZONE
BEGIN:VEVENT
DTSTART;TZID=America/New_York:20240403T093000
DTEND;TZID=America/New_York:20240403T093000
DTSTAMP:20260424T074514
CREATED:20240315T194619Z
LAST-MODIFIED:20240315T194700Z
UID:10008653-1712136600-1712136600@www.miamidadecountyauditorium.org
SUMMARY:2024 Serving the Arts Awards
DESCRIPTION:Celebration of arts and culture at the Serving the Arts Awards in Miami-Dade County. A collaboration by Miami-Dade County Department of Cultural Affairs\, Cultural Affairs Council\, and Arts & Business Council of Miami\, this event honors outstanding arts professionals\, businesses\, and community leaders. Build connections with influential figures\, and contribute to the 2.2 billion dollar arts industry shaping Miami-Dade’s cultural landscape. Be part of a unique opportunity to support and acknowledge the vital role of the arts in our vibrant community through artistic excellence and community building. \n————————— \nPLEASE NOTE: Before attending\, please review our updated Health & Safety Measures. Bag checks may occur at the lobby doors before entry. Please allow yourself a bit of extra time while planning your trip.
URL:https://www.miamidadecountyauditorium.org/event/2024-serving-the-arts-awards/
LOCATION:Miami-Dade County Auditorium\, 2901 West Flagler St\, Miami\, FL\, 33135\, United States
ATTACH;FMTTYPE=image/png:https://www.miamidadecountyauditorium.org/wp-content/uploads/2024/03/Serving-the-Arts-Award-2024-1.png
GEO:25.773093;-80.241163
X-APPLE-STRUCTURED-LOCATION;VALUE=URI;X-ADDRESS=Miami-Dade County Auditorium 2901 West Flagler St Miami FL 33135 United States;X-APPLE-RADIUS=500;X-TITLE=2901 West Flagler St:geo:-80.241163,25.773093
END:VEVENT
BEGIN:VEVENT
DTSTART;TZID=America/New_York:20240404T200000
DTEND;TZID=America/New_York:20240404T200000
DTSTAMP:20260424T074514
CREATED:20240307T174443Z
LAST-MODIFIED:20240314T205116Z
UID:10008651-1712260800-1712260800@www.miamidadecountyauditorium.org
SUMMARY:305 International Improv Fest '24
DESCRIPTION:Bistoury Physical Theatre and Film presents the 305 International Improv Fest ’24 (8th Edition)\, a festival dedicated to fostering the art of improvisation in both live performance and film. Spanning two consecutive weeks\, this festival unfolds in the vibrant cities of Miami and San Jose. \nPlease note that this performance contains brief nudity.  \n————————— \nPLEASE NOTE: Before attending\, please review our updated Health & Safety Measures for indoor performances at Miami-Dade County Auditorium. Bag checks may occur at the lobby doors before entry. Please allow yourself a bit of extra time while planning your trip. \n 
URL:https://www.miamidadecountyauditorium.org/event/305-international-improv-fest-24/
LOCATION:MDCA On.Stage Black Box Theatre\, 2901 West Flagler St\, Miami\, FL\, 33135\, United States
ATTACH;FMTTYPE=image/png:https://www.miamidadecountyauditorium.org/wp-content/uploads/2024/03/305-International-Improv-Fest-2024_2.png
GEO:25.773093;-80.241163
X-APPLE-STRUCTURED-LOCATION;VALUE=URI;X-ADDRESS=MDCA On.Stage Black Box Theatre 2901 West Flagler St Miami FL 33135 United States;X-APPLE-RADIUS=500;X-TITLE=2901 West Flagler St:geo:-80.241163,25.773093
END:VEVENT
BEGIN:VEVENT
DTSTART;TZID=America/New_York:20240408T100000
DTEND;TZID=America/New_York:20240408T100000
DTSTAMP:20260424T074514
CREATED:20190323T182100Z
LAST-MODIFIED:20240317T205759Z
UID:10008212-1712570400-1712570400@www.miamidadecountyauditorium.org
SUMMARY:SAS-C Summer Camp Inclusion Workshop
DESCRIPTION:Grantees receiving funding through the Summer Arts & Science Camps for Kids (SAS-C) Grants Program are required to participate in this one-day All Kids Included (AKI) Professional Development Workshop on Inclusion Strategies for Children and Youth with Disabilities. This workshop will provide SAS-C Grantees with a hands-on approach and practical strategies for achieving inclusive arts and science summer camp experiences for children and youth. In addition\, important information regarding SAS-C contract compliance and reporting requirements will be reviewed. \n————————— \nPLEASE NOTE: Before attending\, please review our updated Health & Safety Measures for indoor performances at Miami-Dade County Auditorium. Bag checks may occur at the lobby doors before entry. Please allow yourself a bit of extra time while planning your trip.
URL:https://www.miamidadecountyauditorium.org/event/sas-c-summer-camp-inclusion-workshop-2/2024-04-08/
LOCATION:Miami-Dade County Auditorium\, 2901 West Flagler St\, Miami\, FL\, 33135\, United States
GEO:25.773093;-80.241163
X-APPLE-STRUCTURED-LOCATION;VALUE=URI;X-ADDRESS=Miami-Dade County Auditorium 2901 West Flagler St Miami FL 33135 United States;X-APPLE-RADIUS=500;X-TITLE=2901 West Flagler St:geo:-80.241163,25.773093
END:VEVENT
BEGIN:VEVENT
DTSTART;TZID=America/New_York:20240412T200000
DTEND;TZID=America/New_York:20240412T200000
DTSTAMP:20260424T074514
CREATED:20231018T142119Z
LAST-MODIFIED:20240311T133925Z
UID:10008632-1712952000-1712952000@www.miamidadecountyauditorium.org
SUMMARY:FUNDarte presents "Un Poyo Rojo" - Out In The Tropics
DESCRIPTION:Out In The Tropics is a yearly international performing arts series featuring daring and innovative artists that address issues of Gender Politics\, Sexuality\, and LGBTQIA+ identity. \nIn an empty locker room\, two men play with movement\, an analogue radio and tiny shorts. In “Un Poyo Rojo\,” athletic bodies of Luciano Rosso and Alfonso Barón move fluently from wrestling to dance\, acrobatics to physical comedy in an irresistible distortion of the expectations of manhood. A funny\, raw\, playful hour interspersed with competitiveness and camaraderie\, as well as seduction and sabotage\, showcases the best Argentinian contemporary dance. \n————————— \nPLEASE NOTE: Before attending\, please review our updated Health & Safety Measures for indoor performances at Miami-Dade County Auditorium. Bag checks may occur at the lobby doors before entry. Please allow yourself a bit of extra time while planning your trip.
URL:https://www.miamidadecountyauditorium.org/event/fundarte-presents-un-poyo-rojo-out-in-the-tropics-2024/2024-04-12/
LOCATION:MDCA On.Stage Black Box Theatre\, 2901 West Flagler St\, Miami\, FL\, 33135\, United States
ATTACH;FMTTYPE=image/png:https://www.miamidadecountyauditorium.org/wp-content/uploads/2023/10/FUNDarte-Un-Poyo-Rojo_web2023_3.png
GEO:25.773093;-80.241163
X-APPLE-STRUCTURED-LOCATION;VALUE=URI;X-ADDRESS=MDCA On.Stage Black Box Theatre 2901 West Flagler St Miami FL 33135 United States;X-APPLE-RADIUS=500;X-TITLE=2901 West Flagler St:geo:-80.241163,25.773093
END:VEVENT
BEGIN:VEVENT
DTSTART;TZID=America/New_York:20240413T200000
DTEND;TZID=America/New_York:20240413T200000
DTSTAMP:20260424T074514
CREATED:20231018T142119Z
LAST-MODIFIED:20240311T133925Z
UID:10008633-1713038400-1713038400@www.miamidadecountyauditorium.org
SUMMARY:FUNDarte presents "Un Poyo Rojo" - Out In The Tropics
DESCRIPTION:Out In The Tropics is a yearly international performing arts series featuring daring and innovative artists that address issues of Gender Politics\, Sexuality\, and LGBTQIA+ identity. \nIn an empty locker room\, two men play with movement\, an analogue radio and tiny shorts. In “Un Poyo Rojo\,” athletic bodies of Luciano Rosso and Alfonso Barón move fluently from wrestling to dance\, acrobatics to physical comedy in an irresistible distortion of the expectations of manhood. A funny\, raw\, playful hour interspersed with competitiveness and camaraderie\, as well as seduction and sabotage\, showcases the best Argentinian contemporary dance. \n————————— \nPLEASE NOTE: Before attending\, please review our updated Health & Safety Measures for indoor performances at Miami-Dade County Auditorium. Bag checks may occur at the lobby doors before entry. Please allow yourself a bit of extra time while planning your trip.
URL:https://www.miamidadecountyauditorium.org/event/fundarte-presents-un-poyo-rojo-out-in-the-tropics-2024/2024-04-13/
LOCATION:MDCA On.Stage Black Box Theatre\, 2901 West Flagler St\, Miami\, FL\, 33135\, United States
ATTACH;FMTTYPE=image/png:https://www.miamidadecountyauditorium.org/wp-content/uploads/2023/10/FUNDarte-Un-Poyo-Rojo_web2023_3.png
GEO:25.773093;-80.241163
X-APPLE-STRUCTURED-LOCATION;VALUE=URI;X-ADDRESS=MDCA On.Stage Black Box Theatre 2901 West Flagler St Miami FL 33135 United States;X-APPLE-RADIUS=500;X-TITLE=2901 West Flagler St:geo:-80.241163,25.773093
END:VEVENT
BEGIN:VEVENT
DTSTART;TZID=America/New_York:20240417T100000
DTEND;TZID=America/New_York:20240417T100000
DTSTAMP:20260424T074514
CREATED:20240108T201856Z
LAST-MODIFIED:20240325T131153Z
UID:10009116-1713348000-1713348000@www.miamidadecountyauditorium.org
SUMMARY:Miami-Dade County Cultural Affairs Council Meeting
DESCRIPTION:For Zoom meeting access credentials\, please RSVP with Graham Winick at Graham.Winick@miamidade.gov at least 24 hours before the meeting.
URL:https://www.miamidadecountyauditorium.org/event/miami-dade-county-cultural-affairs-council-meeting-2024/2024-04-17/
LOCATION:Miami-Dade County Auditorium\, 2901 West Flagler St\, Miami\, FL\, 33135\, United States
ATTACH;FMTTYPE=image/jpeg:https://www.miamidadecountyauditorium.org/wp-content/uploads/2020/10/BCC-Meeting-Logo.jpg
GEO:25.773093;-80.241163
X-APPLE-STRUCTURED-LOCATION;VALUE=URI;X-ADDRESS=Miami-Dade County Auditorium 2901 West Flagler St Miami FL 33135 United States;X-APPLE-RADIUS=500;X-TITLE=2901 West Flagler St:geo:-80.241163,25.773093
END:VEVENT
BEGIN:VEVENT
DTSTART;TZID=America/New_York:20240418T190000
DTEND;TZID=America/New_York:20240418T190000
DTSTAMP:20260424T074514
CREATED:20240316T203442Z
LAST-MODIFIED:20240316T203517Z
UID:10008655-1713466800-1713466800@www.miamidadecountyauditorium.org
SUMMARY:The Moth StorySLAM: Green
DESCRIPTION:The Moth StorySLAM is an open-mic storytelling competition in which anyone can share a true\, personal\, 5-minute story on the night’s theme. Sign up for a chance to tell a story or sit back and enjoy the show! Tonight’s theme is: GREEN. \nPrepare a five-minute tale involving verdant fields\, blades of grass\, tree-huggers or leprechauns. The bubbling envy over the childhood friend whose sneakers always shone brighter than yours. The excitement of passing “GO” and collecting $200. Stories of the unripe and inexperienced. The time when nature nurtured you\, or when you were lost in the forest at nightfall with no flashlight. The grass is always\, well… you know. \n————————— \nPLEASE NOTE: Before attending\, please review our updated Health & Safety Measures for indoor performances at Miami-Dade County Auditorium. Bag checks may occur at the lobby doors before entry. Please allow yourself a bit of extra time while planning your trip. \n 
URL:https://www.miamidadecountyauditorium.org/event/the-moth-storyslam-green-2024/
LOCATION:MDCA On.Stage Black Box Theatre\, 2901 West Flagler St\, Miami\, FL\, 33135\, United States
ATTACH;FMTTYPE=image/png:https://www.miamidadecountyauditorium.org/wp-content/uploads/2024/01/The-Moth_StorySLAM_web2024_1.png
GEO:25.773093;-80.241163
X-APPLE-STRUCTURED-LOCATION;VALUE=URI;X-ADDRESS=MDCA On.Stage Black Box Theatre 2901 West Flagler St Miami FL 33135 United States;X-APPLE-RADIUS=500;X-TITLE=2901 West Flagler St:geo:-80.241163,25.773093
END:VEVENT
BEGIN:VEVENT
DTSTART;TZID=America/New_York:20240421T170000
DTEND;TZID=America/New_York:20240421T170000
DTSTAMP:20260424T074514
CREATED:20240229T163633Z
LAST-MODIFIED:20240330T190520Z
UID:10009125-1713718800-1713718800@www.miamidadecountyauditorium.org
SUMMARY:A Musical Journey with the Florida Chamber Orchestra
DESCRIPTION:Discover the magic of traditional music in the heart of Miami. Join us for an unforgettable afternoon filled with vibrant rhythms and popular melodies at our multicultural concert\, “A Musical Journey with the Florida Chamber Orchestra\,” presented by MDCA\, FCO\, and the Hispanic American Lyric Theater. This event will take you on a musical journey worldwide without leaving the city under the baton of Maestro Marlene Urbay. Feast your ears on the representation of typical rhythms from different countries\, each bringing its own essence and unique style. Let the music transport you to distant places as you immerse yourself in the cultural diversity of Miami. \nMelodies from the USA\, Spain\, Italy\, Argentina\, Mexico\, Venezuela\, Dominican Republic\, Paraguay\, Puerto Rico\, and Cuba. \n————————— \nPLEASE NOTE: Before attending\, please review our updated Health & Safety Measures for indoor performances at Miami-Dade County Auditorium. Bag checks may occur at the lobby doors before entry. Please allow yourself a bit of extra time while planning your trip.
URL:https://www.miamidadecountyauditorium.org/event/a-musical-journey-florida-chamber-orchestra-2024/
LOCATION:MDCA Orchestra Theatre\, 2901 West Flagler St\, Miami\, FL\, 33135\, United States
ATTACH;FMTTYPE=image/png:https://www.miamidadecountyauditorium.org/wp-content/uploads/2024/02/FCO_A-Musical-Journey_2024_web.png
GEO:25.773093;-80.241163
X-APPLE-STRUCTURED-LOCATION;VALUE=URI;X-ADDRESS=MDCA Orchestra Theatre 2901 West Flagler St Miami FL 33135 United States;X-APPLE-RADIUS=500;X-TITLE=2901 West Flagler St:geo:-80.241163,25.773093
END:VEVENT
BEGIN:VEVENT
DTSTART;TZID=America/New_York:20240423T140000
DTEND;TZID=America/New_York:20240423T140000
DTSTAMP:20260424T074514
CREATED:20240324T185833Z
LAST-MODIFIED:20240324T185833Z
UID:10008659-1713880800-1713880800@www.miamidadecountyauditorium.org
SUMMARY:New World School of the Arts 2024 College Commencement
DESCRIPTION:2024 college graduation for visual and performing arts students at New World School of the Arts. \n————————— \nPLEASE NOTE: Before attending\, please review our updated Health & Safety Measures for indoor performances at Miami-Dade County Auditorium. Bag checks may occur at the lobby doors before entry. Please allow yourself a bit of extra time while planning your trip.
URL:https://www.miamidadecountyauditorium.org/event/nwsa-2024-college-commencement/
LOCATION:MDCA Orchestra Theatre\, 2901 West Flagler St\, Miami\, FL\, 33135\, United States
ATTACH;FMTTYPE=image/png:https://www.miamidadecountyauditorium.org/wp-content/uploads/2022/12/NWSA-logo.png
GEO:25.773093;-80.241163
X-APPLE-STRUCTURED-LOCATION;VALUE=URI;X-ADDRESS=MDCA Orchestra Theatre 2901 West Flagler St Miami FL 33135 United States;X-APPLE-RADIUS=500;X-TITLE=2901 West Flagler St:geo:-80.241163,25.773093
END:VEVENT
BEGIN:VEVENT
DTSTART;TZID=America/New_York:20240425T200000
DTEND;TZID=America/New_York:20240425T200000
DTSTAMP:20260424T074514
CREATED:20240324T190704Z
LAST-MODIFIED:20240413T202632Z
UID:10008661-1714075200-1714075200@www.miamidadecountyauditorium.org
SUMMARY:"Cloud10" by brigid baker wholeproject
DESCRIPTION:Weather: Cool and clear. brigid baker wholeproject presents “Cloud10\,” a sequel tribute to those beings whose soul work leaks light – no matter what – illuminating the way. This performance features dancers Isaiah Gonzalez\, Amy Trieger\, and Meredith Barton. Sound and video projection by Justin Trieger\, lighting by Quanikqua Bryant\, and music by Simeon ten Holt and Hania Rani. \n————————— \nPLEASE NOTE: Before attending\, please review our updated Health & Safety Measures for indoor performances at Miami-Dade County Auditorium. Bag checks may occur at the lobby doors before entry. Please allow yourself a bit of extra time while planning your trip.
URL:https://www.miamidadecountyauditorium.org/event/cloud10-by-brigid-baker-wholeproject/2024-04-25/
LOCATION:MDCA On.Stage Black Box Theatre\, 2901 West Flagler St\, Miami\, FL\, 33135\, United States
ATTACH;FMTTYPE=image/png:https://www.miamidadecountyauditorium.org/wp-content/uploads/2024/04/Cloud10_2024_4.png
GEO:25.773093;-80.241163
X-APPLE-STRUCTURED-LOCATION;VALUE=URI;X-ADDRESS=MDCA On.Stage Black Box Theatre 2901 West Flagler St Miami FL 33135 United States;X-APPLE-RADIUS=500;X-TITLE=2901 West Flagler St:geo:-80.241163,25.773093
END:VEVENT
BEGIN:VEVENT
DTSTART;TZID=America/New_York:20240426T200000
DTEND;TZID=America/New_York:20240426T200000
DTSTAMP:20260424T074514
CREATED:20240324T190704Z
LAST-MODIFIED:20240413T202632Z
UID:10008662-1714161600-1714161600@www.miamidadecountyauditorium.org
SUMMARY:"Cloud10" by brigid baker wholeproject
DESCRIPTION:Weather: Cool and clear. brigid baker wholeproject presents “Cloud10\,” a sequel tribute to those beings whose soul work leaks light – no matter what – illuminating the way. This performance features dancers Isaiah Gonzalez\, Amy Trieger\, and Meredith Barton. Sound and video projection by Justin Trieger\, lighting by Quanikqua Bryant\, and music by Simeon ten Holt and Hania Rani. \n————————— \nPLEASE NOTE: Before attending\, please review our updated Health & Safety Measures for indoor performances at Miami-Dade County Auditorium. Bag checks may occur at the lobby doors before entry. Please allow yourself a bit of extra time while planning your trip.
URL:https://www.miamidadecountyauditorium.org/event/cloud10-by-brigid-baker-wholeproject/2024-04-26/
LOCATION:MDCA On.Stage Black Box Theatre\, 2901 West Flagler St\, Miami\, FL\, 33135\, United States
ATTACH;FMTTYPE=image/png:https://www.miamidadecountyauditorium.org/wp-content/uploads/2024/04/Cloud10_2024_4.png
GEO:25.773093;-80.241163
X-APPLE-STRUCTURED-LOCATION;VALUE=URI;X-ADDRESS=MDCA On.Stage Black Box Theatre 2901 West Flagler St Miami FL 33135 United States;X-APPLE-RADIUS=500;X-TITLE=2901 West Flagler St:geo:-80.241163,25.773093
END:VEVENT
BEGIN:VEVENT
DTSTART;TZID=America/New_York:20240427T200000
DTEND;TZID=America/New_York:20240427T200000
DTSTAMP:20260424T074514
CREATED:20240324T190704Z
LAST-MODIFIED:20240413T202632Z
UID:10008663-1714248000-1714248000@www.miamidadecountyauditorium.org
SUMMARY:"Cloud10" by brigid baker wholeproject
DESCRIPTION:Weather: Cool and clear. brigid baker wholeproject presents “Cloud10\,” a sequel tribute to those beings whose soul work leaks light – no matter what – illuminating the way. This performance features dancers Isaiah Gonzalez\, Amy Trieger\, and Meredith Barton. Sound and video projection by Justin Trieger\, lighting by Quanikqua Bryant\, and music by Simeon ten Holt and Hania Rani. \n————————— \nPLEASE NOTE: Before attending\, please review our updated Health & Safety Measures for indoor performances at Miami-Dade County Auditorium. Bag checks may occur at the lobby doors before entry. Please allow yourself a bit of extra time while planning your trip.
URL:https://www.miamidadecountyauditorium.org/event/cloud10-by-brigid-baker-wholeproject/2024-04-27/
LOCATION:MDCA On.Stage Black Box Theatre\, 2901 West Flagler St\, Miami\, FL\, 33135\, United States
ATTACH;FMTTYPE=image/png:https://www.miamidadecountyauditorium.org/wp-content/uploads/2024/04/Cloud10_2024_4.png
GEO:25.773093;-80.241163
X-APPLE-STRUCTURED-LOCATION;VALUE=URI;X-ADDRESS=MDCA On.Stage Black Box Theatre 2901 West Flagler St Miami FL 33135 United States;X-APPLE-RADIUS=500;X-TITLE=2901 West Flagler St:geo:-80.241163,25.773093
END:VEVENT
BEGIN:VEVENT
DTSTART;TZID=America/New_York:20240428T200000
DTEND;TZID=America/New_York:20240428T200000
DTSTAMP:20260424T074514
CREATED:20240324T190704Z
LAST-MODIFIED:20240413T202632Z
UID:10008664-1714334400-1714334400@www.miamidadecountyauditorium.org
SUMMARY:"Cloud10" by brigid baker wholeproject
DESCRIPTION:Weather: Cool and clear. brigid baker wholeproject presents “Cloud10\,” a sequel tribute to those beings whose soul work leaks light – no matter what – illuminating the way. This performance features dancers Isaiah Gonzalez\, Amy Trieger\, and Meredith Barton. Sound and video projection by Justin Trieger\, lighting by Quanikqua Bryant\, and music by Simeon ten Holt and Hania Rani. \n————————— \nPLEASE NOTE: Before attending\, please review our updated Health & Safety Measures for indoor performances at Miami-Dade County Auditorium. Bag checks may occur at the lobby doors before entry. Please allow yourself a bit of extra time while planning your trip.
URL:https://www.miamidadecountyauditorium.org/event/cloud10-by-brigid-baker-wholeproject/2024-04-28/
LOCATION:MDCA On.Stage Black Box Theatre\, 2901 West Flagler St\, Miami\, FL\, 33135\, United States
ATTACH;FMTTYPE=image/png:https://www.miamidadecountyauditorium.org/wp-content/uploads/2024/04/Cloud10_2024_4.png
GEO:25.773093;-80.241163
X-APPLE-STRUCTURED-LOCATION;VALUE=URI;X-ADDRESS=MDCA On.Stage Black Box Theatre 2901 West Flagler St Miami FL 33135 United States;X-APPLE-RADIUS=500;X-TITLE=2901 West Flagler St:geo:-80.241163,25.773093
END:VEVENT
END:VCALENDAR